BEGIN:VCALENDAR
VERSION:2.0
PRODID:-//Houston A&amp;M Club - ECPv6.15.20//NONSGML v1.0//EN
CALSCALE:GREGORIAN
METHOD:PUBLISH
X-WR-CALNAME:Houston A&amp;M Club
X-ORIGINAL-URL:https://www.houstonags.org
X-WR-CALDESC:Events for Houston A&amp;M Club
REFRESH-INTERVAL;VALUE=DURATION:PT1H
X-Robots-Tag:noindex
X-PUBLISHED-TTL:PT1H
BEGIN:VTIMEZONE
TZID:America/Chicago
BEGIN:DAYLIGHT
TZOFFSETFROM:-0600
TZOFFSETTO:-0500
TZNAME:CDT
DTSTART:20190310T080000
END:DAYLIGHT
BEGIN:STANDARD
TZOFFSETFROM:-0500
TZOFFSETTO:-0600
TZNAME:CST
DTSTART:20191103T070000
END:STANDARD
BEGIN:DAYLIGHT
TZOFFSETFROM:-0600
TZOFFSETTO:-0500
TZNAME:CDT
DTSTART:20200308T080000
END:DAYLIGHT
BEGIN:STANDARD
TZOFFSETFROM:-0500
TZOFFSETTO:-0600
TZNAME:CST
DTSTART:20201101T070000
END:STANDARD
BEGIN:DAYLIGHT
TZOFFSETFROM:-0600
TZOFFSETTO:-0500
TZNAME:CDT
DTSTART:20210314T080000
END:DAYLIGHT
BEGIN:STANDARD
TZOFFSETFROM:-0500
TZOFFSETTO:-0600
TZNAME:CST
DTSTART:20211107T070000
END:STANDARD
END:VTIMEZONE
BEGIN:VEVENT
DTSTART;TZID=America/Chicago:20201208T113000
DTEND;TZID=America/Chicago:20201208T130000
DTSTAMP:20260421T101506
CREATED:20191028T202116Z
LAST-MODIFIED:20191028T202116Z
UID:10000586-1607427000-1607432400@www.houstonags.org
SUMMARY:Houston Aggie Women 2020
DESCRIPTION:Houston Aggie Women’s Lunch: \nWhen: 2nd Tuesday \nTime: 11:30 Networking\, Lunch from Noon to 1 p.m. \nWhere: Maggiano’s Little Italy\, 2019 Post Oak Blvd.\, Houston\, Texas 77056 \nCost: $30 covers both lunch and dessert. \nParking: complimentary \nSpeaker: Each meeting features a speaker – sometimes an Aggie\, sometimes not – but always inspiring and informative. \nCome for the good food and stay for the great conversation. No membership required. Reservations requested. \nCLICK HERE TO REGISTER
URL:https://www.houstonags.org/event/houston-aggie-women-2020-12/
LOCATION:Maggiano’s Little Italy\, 2019 Post Oak Blvd\, Houston\, TX\, 77056
CATEGORIES:Lunches,Recurring Events
ATTACH;FMTTYPE=image/png:https://www.houstonags.org/wp-content/uploads/2019/10/aggie-women.png
ORGANIZER;CN="Houston Aggie Women":MAILTO:jclark@melton-melton.com
GEO:29.7451858;-95.4605302
X-APPLE-STRUCTURED-LOCATION;VALUE=URI;X-ADDRESS=Maggiano’s Little Italy 2019 Post Oak Blvd Houston TX 77056;X-APPLE-RADIUS=500;X-TITLE=2019 Post Oak Blvd:geo:-95.4605302,29.7451858
END:VEVENT
END:VCALENDAR