BEGIN:VCALENDAR
VERSION:2.0
PRODID:-//Houston A&amp;M Club - ECPv6.15.20//NONSGML v1.0//EN
CALSCALE:GREGORIAN
METHOD:PUBLISH
X-ORIGINAL-URL:https://www.houstonags.org
X-WR-CALDESC:Events for Houston A&amp;M Club
REFRESH-INTERVAL;VALUE=DURATION:PT1H
X-Robots-Tag:noindex
X-PUBLISHED-TTL:PT1H
BEGIN:VTIMEZONE
TZID:America/Chicago
BEGIN:DAYLIGHT
TZOFFSETFROM:-0600
TZOFFSETTO:-0500
TZNAME:CDT
DTSTART:20190310T080000
END:DAYLIGHT
BEGIN:STANDARD
TZOFFSETFROM:-0500
TZOFFSETTO:-0600
TZNAME:CST
DTSTART:20191103T070000
END:STANDARD
BEGIN:DAYLIGHT
TZOFFSETFROM:-0600
TZOFFSETTO:-0500
TZNAME:CDT
DTSTART:20200308T080000
END:DAYLIGHT
BEGIN:STANDARD
TZOFFSETFROM:-0500
TZOFFSETTO:-0600
TZNAME:CST
DTSTART:20201101T070000
END:STANDARD
BEGIN:DAYLIGHT
TZOFFSETFROM:-0600
TZOFFSETTO:-0500
TZNAME:CDT
DTSTART:20210314T080000
END:DAYLIGHT
BEGIN:STANDARD
TZOFFSETFROM:-0500
TZOFFSETTO:-0600
TZNAME:CST
DTSTART:20211107T070000
END:STANDARD
END:VTIMEZONE
BEGIN:VEVENT
DTSTART;TZID=America/Chicago:20201031T083000
DTEND;TZID=America/Chicago:20201031T130000
DTSTAMP:20260421T195741
CREATED:20201030T163418Z
LAST-MODIFIED:20201030T163418Z
UID:10000644-1604133000-1604149200@www.houstonags.org
SUMMARY:Houston Food Bank Super Site Volunteering
DESCRIPTION:To all local Aggies\, please consider coming out to help the Houston Food Bank with its big distribution efforts this coming Saturday\, October 31\, and next Saturday\, September 26\, where over five thousand vehicles will be processed over a from 8:30 am until 1:00 pm at the Yellow Lot of NRG Stadium.\nFor these 2 events\, please bypass the HFB’s customary online volunteer signup process. If you can help out\, simply send an email by 10:00 pm either of the next two Friday evenings to William Wade ’73 at wvwade@airmail.net. His phone # is 832-228-5430.\nVolunteers should meet at the Yellow lot off of South Main (McNee exit) at 8 am. Please take the designated “volunteer” exit and NOT the exit where there will be a long line of cars lining up early. If attending\, please wear comfortable clothing\, tennis shoes (no open-toed shoes)\, hats\, a mask\, and sunscreen. ALL work will be done outdoors. HFB will be providing a “cool-down” tent. Please wear maroon so William can find you. There are 12-16 large tents where food is distributed\, and each tent requires 10-12 people to staff.\nWith cleanup time\, volunteers are done by 1:30 pm.\nKids aged 15+\, with a parent\, can volunteer. Strict CDC protocols are followed. All volunteers need to be able to consistently lift 30-40 pounds.\nAll first-time volunteers will get a free Houston Aggie Volunteer t-shirt\, so please let William know the t-shirt sizes you may need when you email him.
URL:https://www.houstonags.org/event/houston-food-bank-super-site-volunteering-2/
LOCATION:NRG\, Houston\, TX
CATEGORIES:Food Bank,HAMCEvents,Volunteer Opportunities
ATTACH;FMTTYPE=image/png:https://www.houstonags.org/wp-content/uploads/2020/10/Copy-of-Food-Bank-12.png
ORGANIZER;CN="Jim Thorpe '78":MAILTO:thorpejim@comcast.net
GEO:29.7604267;-95.3698028
END:VEVENT
END:VCALENDAR