BEGIN:VCALENDAR
VERSION:2.0
PRODID:-//Houston A&amp;M Club - ECPv6.15.20//NONSGML v1.0//EN
CALSCALE:GREGORIAN
METHOD:PUBLISH
X-WR-CALNAME:Houston A&amp;M Club
X-ORIGINAL-URL:https://www.houstonags.org
X-WR-CALDESC:Events for Houston A&amp;M Club
REFRESH-INTERVAL;VALUE=DURATION:PT1H
X-Robots-Tag:noindex
X-PUBLISHED-TTL:PT1H
BEGIN:VTIMEZONE
TZID:America/Chicago
BEGIN:DAYLIGHT
TZOFFSETFROM:-0600
TZOFFSETTO:-0500
TZNAME:CDT
DTSTART:20190310T080000
END:DAYLIGHT
BEGIN:STANDARD
TZOFFSETFROM:-0500
TZOFFSETTO:-0600
TZNAME:CST
DTSTART:20191103T070000
END:STANDARD
BEGIN:DAYLIGHT
TZOFFSETFROM:-0600
TZOFFSETTO:-0500
TZNAME:CDT
DTSTART:20200308T080000
END:DAYLIGHT
BEGIN:STANDARD
TZOFFSETFROM:-0500
TZOFFSETTO:-0600
TZNAME:CST
DTSTART:20201101T070000
END:STANDARD
BEGIN:DAYLIGHT
TZOFFSETFROM:-0600
TZOFFSETTO:-0500
TZNAME:CDT
DTSTART:20210314T080000
END:DAYLIGHT
BEGIN:STANDARD
TZOFFSETFROM:-0500
TZOFFSETTO:-0600
TZNAME:CST
DTSTART:20211107T070000
END:STANDARD
END:VTIMEZONE
BEGIN:VEVENT
DTSTART;TZID=America/Chicago:20200325T113000
DTEND;TZID=America/Chicago:20200325T130000
DTSTAMP:20260422T062428
CREATED:20191125T215509Z
LAST-MODIFIED:20201022T181528Z
UID:10000608-1585135800-1585141200@www.houstonags.org
SUMMARY:Memorial Lunch 2020
DESCRIPTION:Memorial Meet & Greet Lunch:   \nWhen: 4th Wednesday \nTime: 11:30 Networking\, Lunch from Noon to 1 p.m. \nWhere:  Churrascos Memorial City\, 947 Gessner Rd B290\, Houston\, TX 77024 \nAggie-roots: Michael Cordua ’82 \nCost: $25 covers both lunch and dessert. \nParking: $3 valet or complimentary garage \n     
URL:https://www.houstonags.org/event/memorial-lunch-2020/2020-03-25/
LOCATION:Churrascos – Memorial City\, 947 Gessner Road\, Suite B-290\, Houston\, TX\, 77024
CATEGORIES:HAMCEvents,Lunches,Recurring Events
ATTACH;FMTTYPE=image/png:https://www.houstonags.org/wp-content/uploads/2019/11/Copy-of-Memorial-Lunch.png
ORGANIZER;CN="Nick Terry '04":MAILTO:nick.terry@aggienetwork.com
GEO:29.783587;-95.544755
X-APPLE-STRUCTURED-LOCATION;VALUE=URI;X-ADDRESS=Churrascos – Memorial City 947 Gessner Road Suite B-290 Houston TX 77024;X-APPLE-RADIUS=500;X-TITLE=947 Gessner Road\, Suite B-290:geo:-95.544755,29.783587
END:VEVENT
BEGIN:VEVENT
DTSTART;TZID=America/Chicago:20200326T180000
DTEND;TZID=America/Chicago:20200326T210000
DTSTAMP:20260422T062428
CREATED:20200128T060513Z
LAST-MODIFIED:20200317T225307Z
UID:10000620-1585245600-1585256400@www.houstonags.org
SUMMARY:Night with President Young
DESCRIPTION:This event has been postponed. Please keep an eye out for a new fall date.\n\n\n\n\n\n\nTime:\n6pm – 7pm:  Cocktail Reception with Hors d’oeuvres (Cash Bar)\n7pm:  Four-course dinner begins\nPresident Young’s keynote speech will be followed by q&a\n9pm: Event concludes\n  \n\nLocation:\n\nPost Oak Grill Restaurant & Bar\n1415 S. Post Oak Lane\nHouston\, TX 77056\nwww.PostOakGrill.com \n\nAttire:\nCocktail \n\nParking:\nComplimentary covered parking in attached garage OR $5 Valet parking\n\n\nTickets:\n$75 each \n** If you are with a group or organization that would like to sit together\, please mention so in the message box when you purchase your ticket. \nSeating is limited to 75 guests\n\n \n\n\nClick here to buy tickets\nSell tickets online with Ticket Tailor
URL:https://www.houstonags.org/event/night-with-president-young-2/
LOCATION:Post Oak Grill\, 1415 S. Post Oak Lane\, Houston\, TX\, 77056
ATTACH;FMTTYPE=image/png:https://www.houstonags.org/wp-content/uploads/2020/01/Copy-of-Copy-of-NWTP-2019-Twitter-2.png
ORGANIZER;CN="Nellie Smith '94":MAILTO:nelliesmith94@aggienetwork.com
GEO:29.7537197;-95.4624452
X-APPLE-STRUCTURED-LOCATION;VALUE=URI;X-ADDRESS=Post Oak Grill 1415 S. Post Oak Lane Houston TX 77056;X-APPLE-RADIUS=500;X-TITLE=1415 S. Post Oak Lane:geo:-95.4624452,29.7537197
END:VEVENT
END:VCALENDAR