BEGIN:VCALENDAR
VERSION:2.0
PRODID:-//Houston A&amp;M Club - ECPv6.15.20//NONSGML v1.0//EN
CALSCALE:GREGORIAN
METHOD:PUBLISH
X-WR-CALNAME:Houston A&amp;M Club
X-ORIGINAL-URL:https://www.houstonags.org
X-WR-CALDESC:Events for Houston A&amp;M Club
REFRESH-INTERVAL;VALUE=DURATION:PT1H
X-Robots-Tag:noindex
X-PUBLISHED-TTL:PT1H
BEGIN:VTIMEZONE
TZID:America/Chicago
BEGIN:DAYLIGHT
TZOFFSETFROM:-0600
TZOFFSETTO:-0500
TZNAME:CDT
DTSTART:20180311T080000
END:DAYLIGHT
BEGIN:STANDARD
TZOFFSETFROM:-0500
TZOFFSETTO:-0600
TZNAME:CST
DTSTART:20181104T070000
END:STANDARD
BEGIN:DAYLIGHT
TZOFFSETFROM:-0600
TZOFFSETTO:-0500
TZNAME:CDT
DTSTART:20190310T080000
END:DAYLIGHT
BEGIN:STANDARD
TZOFFSETFROM:-0500
TZOFFSETTO:-0600
TZNAME:CST
DTSTART:20191103T070000
END:STANDARD
BEGIN:DAYLIGHT
TZOFFSETFROM:-0600
TZOFFSETTO:-0500
TZNAME:CDT
DTSTART:20200308T080000
END:DAYLIGHT
BEGIN:STANDARD
TZOFFSETFROM:-0500
TZOFFSETTO:-0600
TZNAME:CST
DTSTART:20201101T070000
END:STANDARD
END:VTIMEZONE
BEGIN:VEVENT
DTSTART;TZID=America/Chicago:20190513T113000
DTEND;TZID=America/Chicago:20190513T130000
DTSTAMP:20260423T141219
CREATED:20180329T190250Z
LAST-MODIFIED:20181120T002009Z
UID:10000403-1557747000-1557752400@www.houstonags.org
SUMMARY:Traditions Lunch
DESCRIPTION:Traditions Lunch: \nWhen: 2nd Monday \nTime: 11:30 Networking\, Lunch from Noon to 1 p.m. \nWhere: Grotto\, 4715 Westheimer Rd\, Houston\, TX 77027 \nCost: $25 covers both lunch and dessert. \nParking: valet or complimentary \n\n \n\n\nClick here to buy ticketsSell tickets online with Ticket Tailor
URL:https://www.houstonags.org/event/traditionslunch/2019-05-13/
LOCATION:Grotto Ristorante\, 4715 Westheimer Rd\, Houston\, TX\, 77027
CATEGORIES:HAMCEvents,Lunches,Recurring Events
ATTACH;FMTTYPE=image/png:https://www.houstonags.org/wp-content/uploads/2018/03/Outstanding-Houston-Aggie-Lunch-8.png
ORGANIZER;CN="Nick Baker '14":MAILTO:nicholas.baker@imgfinancialgroup.com
GEO:29.74046;-95.4567314
X-APPLE-STRUCTURED-LOCATION;VALUE=URI;X-ADDRESS=Grotto Ristorante 4715 Westheimer Rd Houston TX 77027;X-APPLE-RADIUS=500;X-TITLE=4715 Westheimer Rd:geo:-95.4567314,29.74046
END:VEVENT
BEGIN:VEVENT
DTSTART;TZID=America/Chicago:20190513T113000
DTEND;TZID=America/Chicago:20190513T130000
DTSTAMP:20260423T141219
CREATED:20180329T190250Z
LAST-MODIFIED:20181227T214904Z
UID:10000418-1557747000-1557752400@www.houstonags.org
SUMMARY:Traditions Lunch with Jeff Lindner '04
DESCRIPTION:May 13th\, 2019 – Jeff Lindner '04\, Meteorologist at Harris County Flood Control District\nJoining the Harris County Flood Control District in 2004 as the District’s first meteorologist is one of many precedents set by\nJeff Lindner. In his primary role as Director of the District’s Flood Operations Program\, Jeff implements regular communication with the National Weather Service and the Harris County Office of Emergency Management (HCOEM) during times of flooding while monitoring 154 rainfall and stage gages and collecting data at over 450 bridges. \nJeff has developed multiple presentations and preparedness materials on hurricane impacts\, flooding\, and drought and how to prepare and respond to these weather episodes. \nJeff holds a Bachelor of Science degree in meteorology from Texas A&M University. He is a member of the national and local chapters of the American Meteorological Society and of the Texas Gulf Coast Emergency Managers Association\, the National Hydrological Warning Council\, Texas Flash Flood Coalition\, and ALERT Users Group. \nTraditions Lunch:\nWhen: 2nd Monday \nTime: 11:30 Networking\, Lunch from Noon to 1 p.m. \nWhere: Grotto\, 4715 Westheimer Rd\, Houston\, TX 77027 \nCost: $25 covers both lunch and dessert. \nParking: valet or complimentary \n\n \n\n\nClick here to buy ticketsSell tickets online with Ticket Tailor
URL:https://www.houstonags.org/event/traditionslunch-2019-05-13/
LOCATION:Grotto Ristorante\, 4715 Westheimer Rd\, Houston\, TX\, 77027
CATEGORIES:HAMCEvents,Lunches,Recurring Events
ATTACH;FMTTYPE=image/png:https://www.houstonags.org/wp-content/uploads/2018/03/TraditionsLunch-May2019-1500x500.png
ORGANIZER;CN="Nick Baker '14":MAILTO:nicholas.baker@imgfinancialgroup.com
GEO:29.74046;-95.4567314
X-APPLE-STRUCTURED-LOCATION;VALUE=URI;X-ADDRESS=Grotto Ristorante 4715 Westheimer Rd Houston TX 77027;X-APPLE-RADIUS=500;X-TITLE=4715 Westheimer Rd:geo:-95.4567314,29.74046
END:VEVENT
BEGIN:VEVENT
DTSTART;TZID=America/Chicago:20190514T113000
DTEND;TZID=America/Chicago:20190514T130000
DTSTAMP:20260423T141219
CREATED:20181222T145034Z
LAST-MODIFIED:20190412T151611Z
UID:10000486-1557833400-1557838800@www.houstonags.org
SUMMARY:Houston Aggie Women 2019
DESCRIPTION:Houston Aggie Women’s Lunch: \nWhen: 2nd Tuesday \nTime: 11:30 Networking\, Lunch from Noon to 1 p.m. \nWhere: Maggiano’s Little Italy\, 2019 Post Oak Blvd.\, Houston\, Texas 77056 \nCost: $28 covers both lunch and dessert. \nParking: complimentary \nSpeaker: Each meeting features a speaker – sometimes an Aggie\, sometimes not – but always inspiring and informative. \nCome for the good food and stay for the great conversation. No membership required. Reservations requested. \n\n\n	\n		Click here to register
URL:https://www.houstonags.org/event/haw2019/2019-05-14/
LOCATION:Maggiano’s Little Italy\, 2019 Post Oak Blvd\, Houston\, TX\, 77056
CATEGORIES:Lunches,Recurring Events
ATTACH;FMTTYPE=image/png:https://www.houstonags.org/wp-content/uploads/2018/12/HAW-Standard-2019-Event-Cover-1500-x-500.png
ORGANIZER;CN="Houston Aggie Women":MAILTO:jclark@melton-melton.com
GEO:29.7451858;-95.4605302
X-APPLE-STRUCTURED-LOCATION;VALUE=URI;X-ADDRESS=Maggiano’s Little Italy 2019 Post Oak Blvd Houston TX 77056;X-APPLE-RADIUS=500;X-TITLE=2019 Post Oak Blvd:geo:-95.4605302,29.7451858
END:VEVENT
BEGIN:VEVENT
DTSTART;TZID=America/Chicago:20190515T183000
DTEND;TZID=America/Chicago:20190515T203000
DTSTAMP:20260423T141219
CREATED:20190514T132014Z
LAST-MODIFIED:20190514T132034Z
UID:10000545-1557945000-1557952200@www.houstonags.org
SUMMARY:Coach's Night Volunteer Meeting
DESCRIPTION:
URL:https://www.houstonags.org/event/coachs-night-volunteer-meeting-4/
LOCATION:Saint Arnolds Brewing Co Beer Garden\, 2000 Lyons Ave\, Houston\, TX\, 77020
ATTACH;FMTTYPE=image/png:https://www.houstonags.org/wp-content/uploads/2019/05/CN-Volunteer-Meetings-2.png
ORGANIZER;CN="Coach's Night":MAILTO:hamccoachsnight@aggienetwork.com.
GEO:29.7710325;-95.3484093
X-APPLE-STRUCTURED-LOCATION;VALUE=URI;X-ADDRESS=Saint Arnolds Brewing Co Beer Garden 2000 Lyons Ave Houston TX 77020;X-APPLE-RADIUS=500;X-TITLE=2000 Lyons Ave:geo:-95.3484093,29.7710325
END:VEVENT
BEGIN:VEVENT
DTSTART;TZID=America/Chicago:20190518T180500
DTEND;TZID=America/Chicago:20190518T210000
DTSTAMP:20260423T141219
CREATED:20190417T154949Z
LAST-MODIFIED:20190417T160314Z
UID:10000542-1558202700-1558213200@www.houstonags.org
SUMMARY:Aggie Night at the Skeeters
DESCRIPTION:  \nVisit tx.ag/hamcskeeters and Use promo code “GIGEM” to unlock $3 discount and donation to HAMC\nHelp us BTHO tu & maroon out the ballpark. The school with the most attendees wins raffle proceeds
URL:https://www.houstonags.org/event/aggie-night-at-the-skeeters/
LOCATION:Constellation Field\, 1 Stadium Dr\, Sugar Land\, TX\, 77498
ATTACH;FMTTYPE=image/png:https://www.houstonags.org/wp-content/uploads/2019/04/Aggie-Night-at-Skeeters-2.png
GEO:29.623125;-95.647356
X-APPLE-STRUCTURED-LOCATION;VALUE=URI;X-ADDRESS=Constellation Field 1 Stadium Dr Sugar Land TX 77498;X-APPLE-RADIUS=500;X-TITLE=1 Stadium Dr:geo:-95.647356,29.623125
END:VEVENT
END:VCALENDAR