BEGIN:VCALENDAR
VERSION:2.0
PRODID:-//Houston A&amp;M Club - ECPv6.15.20//NONSGML v1.0//EN
CALSCALE:GREGORIAN
METHOD:PUBLISH
X-ORIGINAL-URL:https://www.houstonags.org
X-WR-CALDESC:Events for Houston A&amp;M Club
REFRESH-INTERVAL;VALUE=DURATION:PT1H
X-Robots-Tag:noindex
X-PUBLISHED-TTL:PT1H
BEGIN:VTIMEZONE
TZID:America/Chicago
BEGIN:DAYLIGHT
TZOFFSETFROM:-0600
TZOFFSETTO:-0500
TZNAME:CDT
DTSTART:20180311T080000
END:DAYLIGHT
BEGIN:STANDARD
TZOFFSETFROM:-0500
TZOFFSETTO:-0600
TZNAME:CST
DTSTART:20181104T070000
END:STANDARD
BEGIN:DAYLIGHT
TZOFFSETFROM:-0600
TZOFFSETTO:-0500
TZNAME:CDT
DTSTART:20190310T080000
END:DAYLIGHT
BEGIN:STANDARD
TZOFFSETFROM:-0500
TZOFFSETTO:-0600
TZNAME:CST
DTSTART:20191103T070000
END:STANDARD
BEGIN:DAYLIGHT
TZOFFSETFROM:-0600
TZOFFSETTO:-0500
TZNAME:CDT
DTSTART:20200308T080000
END:DAYLIGHT
BEGIN:STANDARD
TZOFFSETFROM:-0500
TZOFFSETTO:-0600
TZNAME:CST
DTSTART:20201101T070000
END:STANDARD
END:VTIMEZONE
BEGIN:VEVENT
DTSTART;TZID=America/Chicago:20190408T113000
DTEND;TZID=America/Chicago:20190408T130000
DTSTAMP:20260423T162200
CREATED:20180329T190250Z
LAST-MODIFIED:20181120T002009Z
UID:10000402-1554723000-1554728400@www.houstonags.org
SUMMARY:Traditions Lunch
DESCRIPTION:Traditions Lunch: \nWhen: 2nd Monday \nTime: 11:30 Networking\, Lunch from Noon to 1 p.m. \nWhere: Grotto\, 4715 Westheimer Rd\, Houston\, TX 77027 \nCost: $25 covers both lunch and dessert. \nParking: valet or complimentary \n\n \n\n\nClick here to buy ticketsSell tickets online with Ticket Tailor
URL:https://www.houstonags.org/event/traditionslunch/2019-04-08/
LOCATION:Grotto Ristorante\, 4715 Westheimer Rd\, Houston\, TX\, 77027
CATEGORIES:HAMCEvents,Lunches,Recurring Events
ATTACH;FMTTYPE=image/png:https://www.houstonags.org/wp-content/uploads/2018/03/Outstanding-Houston-Aggie-Lunch-8.png
ORGANIZER;CN="Nick Baker '14":MAILTO:nicholas.baker@imgfinancialgroup.com
GEO:29.74046;-95.4567314
X-APPLE-STRUCTURED-LOCATION;VALUE=URI;X-ADDRESS=Grotto Ristorante 4715 Westheimer Rd Houston TX 77027;X-APPLE-RADIUS=500;X-TITLE=4715 Westheimer Rd:geo:-95.4567314,29.74046
END:VEVENT
BEGIN:VEVENT
DTSTART;TZID=America/Chicago:20190408T113000
DTEND;TZID=America/Chicago:20190408T130000
DTSTAMP:20260423T162200
CREATED:20180329T190250Z
LAST-MODIFIED:20181227T214835Z
UID:10000417-1554723000-1554728400@www.houstonags.org
SUMMARY:Traditions Lunch with Mark A. Welsh III
DESCRIPTION:April 8th\, 2019 – Mark A. Welsh III\, Dean of The Bush School of Government and Public Service\nGeneral Mark A. Welsh III became Dean of the Bush School in August 2016\, after retiring from the United States Air Force. Welsh\, who was born in San Antonio\, earned a Bachelor of Science degree from the U.S. Air Force Academy\, a Master of Science degree in computer resource management from Webster University. \nDuring his distinguished military career\, he served as the 20th Chief of Staff of the Air Force from 2012 – 2016. As Chief of Staff he was the senior uniformed Air Force officer responsible for the organization\, training and equipping of 664\,000 active-duty\, Guard\, Reserve\, and civilian forces serving in the United States and overseas. As a member of the Joint Chiefs of Staff\, he and other service chiefs functioned as military advisers to the Secretary of Defense\, National Security Council\, and the President. \nPrior to becoming Chief of Staff\, Welsh previously served as Commander of the U.S. Air Forces in Europe and Commander of NATO’s Air Command\, Ramstein Air Base\, Germany; Associate Director of Military Affairs at the Central Intelligence Agency; and Commandant of the United States Air Force Academy. \nHe received numerous awards and decorations during his military career\, including multiple awards of the Defense Distinguished Service Medal\, Distinguished Service Medal\, Defense Superior Service Medal\, the Legion of Merit\, and the Distinguished Flying Cross. He has also been awarded the National Public Service Award from the American Society for Public Administration (ASPA)\, the Distinguished American Award from the Air Force Association’s Washington DC Chapter\, the Harry S. Truman Award for Distinguished Service in Support of National Defense and has been inducted into the Living Legends of Aviation. \nTraditions Lunch:\nWhen: 2nd Monday \nTime: 11:30 Networking\, Lunch from Noon to 1 p.m. \nWhere: Grotto\, 4715 Westheimer Rd\, Houston\, TX 77027 \nCost: $25 covers both lunch and dessert. \nParking: valet or complimentary \n\n \n\n\nClick here to buy ticketsSell tickets online with Ticket Tailor
URL:https://www.houstonags.org/event/traditionslunch-2019-04-08/
LOCATION:Grotto Ristorante\, 4715 Westheimer Rd\, Houston\, TX\, 77027
CATEGORIES:HAMCEvents,Lunches,Recurring Events
ATTACH;FMTTYPE=image/png:https://www.houstonags.org/wp-content/uploads/2018/03/TraditionsLunch-April2019-1500x500.png
ORGANIZER;CN="Nick Baker '14":MAILTO:nicholas.baker@imgfinancialgroup.com
GEO:29.74046;-95.4567314
X-APPLE-STRUCTURED-LOCATION;VALUE=URI;X-ADDRESS=Grotto Ristorante 4715 Westheimer Rd Houston TX 77027;X-APPLE-RADIUS=500;X-TITLE=4715 Westheimer Rd:geo:-95.4567314,29.74046
END:VEVENT
BEGIN:VEVENT
DTSTART;TZID=America/Chicago:20190409T113000
DTEND;TZID=America/Chicago:20190409T130000
DTSTAMP:20260423T162200
CREATED:20181222T145034Z
LAST-MODIFIED:20190412T151611Z
UID:10000485-1554809400-1554814800@www.houstonags.org
SUMMARY:Houston Aggie Women 2019
DESCRIPTION:Houston Aggie Women’s Lunch: \nWhen: 2nd Tuesday \nTime: 11:30 Networking\, Lunch from Noon to 1 p.m. \nWhere: Maggiano’s Little Italy\, 2019 Post Oak Blvd.\, Houston\, Texas 77056 \nCost: $28 covers both lunch and dessert. \nParking: complimentary \nSpeaker: Each meeting features a speaker – sometimes an Aggie\, sometimes not – but always inspiring and informative. \nCome for the good food and stay for the great conversation. No membership required. Reservations requested. \n\n\n	\n		Click here to register
URL:https://www.houstonags.org/event/haw2019/2019-04-09/
LOCATION:Maggiano’s Little Italy\, 2019 Post Oak Blvd\, Houston\, TX\, 77056
CATEGORIES:Lunches,Recurring Events
ATTACH;FMTTYPE=image/png:https://www.houstonags.org/wp-content/uploads/2018/12/HAW-Standard-2019-Event-Cover-1500-x-500.png
ORGANIZER;CN="Houston Aggie Women":MAILTO:jclark@melton-melton.com
GEO:29.7451858;-95.4605302
X-APPLE-STRUCTURED-LOCATION;VALUE=URI;X-ADDRESS=Maggiano’s Little Italy 2019 Post Oak Blvd Houston TX 77056;X-APPLE-RADIUS=500;X-TITLE=2019 Post Oak Blvd:geo:-95.4605302,29.7451858
END:VEVENT
END:VCALENDAR