BEGIN:VCALENDAR
VERSION:2.0
PRODID:-//Houston A&amp;M Club - ECPv6.15.20//NONSGML v1.0//EN
CALSCALE:GREGORIAN
METHOD:PUBLISH
X-ORIGINAL-URL:https://www.houstonags.org
X-WR-CALDESC:Events for Houston A&amp;M Club
REFRESH-INTERVAL;VALUE=DURATION:PT1H
X-Robots-Tag:noindex
X-PUBLISHED-TTL:PT1H
BEGIN:VTIMEZONE
TZID:America/Chicago
BEGIN:DAYLIGHT
TZOFFSETFROM:-0600
TZOFFSETTO:-0500
TZNAME:CDT
DTSTART:20180311T080000
END:DAYLIGHT
BEGIN:STANDARD
TZOFFSETFROM:-0500
TZOFFSETTO:-0600
TZNAME:CST
DTSTART:20181104T070000
END:STANDARD
BEGIN:DAYLIGHT
TZOFFSETFROM:-0600
TZOFFSETTO:-0500
TZNAME:CDT
DTSTART:20190310T080000
END:DAYLIGHT
BEGIN:STANDARD
TZOFFSETFROM:-0500
TZOFFSETTO:-0600
TZNAME:CST
DTSTART:20191103T070000
END:STANDARD
BEGIN:DAYLIGHT
TZOFFSETFROM:-0600
TZOFFSETTO:-0500
TZNAME:CDT
DTSTART:20200308T080000
END:DAYLIGHT
BEGIN:STANDARD
TZOFFSETFROM:-0500
TZOFFSETTO:-0600
TZNAME:CST
DTSTART:20201101T070000
END:STANDARD
END:VTIMEZONE
BEGIN:VEVENT
DTSTART;TZID=America/Chicago:20190122T183000
DTEND;TZID=America/Chicago:20190122T200000
DTSTAMP:20260423T191157
CREATED:20190109T194932Z
LAST-MODIFIED:20190109T195130Z
UID:10000521-1548181800-1548187200@www.houstonags.org
SUMMARY:CAMP Orientation 2019
DESCRIPTION:CAMP has scheduled 3 orientation sessions for those interested in volunteering.  Please join us on Jan 22nd\, 28th\, OR Feb 6th\, starting at 6:30 p.m.\, for a short orientation that should last no more than an hour and a half. \n  \nNON AGGIES ARE WELCOME.  So if you have co-workers\, family members\, and friends who might be interested in this program\, please extend our invitation to them as well. \n  \nAddress for the sessions is 1022 Wirt Road\, Suite 308\, Houston 77055.  The name of the business is CABINETS AND DESIGNS. \n  \nIt is located at the NE corner of Wirt Road and I-10 West\, right outside of Loop 610.  There are 2 rows of buildings in this shopping center and this is in the middle of the second row of businesses.  To get in on Wirt Road\, you turn into the driveway with a bit RED Emergency sign and it is in the second row of buildings. \n  \nFurther questions can be directed to CAMP.
URL:https://www.houstonags.org/event/camp-orientation-2019/2019-01-22/
LOCATION:Cabinets & Designs\, 1022 Wirt Road\, Suite 308\, Houston\, TX\, 77055
ATTACH;FMTTYPE=image/png:https://www.houstonags.org/wp-content/uploads/2018/06/CAMPVolunteerOrientation1500x500.png
ORGANIZER;CN="CAMP":MAILTO:tamucamp@gmail.com
GEO:29.7855491;-95.4831062
X-APPLE-STRUCTURED-LOCATION;VALUE=URI;X-ADDRESS=Cabinets & Designs 1022 Wirt Road Suite 308 Houston TX 77055;X-APPLE-RADIUS=500;X-TITLE=1022 Wirt Road\, Suite 308:geo:-95.4831062,29.7855491
END:VEVENT
BEGIN:VEVENT
DTSTART;TZID=America/Chicago:20190123T113000
DTEND;TZID=America/Chicago:20190123T130000
DTSTAMP:20260423T191157
CREATED:20181222T144318Z
LAST-MODIFIED:20191205T181616Z
UID:10000468-1548243000-1548248400@www.houstonags.org
SUMMARY:Memorial Lunch 2019
DESCRIPTION:Memorial Meet & Greet Lunch:   \nWhen: 4th Wednesday \nTime: 11:30 Networking\, Lunch from Noon to 1 p.m. \nWhere:  Churrascos Memorial City\, 947 Gessner Rd B290\, Houston\, TX 77024 \nAggie-owned: Michael Cordua ’82 \nCost: $25 covers both lunch and dessert. \nParking: $3 valet or complimentary garage \n\n\n\n\n\n\n\n\n\n\n\n \n\n\nClick here to buy ticketsSell tickets online with Ticket Tailor
URL:https://www.houstonags.org/event/memorial2019/2019-01-23/
LOCATION:Churrascos – Memorial City\, 947 Gessner Road\, Suite B-290\, Houston\, TX\, 77024
CATEGORIES:HAMCEvents,Lunches,Recurring Events
ATTACH;FMTTYPE=image/png:https://www.houstonags.org/wp-content/uploads/2018/04/Memorial-Lunch.png
ORGANIZER;CN="Nick Terry '04":MAILTO:nick.terry@aggienetwork.com
GEO:29.783587;-95.544755
X-APPLE-STRUCTURED-LOCATION;VALUE=URI;X-ADDRESS=Churrascos – Memorial City 947 Gessner Road Suite B-290 Houston TX 77024;X-APPLE-RADIUS=500;X-TITLE=947 Gessner Road\, Suite B-290:geo:-95.544755,29.783587
END:VEVENT
END:VCALENDAR