BEGIN:VCALENDAR
VERSION:2.0
PRODID:-//Houston A&amp;M Club - ECPv6.15.20//NONSGML v1.0//EN
CALSCALE:GREGORIAN
METHOD:PUBLISH
X-WR-CALNAME:Houston A&amp;M Club
X-ORIGINAL-URL:https://www.houstonags.org
X-WR-CALDESC:Events for Houston A&amp;M Club
REFRESH-INTERVAL;VALUE=DURATION:PT1H
X-Robots-Tag:noindex
X-PUBLISHED-TTL:PT1H
BEGIN:VTIMEZONE
TZID:America/Chicago
BEGIN:DAYLIGHT
TZOFFSETFROM:-0600
TZOFFSETTO:-0500
TZNAME:CDT
DTSTART:20170312T080000
END:DAYLIGHT
BEGIN:STANDARD
TZOFFSETFROM:-0500
TZOFFSETTO:-0600
TZNAME:CST
DTSTART:20171105T070000
END:STANDARD
BEGIN:DAYLIGHT
TZOFFSETFROM:-0600
TZOFFSETTO:-0500
TZNAME:CDT
DTSTART:20180311T080000
END:DAYLIGHT
BEGIN:STANDARD
TZOFFSETFROM:-0500
TZOFFSETTO:-0600
TZNAME:CST
DTSTART:20181104T070000
END:STANDARD
BEGIN:DAYLIGHT
TZOFFSETFROM:-0600
TZOFFSETTO:-0500
TZNAME:CDT
DTSTART:20190310T080000
END:DAYLIGHT
BEGIN:STANDARD
TZOFFSETFROM:-0500
TZOFFSETTO:-0600
TZNAME:CST
DTSTART:20191103T070000
END:STANDARD
END:VTIMEZONE
BEGIN:VEVENT
DTSTART;TZID=America/Chicago:20180725T113000
DTEND;TZID=America/Chicago:20180725T130000
DTSTAMP:20260424T114545
CREATED:20180401T133048Z
LAST-MODIFIED:20180804T231919Z
UID:10000441-1532518200-1532523600@www.houstonags.org
SUMMARY:Memorial Lunch
DESCRIPTION:Memorial Meet & Greet Lunch:   \nWhen: 4th Wednesday \nTime: 11:30 Networking\, Lunch from Noon to 1 p.m. \nWhere:  Churrascos Memorial City\, 947 Gessner Rd B290\, Houston\, TX 77024 \nAggie-owned: Michael Cordua ’82 \nCost: $25 covers both lunch and dessert. \nParking: $3 valet or complimentary garage \n \n\n \n\n\nClick here to buy ticketsSell tickets online with Ticket Tailor
URL:https://www.houstonags.org/event/memoriallunch/2018-07-25/
LOCATION:Churrascos – Memorial City\, 947 Gessner Road\, Suite B-290\, Houston\, TX\, 77024
CATEGORIES:HAMCEvents,Lunches,Recurring Events
ATTACH;FMTTYPE=image/png:https://www.houstonags.org/wp-content/uploads/2018/04/Memorial-Lunch.png
ORGANIZER;CN="Nick Terry '04":MAILTO:nick.terry@aggienetwork.com
GEO:29.783587;-95.544755
X-APPLE-STRUCTURED-LOCATION;VALUE=URI;X-ADDRESS=Churrascos – Memorial City 947 Gessner Road Suite B-290 Houston TX 77024;X-APPLE-RADIUS=500;X-TITLE=947 Gessner Road\, Suite B-290:geo:-95.544755,29.783587
END:VEVENT
BEGIN:VEVENT
DTSTART;TZID=America/Chicago:20180726T063000
DTEND;TZID=America/Chicago:20180726T080000
DTSTAMP:20260424T114545
CREATED:20180329T190120Z
LAST-MODIFIED:20180701T193915Z
UID:10000390-1532586600-1532592000@www.houstonags.org
SUMMARY:Reveille Breakfast
DESCRIPTION:The Reveille Club of Houston meets every Thursday morning for breakfast and networking at 6:30AM at the Cafe Express in Uptown Park. \nNo reservations required. Only $15 for breakfast or $5 if just coffee and networking. \nGreat speakers every week! \nVisit Reveille.org for more information.
URL:https://www.houstonags.org/event/reveillebreakfast/2018-07-26/
LOCATION:The Reveille Club of Houston\, 4141 Southwest Freeway\, Suite 250\, Houston\, TX\, 77027
CATEGORIES:Breakfasts,Recurring Events
ATTACH;FMTTYPE=image/png:https://www.houstonags.org/wp-content/uploads/2018/04/Reveille-Breakfast-1500x500.png
ORGANIZER;CN="Reveille Club of Houston":MAILTO:HoustonReveilleClub@gmail.com
GEO:29.7283687;-95.4435877
X-APPLE-STRUCTURED-LOCATION;VALUE=URI;X-ADDRESS=The Reveille Club of Houston 4141 Southwest Freeway Suite 250 Houston TX 77027;X-APPLE-RADIUS=500;X-TITLE=4141 Southwest Freeway\, Suite 250:geo:-95.4435877,29.7283687
END:VEVENT
BEGIN:VEVENT
DTSTART;TZID=America/Chicago:20180727T070000
DTEND;TZID=America/Chicago:20180727T083000
DTSTAMP:20260424T114545
CREATED:20180419T210039Z
LAST-MODIFIED:20180701T193907Z
UID:10000453-1532674800-1532680200@www.houstonags.org
SUMMARY:Reveille North Breakfast
DESCRIPTION:Downtown Meet & Greet Lunch: \nWhen: Every Friday \nTime: 7-7:30 a.m. Networking\, 7:30-8:30 a.m. Meeting & Breakfast \nWhere: Luby’s\, 922 Lake Front Circle\, The Woodlands\, Texas 77381 \nCost: $10 breakfast buffet or $5 unlimited coffee or tea \nParking: complimentary
URL:https://www.houstonags.org/event/reveillenorthbreakfast/2018-07-27/
LOCATION:Luby’s\, 922 Lake Front Circle\, The Woodlands\, TX\, 77381
CATEGORIES:Breakfasts,Recurring Events
ATTACH;FMTTYPE=image/png:https://www.houstonags.org/wp-content/uploads/2018/04/Reveille-North-Breakfast-1500x500.png
ORGANIZER;CN="Reveille North Houston":MAILTO:phillip@seethebeacon.com
GEO:30.1713795;-95.4523504
X-APPLE-STRUCTURED-LOCATION;VALUE=URI;X-ADDRESS=Luby’s 922 Lake Front Circle The Woodlands TX 77381;X-APPLE-RADIUS=500;X-TITLE=922 Lake Front Circle:geo:-95.4523504,30.1713795
END:VEVENT
END:VCALENDAR