BEGIN:VCALENDAR
VERSION:2.0
PRODID:-//Houston A&amp;M Club - ECPv6.15.20//NONSGML v1.0//EN
CALSCALE:GREGORIAN
METHOD:PUBLISH
X-ORIGINAL-URL:https://www.houstonags.org
X-WR-CALDESC:Events for Houston A&amp;M Club
REFRESH-INTERVAL;VALUE=DURATION:PT1H
X-Robots-Tag:noindex
X-PUBLISHED-TTL:PT1H
BEGIN:VTIMEZONE
TZID:America/Chicago
BEGIN:DAYLIGHT
TZOFFSETFROM:-0600
TZOFFSETTO:-0500
TZNAME:CDT
DTSTART:20190310T080000
END:DAYLIGHT
BEGIN:STANDARD
TZOFFSETFROM:-0500
TZOFFSETTO:-0600
TZNAME:CST
DTSTART:20191103T070000
END:STANDARD
BEGIN:DAYLIGHT
TZOFFSETFROM:-0600
TZOFFSETTO:-0500
TZNAME:CDT
DTSTART:20200308T080000
END:DAYLIGHT
BEGIN:STANDARD
TZOFFSETFROM:-0500
TZOFFSETTO:-0600
TZNAME:CST
DTSTART:20201101T070000
END:STANDARD
BEGIN:DAYLIGHT
TZOFFSETFROM:-0600
TZOFFSETTO:-0500
TZNAME:CDT
DTSTART:20210314T080000
END:DAYLIGHT
BEGIN:STANDARD
TZOFFSETFROM:-0500
TZOFFSETTO:-0600
TZNAME:CST
DTSTART:20211107T070000
END:STANDARD
END:VTIMEZONE
BEGIN:VEVENT
DTSTART;TZID=America/Chicago:20200602T180000
DTEND;TZID=America/Chicago:20200602T210000
DTSTAMP:20260421T212155
CREATED:20191028T194358Z
LAST-MODIFIED:20200526T031037Z
UID:10000562-1591120800-1591131600@www.houstonags.org
SUMMARY:Food Bank 2020
DESCRIPTION:AGE REQUIREMENTS at the Warehouse\, 6 years old chaperoned\, 15 years old unchaperoned. \nLooking to get out of the house and make a difference in the community? Now more than ever\, our long term partners at the Houston Food Bank urgently need volunteers to provide essential services and hunger relief to Houstonians during this challenging time. The food bank is taking extra precautions to ensure the safety of it’s volunteers. You can read more about their efforts to do so here. \nIf you are interested and comfortable volunteering\, sign up online with the Food Bank here. Choose a time slot that works for you\, with shifts available 7 days a week. Want to join a group of Houston Aggies? We will volunteer together every first Tuesday. To join us on June 2\, RSVP to ThorpeJim@comcast.net. AGE REQUIREMENTS at the Warehouse\, 6 years old chaperoned\, 15 years old unchaperoned. \nDirections to location: Take I-10 east\, exit 774\, Gellhorn Dr (after McCarty St\, before 610 East Loop).  U-turn to feeder road heading west.  Turn right on Portwall St (green Houston Food Bank sign)\, turn right into parking lot in front of light green building (same area as HFB trucks and loading docks).  Park at the far end of the lot\, by the main entrance. \nMinors (6 to 15 years old) will need a minor waiver form. These can be filled out at the front desk or contact Jim Thorpe to have one emailed to you.
URL:https://www.houstonags.org/event/15852/
LOCATION:HOUSTON FOOD BANK 535 Portwall St Houston\, TX 77029 United States\, 535 Portwall St\, Houston\, TX\, 77029\, United States
CATEGORIES:Food Bank,HAMCEvents,Recurring Events,Volunteer Opportunities
ATTACH;FMTTYPE=image/png:https://www.houstonags.org/wp-content/uploads/2019/10/FoodBank1500x500.png
ORGANIZER;CN="Jim Thorpe '78":MAILTO:thorpejim@comcast.net
END:VEVENT
BEGIN:VEVENT
DTSTART;TZID=America/Chicago:20200608T113000
DTEND;TZID=America/Chicago:20200608T130000
DTSTAMP:20260421T212155
CREATED:20200320T164629Z
LAST-MODIFIED:20200526T231038Z
UID:10000626-1591615800-1591621200@www.houstonags.org
SUMMARY:Traditions Lunch – General Joe Ramirez ’79\, Commandant of the Corps of Cadets
DESCRIPTION:Traditions Lunch – General Joe Ramirez ’79\, Commandant of the Corps of Cadets \nSponsored by Brent Vannoy ’88\, Partner\, Hughes Watters Askanase \n \nDate: 2nd Monday\, June 8th\, 2020 \nTime: 11:30 Networking\, Lunch from Noon to 1 p.m. \nWhere: Grotto\, 4715 Westheimer Rd\, Houston\, TX 77027 \nCost: $25 covers both lunch and dessert \nParking: valet or complimentary \n  \nWe look forward to meeting again! \nGrotto is following all health and safety guidelines set by the state and the health department to ensure your safety. Specifically they are practicing preventative measures such as: \n\nEach table will only be set for 6 to allow social distancing\nGroup condiments (i.e. salt and pepper) will not be set out\nThe waiters will wear masks and gloves\nBread will be served with tongs from a basket upon request\nSanitizer station available\n\nWe ask that all our guests: \n\nTake your temperature and if 99.5 degrees and above\, please stay home\nIf you or any member of your household shows signs of illness of any kind\, please choose to stay home\nMaintain a safe social distance from other guests at the event\nNEW POLICY: To ensure your safety and meet restaurant capacity requirements\, online RESERVATIONS are REQUIRED by Friday\, June 5th at noon.\n\n  \nGeneral Joe Ramirez ’79\, Commandant of the Corps of Cadets \nBrigadier General Joe Ramirez is a native of Houston\, Texas and is a graduate of Texas A&M University\, where he was a member of the Texas Aggie Band in the Corps of Cadets. He received his commission in the United States Army Field Artillery from Texas A&M in 1979 as a Distinguished Military Graduate. \nDuring his 31 years of military service\, General Ramirez commanded soldiers around the world and served in leadership positions in various joint and operational commands. He was the Deputy Chief of Staff for United States Central Command during Operations Iraqi Freedom and Enduring Freedom\, and was the Deputy Division Commander for the 2nd Infantry Division in the Republic of Korea. His most recent assignment was Deputy Director for Strategy\, Plans\, and Policy for US European Command in Stuttgart\, Germany. \nGeneral Ramirez holds a Bachelor’s Degree in Physical Education from Texas A&M (1979); a Masters Degree in Management from Webster University\, St. Louis\, Missouri (1993); and a Masters Degree in Strategic Studies from the United States Army War College\, Carlisle\, Pennsylvania (2000). \nHis numerous military awards include the Distinguished Service Medal\, Defense Superior Service Medal\, Legion of Merit\, Korean Defense Service Medal\, and the Parachutists Badge. \n  \nClick here to buy tickets \n\n\nSell tickets online with Ticket Tailor
URL:https://www.houstonags.org/event/traditions-lunch-2020-06-08/
LOCATION:Grotto Ristorante\, 4715 Westheimer Rd\, Houston\, TX\, 77027
CATEGORIES:HAMCEvents,Lunches,Recurring Events
ATTACH;FMTTYPE=image/png:https://www.houstonags.org/wp-content/uploads/2020/03/2020-Traditions-Lunch-June-1.png
ORGANIZER;CN="Melinda Bertrand '03":MAILTO:melinda@houstonags.com
GEO:29.74046;-95.4567314
X-APPLE-STRUCTURED-LOCATION;VALUE=URI;X-ADDRESS=Grotto Ristorante 4715 Westheimer Rd Houston TX 77027;X-APPLE-RADIUS=500;X-TITLE=4715 Westheimer Rd:geo:-95.4567314,29.74046
END:VEVENT
BEGIN:VEVENT
DTSTART;TZID=America/Chicago:20200609T113000
DTEND;TZID=America/Chicago:20200609T130000
DTSTAMP:20260421T212155
CREATED:20191028T201557Z
LAST-MODIFIED:20191028T201557Z
UID:10000581-1591702200-1591707600@www.houstonags.org
SUMMARY:Houston Aggie Women 2020
DESCRIPTION:Houston Aggie Women’s Lunch: \nWhen: 2nd Tuesday \nTime: 11:30 Networking\, Lunch from Noon to 1 p.m. \nWhere: Maggiano’s Little Italy\, 2019 Post Oak Blvd.\, Houston\, Texas 77056 \nCost: $30 covers both lunch and dessert. \nParking: complimentary \nSpeaker: Each meeting features a speaker – sometimes an Aggie\, sometimes not – but always inspiring and informative. \nCome for the good food and stay for the great conversation. No membership required. Reservations requested. \nCLICK HERE TO REGISTER
URL:https://www.houstonags.org/event/houston-aggie-women-2020-6/
LOCATION:Maggiano’s Little Italy\, 2019 Post Oak Blvd\, Houston\, TX\, 77056
CATEGORIES:Lunches,Recurring Events
ATTACH;FMTTYPE=image/png:https://www.houstonags.org/wp-content/uploads/2019/10/aggie-women.png
ORGANIZER;CN="Houston Aggie Women":MAILTO:jclark@melton-melton.com
GEO:29.7451858;-95.4605302
X-APPLE-STRUCTURED-LOCATION;VALUE=URI;X-ADDRESS=Maggiano’s Little Italy 2019 Post Oak Blvd Houston TX 77056;X-APPLE-RADIUS=500;X-TITLE=2019 Post Oak Blvd:geo:-95.4605302,29.7451858
END:VEVENT
BEGIN:VEVENT
DTSTART;TZID=America/Chicago:20200624T113000
DTEND;TZID=America/Chicago:20200624T130000
DTSTAMP:20260421T212155
CREATED:20191125T215509Z
LAST-MODIFIED:20201022T181528Z
UID:10000611-1592998200-1593003600@www.houstonags.org
SUMMARY:Memorial Lunch 2020
DESCRIPTION:Memorial Meet & Greet Lunch:   \nWhen: 4th Wednesday \nTime: 11:30 Networking\, Lunch from Noon to 1 p.m. \nWhere:  Churrascos Memorial City\, 947 Gessner Rd B290\, Houston\, TX 77024 \nAggie-roots: Michael Cordua ’82 \nCost: $25 covers both lunch and dessert. \nParking: $3 valet or complimentary garage \n     
URL:https://www.houstonags.org/event/memorial-lunch-2020/2020-06-24/
LOCATION:Churrascos – Memorial City\, 947 Gessner Road\, Suite B-290\, Houston\, TX\, 77024
CATEGORIES:HAMCEvents,Lunches,Recurring Events
ATTACH;FMTTYPE=image/png:https://www.houstonags.org/wp-content/uploads/2019/11/Copy-of-Memorial-Lunch.png
ORGANIZER;CN="Nick Terry '04":MAILTO:nick.terry@aggienetwork.com
GEO:29.783587;-95.544755
X-APPLE-STRUCTURED-LOCATION;VALUE=URI;X-ADDRESS=Churrascos – Memorial City 947 Gessner Road Suite B-290 Houston TX 77024;X-APPLE-RADIUS=500;X-TITLE=947 Gessner Road\, Suite B-290:geo:-95.544755,29.783587
END:VEVENT
END:VCALENDAR