BEGIN:VCALENDAR
VERSION:2.0
PRODID:-//Houston A&amp;M Club - ECPv6.15.20//NONSGML v1.0//EN
CALSCALE:GREGORIAN
METHOD:PUBLISH
X-ORIGINAL-URL:https://www.houstonags.org
X-WR-CALDESC:Events for Houston A&amp;M Club
REFRESH-INTERVAL;VALUE=DURATION:PT1H
X-Robots-Tag:noindex
X-PUBLISHED-TTL:PT1H
BEGIN:VTIMEZONE
TZID:America/Chicago
BEGIN:DAYLIGHT
TZOFFSETFROM:-0600
TZOFFSETTO:-0500
TZNAME:CDT
DTSTART:20180311T080000
END:DAYLIGHT
BEGIN:STANDARD
TZOFFSETFROM:-0500
TZOFFSETTO:-0600
TZNAME:CST
DTSTART:20181104T070000
END:STANDARD
BEGIN:DAYLIGHT
TZOFFSETFROM:-0600
TZOFFSETTO:-0500
TZNAME:CDT
DTSTART:20190310T080000
END:DAYLIGHT
BEGIN:STANDARD
TZOFFSETFROM:-0500
TZOFFSETTO:-0600
TZNAME:CST
DTSTART:20191103T070000
END:STANDARD
BEGIN:DAYLIGHT
TZOFFSETFROM:-0600
TZOFFSETTO:-0500
TZNAME:CDT
DTSTART:20200308T080000
END:DAYLIGHT
BEGIN:STANDARD
TZOFFSETFROM:-0500
TZOFFSETTO:-0600
TZNAME:CST
DTSTART:20201101T070000
END:STANDARD
END:VTIMEZONE
BEGIN:VEVENT
DTSTART;TZID=America/Chicago:20191203T180000
DTEND;TZID=America/Chicago:20191203T210000
DTSTAMP:20260422T085644
CREATED:20181222T145745Z
LAST-MODIFIED:20190122T124941Z
UID:10000507-1575396000-1575406800@www.houstonags.org
SUMMARY:Food Bank 2019
DESCRIPTION:AGE REQUIREMENTS at the Warehouse\, 6 years old chaperoned\, 15 years old unchaperoned. \nCome join us the First Tuesday of each month at the Houston Food Bank\, where we will be working on various projects\, such as assembling community food boxes and back pack buddy bags. Anyone that wants to join us is welcome. So please grab any Longhorns and any other school’s alumni\, friends\, family or coworkers that are aimlessly wondering what to do on a Tuesday night. \nDon’t forget that this can be used toward volunteering community service hours for those in high school\, college and other community organizations. By registering in the Food Bank’s system\, the hours can be tracked throughout the year and downloaded at any time or pickup the a certificate at the end of each shift before you leave. \nFamilies (with anyone age 6 years or older) and friends are welcome. Since it is a warehouse environment\, everyone must wear closed-toe shoes (no sling-backs)\, long shorts (to the knee) or pants\, and no low cut tops (OSHA regulations). If you would like to sign up or have questions\, please contact Jim Thorpe ’78.  Click here for more information on the Food Bank. \nDirections to location: Take I-10 east\, exit 774\, Gellhorn Dr (after McCarty St\, before 610 East Loop).  U-turn to feeder road heading west.  Turn right on Portwall St (green Houston Food Bank sign)\, turn right into parking lot in front of light green building (same area as HFB trucks and loading docks).  Park at the far end of the lot\, by the main entrance. \nRegister with the Houston Food Bank website for this shift by clicking here.  (Be save to save the information for future registration). \nEvery Adult must register in their system before volunteering.  Please share this link with adult volunteers in order to register with our group. \nMinors (6 to 15 years old) will need a minor waiver form. These can be filled out at the front desk or contact Jim Thorpe to have one emailed to you.
URL:https://www.houstonags.org/event/food-bank-2019/2019-12-03/
LOCATION:Houston Food Bank\, 535 Portwall St\, Houston\, TX\, 77029\, United States
CATEGORIES:Food Bank,HAMCEvents,Volunteer Opportunities
ATTACH;FMTTYPE=image/png:https://www.houstonags.org/wp-content/uploads/2018/03/FoodBank1500x500.png
ORGANIZER;CN="Jim Thorpe '78":MAILTO:thorpejim@comcast.net
GEO:29.7811076;-95.2748108
X-APPLE-STRUCTURED-LOCATION;VALUE=URI;X-ADDRESS=Houston Food Bank 535 Portwall St Houston TX 77029 United States;X-APPLE-RADIUS=500;X-TITLE=535 Portwall St:geo:-95.2748108,29.7811076
END:VEVENT
BEGIN:VEVENT
DTSTART;TZID=America/Chicago:20191204T120000
DTEND;TZID=America/Chicago:20191204T130000
DTSTAMP:20260422T085644
CREATED:20190409T221258Z
LAST-MODIFIED:20190409T222000Z
UID:10000541-1575460800-1575464400@www.houstonags.org
SUMMARY:Downtown Lunch 2019
DESCRIPTION:Downtown Meet & Greet Lunch: \nWhen: 1st Wednesday \nTime: Noon to 1 p.m. \nWhere: Pizzatola’s Bar-B-Cue\,1703 Shepherd Dr\, Houston\, TX 77007 \nAggie-owned: Jerry Pizzitola ’64 \nCost: $20 covers both lunch and dessert. \nParking: complimentary \n\n\n\n\n\n\n\n\n\n\n\n \n\n\nClick here to buy ticketsSell tickets online with Ticket Tailor
URL:https://www.houstonags.org/event/dtlunch2019/2019-12-04/
LOCATION:Pizzitola’s Bar-B-Cue\, 1703 Shepherd Dr\, Houston\, TX\, 77007
CATEGORIES:HAMCEvents,Lunches,Recurring Events
ATTACH;FMTTYPE=image/png:https://www.houstonags.org/wp-content/uploads/2018/03/DowntownLunchGRUB1500x500.png
ORGANIZER;CN="Dana Randolph '91":MAILTO:agladybug91@gmail.com
GEO:29.7758221;-95.4098474
X-APPLE-STRUCTURED-LOCATION;VALUE=URI;X-ADDRESS=Pizzitola’s Bar-B-Cue 1703 Shepherd Dr Houston TX 77007;X-APPLE-RADIUS=500;X-TITLE=1703 Shepherd Dr:geo:-95.4098474,29.7758221
END:VEVENT
BEGIN:VEVENT
DTSTART;TZID=America/Chicago:20191209T113000
DTEND;TZID=America/Chicago:20191209T130000
DTSTAMP:20260422T085644
CREATED:20191202T041800Z
LAST-MODIFIED:20191202T041901Z
UID:10000614-1575891000-1575896400@www.houstonags.org
SUMMARY:Tradition's Lunch and HAMC Annual Meeting
DESCRIPTION:  \nJoin us this month for a special Tradition’s Lunch honoring our Outstanding Houston Aggie\, Gerald K. “Gerry” Grogin ’47. We will also be celebrating our Volunteers of the Year and hosting our annual meeting.  \nTraditions Lunch: \nWhen: 2nd Monday \nTime: 11:30 Networking\, Lunch from Noon to 1 p.m. \nWhere: Grotto\, 4715 Westheimer Rd\, Houston\, TX 77027 \nCost: $25 covers both lunch and dessert. \nParking: valet or complimentary \n \n\n\nClick here to buy tickets\nSell tickets online with Ticket Tailor
URL:https://www.houstonags.org/event/traditions-lunch-and-hamc-annual-meeting/
LOCATION:Grotto Ristorante\, 4715 Westheimer Rd\, Houston\, TX\, 77027
CATEGORIES:HAMCEvents,Lunches,Recurring Events
ATTACH;FMTTYPE=image/png:https://www.houstonags.org/wp-content/uploads/2019/03/Copy-of-Traditions-Lunch-2019-11.png
GEO:29.74046;-95.4567314
X-APPLE-STRUCTURED-LOCATION;VALUE=URI;X-ADDRESS=Grotto Ristorante 4715 Westheimer Rd Houston TX 77027;X-APPLE-RADIUS=500;X-TITLE=4715 Westheimer Rd:geo:-95.4567314,29.74046
END:VEVENT
BEGIN:VEVENT
DTSTART;TZID=America/Chicago:20191209T180000
DTEND;TZID=America/Chicago:20191209T200000
DTSTAMP:20260422T085644
CREATED:20191125T174404Z
LAST-MODIFIED:20191209T223411Z
UID:10000605-1575914400-1575921600@www.houstonags.org
SUMMARY:Leadership Brainstorming Meeting - Cancelled
DESCRIPTION:
URL:https://www.houstonags.org/event/leadership-brainstorming-meeting/
LOCATION:Pizzitola’s Bar-B-Cue\, 1703 Shepherd Dr\, Houston\, TX\, 77007
CATEGORIES:HAMCEvents,Leadership,Recurring Events,Volunteer Opportunities
ATTACH;FMTTYPE=image/png:https://www.houstonags.org/wp-content/uploads/2019/11/How-do-I-get-Involved_-11.png
GEO:29.7758221;-95.4098474
X-APPLE-STRUCTURED-LOCATION;VALUE=URI;X-ADDRESS=Pizzitola’s Bar-B-Cue 1703 Shepherd Dr Houston TX 77007;X-APPLE-RADIUS=500;X-TITLE=1703 Shepherd Dr:geo:-95.4098474,29.7758221
END:VEVENT
BEGIN:VEVENT
DTSTART;TZID=America/Chicago:20191210T113000
DTEND;TZID=America/Chicago:20191210T130000
DTSTAMP:20260422T085644
CREATED:20181222T145034Z
LAST-MODIFIED:20190412T151611Z
UID:10000493-1575977400-1575982800@www.houstonags.org
SUMMARY:Houston Aggie Women 2019
DESCRIPTION:Houston Aggie Women’s Lunch: \nWhen: 2nd Tuesday \nTime: 11:30 Networking\, Lunch from Noon to 1 p.m. \nWhere: Maggiano’s Little Italy\, 2019 Post Oak Blvd.\, Houston\, Texas 77056 \nCost: $28 covers both lunch and dessert. \nParking: complimentary \nSpeaker: Each meeting features a speaker – sometimes an Aggie\, sometimes not – but always inspiring and informative. \nCome for the good food and stay for the great conversation. No membership required. Reservations requested. \n\n\n	\n		Click here to register
URL:https://www.houstonags.org/event/haw2019/2019-12-10/
LOCATION:Maggiano’s Little Italy\, 2019 Post Oak Blvd\, Houston\, TX\, 77056
CATEGORIES:Lunches,Recurring Events
ATTACH;FMTTYPE=image/png:https://www.houstonags.org/wp-content/uploads/2018/12/HAW-Standard-2019-Event-Cover-1500-x-500.png
ORGANIZER;CN="Houston Aggie Women":MAILTO:jclark@melton-melton.com
GEO:29.7451858;-95.4605302
X-APPLE-STRUCTURED-LOCATION;VALUE=URI;X-ADDRESS=Maggiano’s Little Italy 2019 Post Oak Blvd Houston TX 77056;X-APPLE-RADIUS=500;X-TITLE=2019 Post Oak Blvd:geo:-95.4605302,29.7451858
END:VEVENT
BEGIN:VEVENT
DTSTART;TZID=America/Chicago:20191212T180000
DTEND;TZID=America/Chicago:20191212T200000
DTSTAMP:20260422T085644
CREATED:20191120T170555Z
LAST-MODIFIED:20191205T182905Z
UID:10000603-1576173600-1576180800@www.houstonags.org
SUMMARY:Holiday Happy Hour
DESCRIPTION:December Happy Hour\nDecant Urban Winery\n948 Wakefield Dr\, Houston\, TX 77018\nContact/Host: Debra Richmond 214-796-3770\n\nDecember 12\, 2019 (12/12!)\nHours: 6 pm – 8 pm\n\nJoin Houston A&M Club for a holiday happy hour on December 12th at Decant Urban Winery in Garden Oaks.  Decant is Aggie owned and operated and will be donating back $1 for each glass purchased and 20% of bottles purchased.\n\nWe’d love for you to share some holiday cheer by bringing a new or gently used book for a C.A.M.P. student: Grade 3rd – 6th reading level
URL:https://www.houstonags.org/event/holiday-happy-hour/
LOCATION:Houston\, TX
CATEGORIES:HAMCEvents,Happy Hours,Special Events
ATTACH;FMTTYPE=image/png:https://www.houstonags.org/wp-content/uploads/2019/11/Holiday-Happy-Hour-1.png
END:VEVENT
BEGIN:VEVENT
DTSTART;TZID=America/Chicago:20191214T080000
DTEND;TZID=America/Chicago:20191214T120000
DTSTAMP:20260422T085644
CREATED:20191108T015018Z
LAST-MODIFIED:20191108T015018Z
UID:10000601-1576310400-1576324800@www.houstonags.org
SUMMARY:“Reindeer Convention” at the Food Bank
DESCRIPTION:NEW AGE REQUIREMENTS at the Warehouse\, 6 years old chaperoned\, 15 years old unchaperoned. \nRemember this is the perfect time for those family outings and our Ags that can not make it on weeknights. And this works towards those community service hours needed for high school and college transcripts. \nThis is open to all Aggie families (with children over 6 years old) and individuals (with friends\, family\, coworkers and that lonely teasip you know). \nSince it is a warehouse environment\, everyone must wear closed-toe shoes (no sling-backs)\, long shorts (to the knee) or pants\, and no low cut tops (OSHA regulations). If you would like to sign up or have questions\, please contact Jim Thorpe ’78 at thorpejim@comcast.net. For more information on the organization\, please visit www.houstonfoodbank.org. \nDirections to new location: Take I-10 east\, (beware of the morning rising sun) exit 774\, Gellhorn Dr (after McCarty St\, before 610 East Loop). U-turn to feeder road heading west. First right on Portwall St (green Houston Food Bank sign). \nEvery adult in the group must register in their system before volunteering. Please email Jim Thorpe for registration link. \nMinors (6 to 15 years old) will need a minor waiver form. These can be filled out at the front desk or contact Jim Thorpe to have one emailed to you
URL:https://www.houstonags.org/event/reindeer-convention-at-the-food-bank/
LOCATION:HOUSTON FOOD BANK 535 Portwall St Houston\, TX 77029 United States\, 535 Portwall St\, Houston\, TX\, 77029\, United States
CATEGORIES:Food Bank,HAMCEvents,Special Events,Volunteer Opportunities
ATTACH;FMTTYPE=image/png:https://www.houstonags.org/wp-content/uploads/2019/11/Holly-Jolly-Christmas-Facebook-Post.png
ORGANIZER;CN="Jim Thorpe '78":MAILTO:thorpejim@comcast.net
END:VEVENT
BEGIN:VEVENT
DTSTART;TZID=America/Chicago:20191221T090000
DTEND;TZID=America/Chicago:20191221T110000
DTSTAMP:20260422T085644
CREATED:20191107T000145Z
LAST-MODIFIED:20191107T004748Z
UID:10000600-1576918800-1576926000@www.houstonags.org
SUMMARY:Breakfast with Santa
DESCRIPTION:Event is free. Breakfast available to order. \nBring your own camera for a photo with Santa.
URL:https://www.houstonags.org/event/breakfast-with-santa-2/
LOCATION:Backyard Grill\, 9453 Jones Rd\, Houston\, TX\, 77065\, United States
ATTACH;FMTTYPE=image/png:https://www.houstonags.org/wp-content/uploads/2019/11/Breakfast-with-Santa-1.png
GEO:29.9092631;-95.5859492
X-APPLE-STRUCTURED-LOCATION;VALUE=URI;X-ADDRESS=Backyard Grill 9453 Jones Rd Houston TX 77065 United States;X-APPLE-RADIUS=500;X-TITLE=9453 Jones Rd:geo:-95.5859492,29.9092631
END:VEVENT
BEGIN:VEVENT
DTSTART;TZID=America/Chicago:20191225T113000
DTEND;TZID=America/Chicago:20191225T130000
DTSTAMP:20260422T085644
CREATED:20181222T144318Z
LAST-MODIFIED:20191205T181616Z
UID:10000479-1577273400-1577278800@www.houstonags.org
SUMMARY:Memorial Lunch 2019
DESCRIPTION:Memorial Meet & Greet Lunch:   \nWhen: 4th Wednesday \nTime: 11:30 Networking\, Lunch from Noon to 1 p.m. \nWhere:  Churrascos Memorial City\, 947 Gessner Rd B290\, Houston\, TX 77024 \nAggie-owned: Michael Cordua ’82 \nCost: $25 covers both lunch and dessert. \nParking: $3 valet or complimentary garage \n\n\n\n\n\n\n\n\n\n\n\n \n\n\nClick here to buy ticketsSell tickets online with Ticket Tailor
URL:https://www.houstonags.org/event/memorial2019/2019-12-25/
LOCATION:Churrascos – Memorial City\, 947 Gessner Road\, Suite B-290\, Houston\, TX\, 77024
CATEGORIES:HAMCEvents,Lunches,Recurring Events
ATTACH;FMTTYPE=image/png:https://www.houstonags.org/wp-content/uploads/2018/04/Memorial-Lunch.png
ORGANIZER;CN="Nick Terry '04":MAILTO:nick.terry@aggienetwork.com
GEO:29.783587;-95.544755
X-APPLE-STRUCTURED-LOCATION;VALUE=URI;X-ADDRESS=Churrascos – Memorial City 947 Gessner Road Suite B-290 Houston TX 77024;X-APPLE-RADIUS=500;X-TITLE=947 Gessner Road\, Suite B-290:geo:-95.544755,29.783587
END:VEVENT
END:VCALENDAR