BEGIN:VCALENDAR
VERSION:2.0
PRODID:-//Houston A&amp;M Club - ECPv6.15.20//NONSGML v1.0//EN
CALSCALE:GREGORIAN
METHOD:PUBLISH
X-WR-CALNAME:Houston A&amp;M Club
X-ORIGINAL-URL:https://www.houstonags.org
X-WR-CALDESC:Events for Houston A&amp;M Club
REFRESH-INTERVAL;VALUE=DURATION:PT1H
X-Robots-Tag:noindex
X-PUBLISHED-TTL:PT1H
BEGIN:VTIMEZONE
TZID:America/Chicago
BEGIN:DAYLIGHT
TZOFFSETFROM:-0600
TZOFFSETTO:-0500
TZNAME:CDT
DTSTART:20170312T080000
END:DAYLIGHT
BEGIN:STANDARD
TZOFFSETFROM:-0500
TZOFFSETTO:-0600
TZNAME:CST
DTSTART:20171105T070000
END:STANDARD
BEGIN:DAYLIGHT
TZOFFSETFROM:-0600
TZOFFSETTO:-0500
TZNAME:CDT
DTSTART:20180311T080000
END:DAYLIGHT
BEGIN:STANDARD
TZOFFSETFROM:-0500
TZOFFSETTO:-0600
TZNAME:CST
DTSTART:20181104T070000
END:STANDARD
BEGIN:DAYLIGHT
TZOFFSETFROM:-0600
TZOFFSETTO:-0500
TZNAME:CDT
DTSTART:20190310T080000
END:DAYLIGHT
BEGIN:STANDARD
TZOFFSETFROM:-0500
TZOFFSETTO:-0600
TZNAME:CST
DTSTART:20191103T070000
END:STANDARD
END:VTIMEZONE
BEGIN:VEVENT
DTSTART;TZID=America/Chicago:20181211T113000
DTEND;TZID=America/Chicago:20181211T130000
DTSTAMP:20260425T080457
CREATED:20180401T132046Z
LAST-MODIFIED:20180701T193834Z
UID:10000427-1544527800-1544533200@www.houstonags.org
SUMMARY:Houston Aggie Women's Lunch
DESCRIPTION:Houston Aggie Women’s Lunch: \nWhen: 2nd Tuesday \nTime: 11:30 Networking\, Lunch from Noon to 1 p.m. \nWhere: Maggiano’s Little Italy\, 2019 Post Oak Blvd.\, Houston\, Texas 77056 \nCost: $28 covers both lunch and dessert. \nParking: complimentary \nSpeaker: Each meeting features a speaker – sometimes an Aggie\, sometimes not – but always inspiring and informative. \nCome for the good food and stay for the great conversation. No membership required. Reservations requested.
URL:https://www.houstonags.org/event/houstonaggiewomenlunch/2018-12-11/
LOCATION:Maggiano’s Little Italy\, 2019 Post Oak Blvd\, Houston\, TX\, 77056
CATEGORIES:Lunches,Recurring Events
ATTACH;FMTTYPE=image/png:https://www.houstonags.org/wp-content/uploads/2018/03/HAW-1500x500.png
ORGANIZER;CN="Houston Aggie Women":MAILTO:jclark@melton-melton.com
GEO:29.7451858;-95.4605302
X-APPLE-STRUCTURED-LOCATION;VALUE=URI;X-ADDRESS=Maggiano’s Little Italy 2019 Post Oak Blvd Houston TX 77056;X-APPLE-RADIUS=500;X-TITLE=2019 Post Oak Blvd:geo:-95.4605302,29.7451858
END:VEVENT
BEGIN:VEVENT
DTSTART;TZID=America/Chicago:20181213T120000
DTEND;TZID=America/Chicago:20181213T130000
DTSTAMP:20260425T080457
CREATED:20181205T034041Z
LAST-MODIFIED:20181211T183335Z
UID:10000465-1544702400-1544706000@www.houstonags.org
SUMMARY:December Memorial Lunch
DESCRIPTION:December Memorial Meet & Greet Lunch:   \nWhen: December 13\, 2018 \nTime: 11:30 Networking\, Lunch from Noon to 1 p.m. \nWhere:  Fuddruckers Town and Country\, 10500 Town and Country Way\, Houston\, Texas\, 77024\, USA \nCost:  $20 \nParking: complimentary \nOPTIONAL GIFT EXCHANGE: Please bring gift valued at $25 or under if you wish to participate \n \n\n\nClick here to buy tickets\nSell tickets online with Ticket Tailor
URL:https://www.houstonags.org/event/december-memorial-lunch/
LOCATION:Fuddruckers Town and Country\, 10500 Town and Country Way\, Houston\, TX\, 77024\, United States
CATEGORIES:HAMCEvents,Lunches,Recurring Events
ATTACH;FMTTYPE=image/png:https://www.houstonags.org/wp-content/uploads/2018/12/Memorial-Lunch-4.png
ORGANIZER;CN="Nick Terry '04":MAILTO:nick.terry@aggienetwork.com
GEO:29.7821888;-95.5561906
X-APPLE-STRUCTURED-LOCATION;VALUE=URI;X-ADDRESS=Fuddruckers Town and Country 10500 Town and Country Way Houston TX 77024 United States;X-APPLE-RADIUS=500;X-TITLE=10500 Town and Country Way:geo:-95.5561906,29.7821888
END:VEVENT
BEGIN:VEVENT
DTSTART;TZID=America/Chicago:20181213T170000
DTEND;TZID=America/Chicago:20181213T190000
DTSTAMP:20260425T080457
CREATED:20180401T132230Z
LAST-MODIFIED:20181118T181659Z
UID:10000433-1544720400-1544727600@www.houstonags.org
SUMMARY:Woodlands Happy Hour
DESCRIPTION:Woodlands Happy Hour: \nWhen: 2nd Thursday \nTime: 5-7 p.m. (come & go) \nWhere: The Refuge\, 24 Waterway Avenue\, The Woodlands \nAggie-owned: Mark Zientek ’93 & Matt Kowalski ’92 \nCost: happy hour specials
URL:https://www.houstonags.org/event/woodlandshappyhour/2018-12-13/
LOCATION:The Refuge\, 24 Waterway Avenue\, The Woodlands\, TX\, 77380
CATEGORIES:Happy Hours,Recurring Events
ATTACH;FMTTYPE=image/png:https://www.houstonags.org/wp-content/uploads/2018/04/WoodlandsHappyHour-1500x500.png
ORGANIZER;CN="Reveille North Houston":MAILTO:phillip@seethebeacon.com
GEO:30.1608342;-95.4585322
X-APPLE-STRUCTURED-LOCATION;VALUE=URI;X-ADDRESS=The Refuge 24 Waterway Avenue The Woodlands TX 77380;X-APPLE-RADIUS=500;X-TITLE=24 Waterway Avenue:geo:-95.4585322,30.1608342
END:VEVENT
BEGIN:VEVENT
DTSTART;TZID=America/Chicago:20181216T113000
DTEND;TZID=America/Chicago:20181216T130000
DTSTAMP:20260425T080457
CREATED:20181222T144548Z
LAST-MODIFIED:20181222T144627Z
UID:10000480-1544959800-1544965200@www.houstonags.org
SUMMARY:Woodlands Lunch 2019
DESCRIPTION:The Woodlands Lunch: \nWhen: 3rd Wednesday \nTime: 11:30 Networking\, Lunch from Noon to 1 p.m. \nWhere: Churrascos The Woodlands\, 21 Waterway Ave\, The Woodlands\, TX 77380 \nAggie-owned: Michael Cordua ’82 \nCost: $25 covers both lunch and dessert. \nParking: valet or garage
URL:https://www.houstonags.org/event/woodlandslunch2019/
LOCATION:Churrascos – The Woodlands\, 21 Waterway Ave.\, The Woodlands\, TX\, 77380
CATEGORIES:Lunches,Recurring Events
ATTACH;FMTTYPE=image/png:https://www.houstonags.org/wp-content/uploads/2018/04/WoodlandsLunch2-1500x500.png
ORGANIZER;CN="Reveille North Houston":MAILTO:phillip@seethebeacon.com
GEO:30.1602117;-95.4594875
X-APPLE-STRUCTURED-LOCATION;VALUE=URI;X-ADDRESS=Churrascos – The Woodlands 21 Waterway Ave. The Woodlands TX 77380;X-APPLE-RADIUS=500;X-TITLE=21 Waterway Ave.:geo:-95.4594875,30.1602117
END:VEVENT
BEGIN:VEVENT
DTSTART;TZID=America/Chicago:20181219T113000
DTEND;TZID=America/Chicago:20181219T130000
DTSTAMP:20260425T080457
CREATED:20180401T132750Z
LAST-MODIFIED:20180701T194108Z
UID:10000439-1545219000-1545224400@www.houstonags.org
SUMMARY:Woodlands Lunch
DESCRIPTION:The Woodlands Lunch: \nWhen: 3rd Wednesday \nTime: 11:30 Networking\, Lunch from Noon to 1 p.m. \nWhere: Churrascos The Woodlands\, 21 Waterway Ave\, The Woodlands\, TX 77380 \nAggie-owned: Michael Cordua ’82 \nCost: $25 covers both lunch and dessert. \nParking: valet or garage
URL:https://www.houstonags.org/event/woodlandslunch/2018-12-19/
LOCATION:Churrascos – The Woodlands\, 21 Waterway Ave.\, The Woodlands\, TX\, 77380
CATEGORIES:Lunches,Recurring Events
ATTACH;FMTTYPE=image/png:https://www.houstonags.org/wp-content/uploads/2018/04/WoodlandsLunch2-1500x500.png
ORGANIZER;CN="Reveille North Houston":MAILTO:phillip@seethebeacon.com
GEO:30.1602117;-95.4594875
X-APPLE-STRUCTURED-LOCATION;VALUE=URI;X-ADDRESS=Churrascos – The Woodlands 21 Waterway Ave. The Woodlands TX 77380;X-APPLE-RADIUS=500;X-TITLE=21 Waterway Ave.:geo:-95.4594875,30.1602117
END:VEVENT
END:VCALENDAR