BEGIN:VCALENDAR
VERSION:2.0
PRODID:-//Houston A&amp;M Club - ECPv6.15.20//NONSGML v1.0//EN
CALSCALE:GREGORIAN
METHOD:PUBLISH
X-WR-CALNAME:Houston A&amp;M Club
X-ORIGINAL-URL:https://www.houstonags.org
X-WR-CALDESC:Events for Houston A&amp;M Club
REFRESH-INTERVAL;VALUE=DURATION:PT1H
X-Robots-Tag:noindex
X-PUBLISHED-TTL:PT1H
BEGIN:VTIMEZONE
TZID:America/Chicago
BEGIN:DAYLIGHT
TZOFFSETFROM:-0600
TZOFFSETTO:-0500
TZNAME:CDT
DTSTART:20240310T080000
END:DAYLIGHT
BEGIN:STANDARD
TZOFFSETFROM:-0500
TZOFFSETTO:-0600
TZNAME:CST
DTSTART:20241103T070000
END:STANDARD
BEGIN:DAYLIGHT
TZOFFSETFROM:-0600
TZOFFSETTO:-0500
TZNAME:CDT
DTSTART:20250309T080000
END:DAYLIGHT
BEGIN:STANDARD
TZOFFSETFROM:-0500
TZOFFSETTO:-0600
TZNAME:CST
DTSTART:20251102T070000
END:STANDARD
BEGIN:DAYLIGHT
TZOFFSETFROM:-0600
TZOFFSETTO:-0500
TZNAME:CDT
DTSTART:20260308T080000
END:DAYLIGHT
BEGIN:STANDARD
TZOFFSETFROM:-0500
TZOFFSETTO:-0600
TZNAME:CST
DTSTART:20261101T070000
END:STANDARD
END:VTIMEZONE
BEGIN:VEVENT
DTSTART;TZID=America/Chicago:20250913T080000
DTEND;TZID=America/Chicago:20250913T170000
DTSTAMP:20260421T181824
CREATED:20250103T215320Z
LAST-MODIFIED:20250618T213550Z
UID:10001011-1757750400-1757782800@www.houstonags.org
SUMMARY:Food Bank Saturday
DESCRIPTION:Come join us on Saturdays throughout the year at the Houston Food Bank\, where we will be working on various projects\, such as assembling community food boxes and back pack buddy bags. Anyone who wants to join us is welcome. Bring any Longhorns\, any other school’s alumni\, friends\, family or coworkers that are aimlessly wondering what to do on a Saturday. \nWe have two Aggie Volunteer shifts available: \nMorning Shift: 8:00 a.m. – Noon \nAfternoon Shift: 1:00 p.m. – 4:00 p.m. \nPlease wear Aggie gear so we can find you more easily! Upon arrival\, look for William Wade ’73\, one of our coordinators\, who will be decked out in Aggie gear\, including a 12th Man towel. All first-time volunteers receive one of our coveted and stylish Houston Aggie Volunteers t-shirts. \nDon’t forget that this can be used toward volunteering community service hours for those in high school\, college and other community organizations. Volunteer jobs vary in size and scope\, but the majority are done in air-conditioned areas and DO NOT involve substantial lifting. People with all levels of physical ability are welcome. \nFamilies (with anyone age 6 years or older) and friends are welcome. Age Requirements at the Warehouse are 6 years old chaperoned and 15 years old unchaperoned. \nNote: As this is a warehouse environment\, everyone must wear closed-toe shoes (no sling-backs)\, long shorts (to the knee) or pants\, and no low cut tops (OSHA regulations). If you would like to sign up or have questions\, please contact Jim Thorpe ’78.  Click here for more information on the Food Bank. \nDirections: Take I-10 east\, exit 774\, Gellhorn Dr (after McCarty St\, before 610 East Loop).  U-turn to feeder road heading west.  Turn right on Portwall St (green Houston Food Bank sign)\, turn right into parking lot in front of light green building (same area as HFB trucks and loading docks).  Park at the far end of the lot\, by the main entrance. \nRegister with the Houston Food Bank website for this shift by clicking here. (Be sure to save the information for future registration.) \nEvery Adult must register in the Food Bank system before volunteering. Please share this HFB Registration Link with adult volunteers to register with our Aggie group. \nIf you have trouble registering online\, or if the HFB website says that a shift is full\, please email William Wade ’73 and just show up anyway! HFB is always in need of volunteers\, and you can sign in upon arrival; no one is ever turned away! \nMinors (6 to 15 years old) will need a minor waiver form. These can be filled out at the front desk or contact Jim Thorpe ’78 to have one emailed to you.
URL:https://www.houstonags.org/event/food-bank-saturday-3/2025-09-13/
LOCATION:Houston Food Bank\, 535 Portwall St\, Houston\, TX\, 77029\, United States
CATEGORIES:Food Bank,HAMCEvents,Volunteer Opportunities
ATTACH;FMTTYPE=image/jpeg:https://www.houstonags.org/wp-content/uploads/2024/01/Food-Bank-Saturday.jpg
ORGANIZER;CN="Jim Thorpe '78":MAILTO:thorpejim@comcast.net
GEO:29.7811076;-95.2748108
X-APPLE-STRUCTURED-LOCATION;VALUE=URI;X-ADDRESS=Houston Food Bank 535 Portwall St Houston TX 77029 United States;X-APPLE-RADIUS=500;X-TITLE=535 Portwall St:geo:-95.2748108,29.7811076
END:VEVENT
BEGIN:VEVENT
DTSTART;TZID=America/Chicago:20250918T113000
DTEND;TZID=America/Chicago:20250918T130000
DTSTAMP:20260421T181824
CREATED:20241216T050720Z
LAST-MODIFIED:20241216T050720Z
UID:10000934-1758195000-1758200400@www.houstonags.org
SUMMARY:Memorial Lunch
DESCRIPTION:When: 3rd Thursday \nTime: 11:30 Networking\, Lunch from Noon to 1:00 p.m. \nWhere: Churrascos – Memorial City (947 Gessner Rd. Suite B290\, Houston\, TX 77024) \nCost: $30 for a 3-Course Meal \nParking: $3 Valet or Complimentary Garage \n  \nJoin us at Churrasco’s – Memorial City on the third Thursday of each month for great conversation and delicious food. We highly encourage pre-registration\, but walk-ins are always welcome. \nCLICK HERE TO REGISTER \n  \nSponsored by: Mays Business School Center for Executive Development
URL:https://www.houstonags.org/event/memorial-lunch-3/2025-09-18/
LOCATION:Churrascos – Memorial City\, 947 Gessner Road\, Suite B-290\, Houston\, TX\, 77024
CATEGORIES:Lunches,Recurring Events
ATTACH;FMTTYPE=image/jpeg:https://www.houstonags.org/wp-content/uploads/2024/01/Memorial-Lunch-Mays.jpg
ORGANIZER;CN="Nick Terry '04":MAILTO:nick.terry@aggienetwork.com
GEO:29.783587;-95.544755
X-APPLE-STRUCTURED-LOCATION;VALUE=URI;X-ADDRESS=Churrascos – Memorial City 947 Gessner Road Suite B-290 Houston TX 77024;X-APPLE-RADIUS=500;X-TITLE=947 Gessner Road\, Suite B-290:geo:-95.544755,29.783587
END:VEVENT
BEGIN:VEVENT
DTSTART;TZID=America/Chicago:20250919T070000
DTEND;TZID=America/Chicago:20250919T140000
DTSTAMP:20260421T181824
CREATED:20250611T041926Z
LAST-MODIFIED:20250709T201216Z
UID:10001007-1758265200-1758290400@www.houstonags.org
SUMMARY:Houston Aggie Open Golf Tournament
DESCRIPTION:Join us for golf\, food\, fun\, and prizes! \nSAVE THE DATE! This four-person scramble is open to everyone. Click the registration link for details. \nTitle Sponsor: Houston Area BMW Dealers \nSponsorship Opportunities Available! Click the registration link for details. \nSilent Auction: If you have an item you would like to donate\, please contact Sharra Querner ’94 at sharralynn16@gmail.com. \nCLICK HERE TO REGISTER \n* Early Bird Discounts * available through Friday\, August 29! \nNet proceeds benefit the Houston Chapters of the Houston A&M Club\, Texas A&M University Hispanic Network and the Reveille Club of Houston to support current Texas A&M student scholarships and student organizations. \nQuestions?  Contact Hector Cavazos ’74 at devlacav@aol.com or 713-598-6096.
URL:https://www.houstonags.org/event/houston-aggie-open-golf-tournament-4/
LOCATION:Windrose Golf Club\, 6235 Pine Lakes Blvd\, Spring\, TX\, 77379\, United States
ATTACH;FMTTYPE=image/png:https://www.houstonags.org/wp-content/uploads/2025/06/Houston-Aggie-Open-2025-1500-x-500-px-1.png
ORGANIZER;CN="Hector Cavazos":MAILTO:devlacav@aol.com
END:VEVENT
BEGIN:VEVENT
DTSTART;TZID=America/Chicago:20250925T180000
DTEND;TZID=America/Chicago:20250925T200000
DTSTAMP:20260421T181824
CREATED:20250902T211503Z
LAST-MODIFIED:20250902T211503Z
UID:10001027-1758823200-1758830400@www.houstonags.org
SUMMARY:Cypress Aggie Happy Hour & Pickleball
DESCRIPTION:Join fellow Aggies in the Cypress and Hockley area for a Pickleball social. Buy any alcoholic drink and open play is free! \nWhen: Thursday\, September 25 \nWhere: Pickleball Social – Cypress (15819 Tuckerton Road\, Houston\, TX 77095) \nTime: 6:00 p.m. \n  \nNo RSVP required\, but encouraged for planning; email Sterling at sterling.kelloggclarke@gmail.com  \nClick here to follow the Cypress Aggie Facebook Page.
URL:https://www.houstonags.org/event/cypress-aggie-happy-hour-pickleball/
LOCATION:Pickleball Social Cypress\, 15819 Tuckerton Rd.\, Houston\, Texas\, 77095
CATEGORIES:HAMCEvents,Happy Hours
ATTACH;FMTTYPE=image/png:https://www.houstonags.org/wp-content/uploads/2025/09/Cypress-Aggie-Pickleball-9.25.png
ORGANIZER;CN="Sterling Kellogg-Clarke '18":MAILTO:sterling.kelloggclarke@gmail.com
END:VEVENT
BEGIN:VEVENT
DTSTART;TZID=America/Chicago:20251002T113000
DTEND;TZID=America/Chicago:20251002T130000
DTSTAMP:20260421T181824
CREATED:20250527T214922Z
LAST-MODIFIED:20250618T212127Z
UID:10000921-1759404600-1759410000@www.houstonags.org
SUMMARY:The Woodlands Lunch
DESCRIPTION:When: First Thursday\nWhere: Churrasco’s – The Woodlands (21 Waterway Ave.\, The Woodlands\, TX 77380)\nTime: 11:30 Networking\, Lunch from Noon – 1:00 p.m.\nCost: $30 for a 3-Course Meal \nParking:  Available at the Waterway Ave. Parking Lot (18 Waterway Ave.) or at the 25 Waterway Garage (21 Waterway Ave.) \nJoin us at Churrasco’s – The Woodlands on the first Thursday of each month for great conversation and delicious food. We highly encourage pre-registration\, but walk-ins are always welcome. \nCLICK HERE TO REGISTER \nSponsored by: HR&P – Chris Fisher ‘98
URL:https://www.houstonags.org/event/the-woodlands-lunch-3-2/2025-10-02/
LOCATION:Churrascos – The Woodlands\, 21 Waterway Ave.\, The Woodlands\, TX\, 77380
CATEGORIES:Lunches,Recurring Events
ATTACH;FMTTYPE=image/jpeg:https://www.houstonags.org/wp-content/uploads/2024/01/The-Woodlands-Lunch-2.jpg
ORGANIZER;CN="Jose de Leon '06":MAILTO:jdeleon@venturieng.com
GEO:30.1602117;-95.4594875
X-APPLE-STRUCTURED-LOCATION;VALUE=URI;X-ADDRESS=Churrascos – The Woodlands 21 Waterway Ave. The Woodlands TX 77380;X-APPLE-RADIUS=500;X-TITLE=21 Waterway Ave.:geo:-95.4594875,30.1602117
END:VEVENT
END:VCALENDAR