BEGIN:VCALENDAR
VERSION:2.0
PRODID:-//Houston A&amp;M Club - ECPv6.15.20//NONSGML v1.0//EN
CALSCALE:GREGORIAN
METHOD:PUBLISH
X-WR-CALNAME:Houston A&amp;M Club
X-ORIGINAL-URL:https://www.houstonags.org
X-WR-CALDESC:Events for Houston A&amp;M Club
REFRESH-INTERVAL;VALUE=DURATION:PT1H
X-Robots-Tag:noindex
X-PUBLISHED-TTL:PT1H
BEGIN:VTIMEZONE
TZID:America/Chicago
BEGIN:DAYLIGHT
TZOFFSETFROM:-0600
TZOFFSETTO:-0500
TZNAME:CDT
DTSTART:20240310T080000
END:DAYLIGHT
BEGIN:STANDARD
TZOFFSETFROM:-0500
TZOFFSETTO:-0600
TZNAME:CST
DTSTART:20241103T070000
END:STANDARD
BEGIN:DAYLIGHT
TZOFFSETFROM:-0600
TZOFFSETTO:-0500
TZNAME:CDT
DTSTART:20250309T080000
END:DAYLIGHT
BEGIN:STANDARD
TZOFFSETFROM:-0500
TZOFFSETTO:-0600
TZNAME:CST
DTSTART:20251102T070000
END:STANDARD
BEGIN:DAYLIGHT
TZOFFSETFROM:-0600
TZOFFSETTO:-0500
TZNAME:CDT
DTSTART:20260308T080000
END:DAYLIGHT
BEGIN:STANDARD
TZOFFSETFROM:-0500
TZOFFSETTO:-0600
TZNAME:CST
DTSTART:20261101T070000
END:STANDARD
END:VTIMEZONE
BEGIN:VEVENT
DTSTART;TZID=America/Chicago:20250525T080000
DTEND;TZID=America/Chicago:20250525T110000
DTSTAMP:20260422T101456
CREATED:20250415T212524Z
LAST-MODIFIED:20250415T213830Z
UID:10001001-1748160000-1748170800@www.houstonags.org
SUMMARY:Flags for Fallen Vets
DESCRIPTION:Flags for Fallen Vets \nOn the day before Memorial Day\, rain or shine\, the Houston A&M Club joins thousands of volunteers to place over 80\,000 flags at Houston National Cemetery. The following Saturday\, rain or shine\, we return to recover the flags\, clean and store them. \nFlag Placement – Sunday\, May 25th \nArrival Time: 8:00 a.m. \nFlag Placement: 9:00 – 11:00 a.m. (approximately) \nLocation: Houston National Cemetery\, 10410 Veterans Memorial Dr. Houston\, TX 77038 \nWe will meet and start at Sections U/U1/U2 (at the back of cemetery). \nAdditional Information: Please wear Maroon and White and bring TOOLS that can make a hole in the ground (e.g. Phillips head #3 screwdriver\, or any rod the diameter of your little finger). Also be sure to bring WATER to stay hydrated in the heat. \nHAMC has 40 volunteer slots to fill for this year’s Flag Placement. To RSVP and receive a map\, please contact Dana Randolph ’91 at agladybug91@gmail.com by Thursday\, May 22nd. \n  \nFlag Recovery – Saturday\, May 31st \nFlag Recovery: Saturday\, May 31st @ 8:00 a.m. \nContact Dana Randolph ’91 at agladybug91@gmail.com if you’d like to volunteer with our effort to recover the flags\, clean and store them. \n  \nSpecial note: There are 27 Aggies interred at Houston National Cemetery. After initial flag placement\, a special group of Aggies will place a small Texas A&M flag at each grave site. If you know of an Aggie interred at this cemetery\, please send their name to Dana Randolph ’91 at agladybug91@gmail.com to ensure they are included. \n  \n** If you cannot participate in person\, but would still like to help\, consider contributing to Flagsforfallenvets.com for the Houston National Cemetery. Donations help resupply flags\, and cover transportation and storage. In the comments section\, note that you are an Aggie with the Houston A&M Club. Any donation amount helps.
URL:https://www.houstonags.org/event/flags-for-fallen-vets-4/2025-05-25/
LOCATION:Houston National Cemetary
CATEGORIES:Flags,HAMCEvents,Volunteer Opportunities
ATTACH;FMTTYPE=image/png:https://www.houstonags.org/wp-content/uploads/2025/04/Flags-for-Fallen-Vets-2025.png
ORGANIZER;CN="Dana Randolph '91":MAILTO:agladybug91@gmail.com
END:VEVENT
BEGIN:VEVENT
DTSTART;TZID=America/Chicago:20250531T080000
DTEND;TZID=America/Chicago:20250531T110000
DTSTAMP:20260422T101456
CREATED:20250415T212524Z
LAST-MODIFIED:20250415T213830Z
UID:10001002-1748678400-1748689200@www.houstonags.org
SUMMARY:Flags for Fallen Vets
DESCRIPTION:Flags for Fallen Vets \nOn the day before Memorial Day\, rain or shine\, the Houston A&M Club joins thousands of volunteers to place over 80\,000 flags at Houston National Cemetery. The following Saturday\, rain or shine\, we return to recover the flags\, clean and store them. \nFlag Placement – Sunday\, May 25th \nArrival Time: 8:00 a.m. \nFlag Placement: 9:00 – 11:00 a.m. (approximately) \nLocation: Houston National Cemetery\, 10410 Veterans Memorial Dr. Houston\, TX 77038 \nWe will meet and start at Sections U/U1/U2 (at the back of cemetery). \nAdditional Information: Please wear Maroon and White and bring TOOLS that can make a hole in the ground (e.g. Phillips head #3 screwdriver\, or any rod the diameter of your little finger). Also be sure to bring WATER to stay hydrated in the heat. \nHAMC has 40 volunteer slots to fill for this year’s Flag Placement. To RSVP and receive a map\, please contact Dana Randolph ’91 at agladybug91@gmail.com by Thursday\, May 22nd. \n  \nFlag Recovery – Saturday\, May 31st \nFlag Recovery: Saturday\, May 31st @ 8:00 a.m. \nContact Dana Randolph ’91 at agladybug91@gmail.com if you’d like to volunteer with our effort to recover the flags\, clean and store them. \n  \nSpecial note: There are 27 Aggies interred at Houston National Cemetery. After initial flag placement\, a special group of Aggies will place a small Texas A&M flag at each grave site. If you know of an Aggie interred at this cemetery\, please send their name to Dana Randolph ’91 at agladybug91@gmail.com to ensure they are included. \n  \n** If you cannot participate in person\, but would still like to help\, consider contributing to Flagsforfallenvets.com for the Houston National Cemetery. Donations help resupply flags\, and cover transportation and storage. In the comments section\, note that you are an Aggie with the Houston A&M Club. Any donation amount helps.
URL:https://www.houstonags.org/event/flags-for-fallen-vets-4/2025-05-31/
LOCATION:Houston National Cemetary
CATEGORIES:Flags,HAMCEvents,Volunteer Opportunities
ATTACH;FMTTYPE=image/png:https://www.houstonags.org/wp-content/uploads/2025/04/Flags-for-Fallen-Vets-2025.png
ORGANIZER;CN="Dana Randolph '91":MAILTO:agladybug91@gmail.com
END:VEVENT
BEGIN:VEVENT
DTSTART;TZID=America/Chicago:20250604T180000
DTEND;TZID=America/Chicago:20250604T210000
DTSTAMP:20260422T101456
CREATED:20250303T140552Z
LAST-MODIFIED:20250604T183637Z
UID:10000993-1749060000-1749070800@www.houstonags.org
SUMMARY:Coach's Night 2025
DESCRIPTION:2025 Houston A&M Club Coach’s Night Presented by Frost Bank\n\nFeaturing Mike Elko\nWednesday\, June 4\, 2025\nBayou City Event Center\n\nJoin us for an evening of Aggie camaraderie and football chatter!\nRegistration is now SOLD OUT!\nCLICK HERE to view our Silent Auction!\n  \nInterested in joining the Coach’s Night Committee or donating an Auction Item? Contact our Coach’s Night Chairs at houstoncoachsnight@gmail.com. \nIf you would like more information on Sponsorship Opportunities\, contact our Executive Director at melinda@houstonags.com. \n 
URL:https://www.houstonags.org/event/coachs-night-2025/
CATEGORIES:Coach's Night,HAMCEvents,Special Events
ATTACH;FMTTYPE=image/jpeg:https://www.houstonags.org/wp-content/uploads/2025/03/25_FB_CoachsNight-Houston_Email-1256x502-1.jpg
ORGANIZER;CN="Dana Randolph '91":MAILTO:agladybug91@gmail.com
END:VEVENT
BEGIN:VEVENT
DTSTART;TZID=America/Chicago:20250605T113000
DTEND;TZID=America/Chicago:20250605T130000
DTSTAMP:20260422T101456
CREATED:20241216T043210Z
LAST-MODIFIED:20241216T043210Z
UID:10000917-1749123000-1749128400@www.houstonags.org
SUMMARY:The Woodlands Lunch
DESCRIPTION:When: First Thursday\nWhere: Churrasco’s – The Woodlands (21 Waterway Ave.\, The Woodlands\, TX 77380)\nTime: 11:30 Networking\, Lunch from Noon – 1:00 p.m.\nCost: $30 for a 3-Course Meal \nParking:  Available at the Waterway Ave. Parking Lot (18 Waterway Ave.) or at the 25 Waterway Garage (21 Waterway Ave.) \nJoin us at Churrasco’s – The Woodlands on the first Thursday of each month for great conversation and delicious food. We highly encourage pre-registration\, but walk-ins are always welcome. \nCLICK HERE TO REGISTER \nSponsored by: HR&P – Chris Fisher ‘98
URL:https://www.houstonags.org/event/the-woodlands-lunch-3/2025-06-05/
LOCATION:Churrascos – The Woodlands\, 21 Waterway Ave.\, The Woodlands\, TX\, 77380
CATEGORIES:Lunches,Recurring Events
ATTACH;FMTTYPE=image/jpeg:https://www.houstonags.org/wp-content/uploads/2024/01/The-Woodlands-Lunch-2.jpg
ORGANIZER;CN="Jose de Leon '06":MAILTO:jdeleon@venturieng.com
GEO:30.1602117;-95.4594875
X-APPLE-STRUCTURED-LOCATION;VALUE=URI;X-ADDRESS=Churrascos – The Woodlands 21 Waterway Ave. The Woodlands TX 77380;X-APPLE-RADIUS=500;X-TITLE=21 Waterway Ave.:geo:-95.4594875,30.1602117
END:VEVENT
END:VCALENDAR