BEGIN:VCALENDAR
VERSION:2.0
PRODID:-//Houston A&amp;M Club - ECPv6.15.20//NONSGML v1.0//EN
CALSCALE:GREGORIAN
METHOD:PUBLISH
X-WR-CALNAME:Houston A&amp;M Club
X-ORIGINAL-URL:https://www.houstonags.org
X-WR-CALDESC:Events for Houston A&amp;M Club
REFRESH-INTERVAL;VALUE=DURATION:PT1H
X-Robots-Tag:noindex
X-PUBLISHED-TTL:PT1H
BEGIN:VTIMEZONE
TZID:America/Chicago
BEGIN:DAYLIGHT
TZOFFSETFROM:-0600
TZOFFSETTO:-0500
TZNAME:CDT
DTSTART:20240310T080000
END:DAYLIGHT
BEGIN:STANDARD
TZOFFSETFROM:-0500
TZOFFSETTO:-0600
TZNAME:CST
DTSTART:20241103T070000
END:STANDARD
BEGIN:DAYLIGHT
TZOFFSETFROM:-0600
TZOFFSETTO:-0500
TZNAME:CDT
DTSTART:20250309T080000
END:DAYLIGHT
BEGIN:STANDARD
TZOFFSETFROM:-0500
TZOFFSETTO:-0600
TZNAME:CST
DTSTART:20251102T070000
END:STANDARD
BEGIN:DAYLIGHT
TZOFFSETFROM:-0600
TZOFFSETTO:-0500
TZNAME:CDT
DTSTART:20260308T080000
END:DAYLIGHT
BEGIN:STANDARD
TZOFFSETFROM:-0500
TZOFFSETTO:-0600
TZNAME:CST
DTSTART:20261101T070000
END:STANDARD
END:VTIMEZONE
BEGIN:VEVENT
DTSTART;TZID=America/Chicago:20250421T163000
DTEND;TZID=America/Chicago:20250421T203000
DTSTAMP:20260422T231130
CREATED:20250220T215414Z
LAST-MODIFIED:20250415T031931Z
UID:10000990-1745253000-1745267400@www.houstonags.org
SUMMARY:Houston Aggie Muster 2025
DESCRIPTION:“In this ceremony we honor the memories of fellow A&M men and women whose death prevents their answering Roll Call at this annual Muster. The Roll is a symbolic Roll Call of all students and former students whom death has taken from our ranks\, but whose memory lives on in our hearts. As each name is called\, a comrade will answer: Here!” \nFeatured Speaker: David C. Baggett ’81\, Managing Partner\, Opportune LLP\, and Texas A&M Regent \nDoors Open: 4:30 p.m. \nReception: 4:30-6:30 p.m. \nCeremony: 6:30-8:30 p.m. \n  \nTitle Sponsor: Dr. & Mrs. Stuart Harlin ’83 \nMaroon Sponsors: Barney ’69 & Sam Gershen\, Gregory Cokinos ’79\, The Chainani Family & AARC Group \n  \nThis event is free\, and all are welcome. While an RSVP is not required\, please register below if you plan to attend\, as it helps with our planning purposes. \nIf you would like to make a Muster Memorial Gift\, please select the “Muster Memorial Gift” option. You are welcome to make a Memorial Gift regardless of whether you can attend. \nCLICK HERE TO REGISTER OR DONATE \nVolunteers are needed the day of the ceremony from 3:30 p.m. – End of Ceremony. If you would like to volunteer at Muster\, please email hamcaggiemuster@gmail.com. \nDeadline to submit names: Friday\, April 11th. To confirm that your loved one is on the list of those to be remembered\, please email hamcaggiemuster@gmail.com. \nHAMC will be collecting nonperishable food items at this year’s Muster ceremony to donate to the Houston Food Bank. If you would like to contribute\, please drop off your items at the designated locations before the ceremony begins. \nCLICK HERE TO REGISTER OR DONATE \n  \nThank you to our sponsors! \nTitle Sponsor \nDr. & Mrs. Stuart Harlin ’83 \nMaroon Sponsors \nGregory Cokinos ’79 – Cokinos | Young \n \n  \nBarnett “Barney” & Sam Gershen ’69 – Gershen Consulting \n    \n  \n  \nAbout our Speaker: \nDavid C. Baggett ’81\, Managing Partner\, Opportune LLP\, and Texas A&M Regent \n \nDavid Baggett is the Chairman and Managing Partner of Opportune. Prior to founding Opportune in 2005\, David was the President\, COO\, and CFO of a consolidation of construction companies comprising the largest residential plumbing and mechanical company in the U.S. with 6\,000 employees in 35 locations. He has over 40 years of professional experience\, over 35 years of which have been spent in the energy industry in various capacities\, including as an investor\, executive officer\, board member\, and consultant. \nDavid began his career at Deloitte & Touché where he became a partner leading the firm’s energy practice. He left Deloitte to be the Senior Vice President & CFO of a publicly-traded exploration and production company where he sourced and closed acquisitions and accessed the public and private capital markets. David has served on the board of directors of North Star Energy\, Marlin Midstream GP\, LLC (MLP)\, AMPAM\, Genesis Energy MLP\, Encore Energy Partners (MLP)\, and ERCOT. \nDavid was appointed as a member of the Texas A&M System Board of Regent by Governor Greg Abbott in 2023. In addition\, he has served on the Dean’s Development Council of the Mays Business School and is the longest-serving member of its Accounting Department Advisory Council. David was named an Outstanding Alumnus of the Mays Business School in 2011. In 2016\, he was recognized by the Accounting Department at the Mays Business School by being named to the initial class of its Accounting Hall of Honor. David graduated with honors with a BBA in Accounting from Texas A&M University. \nDavid is very involved in the community. He currently serves on the UTIMCO board of directors and previously served on the board of the Houston Methodist Academic Institute\, the Greater Houston Partnership\, and the Harris County Sheriff’s Office Foundation. \n 
URL:https://www.houstonags.org/event/houston-aggie-muster-2025/
LOCATION:Bayou City Event Center\, 9401 Knight Rd\, Houston\, TX\, 77045\, United States
CATEGORIES:HAMCEvents,Muster,Special Events
ATTACH;FMTTYPE=image/png:https://www.houstonags.org/wp-content/uploads/2025/02/Muster-2025-1500-x-500.png
ORGANIZER;CN="Charles C McRae III %E2%80%9913":MAILTO:hamcaggiemuster@gmail.com
GEO:29.669194;-95.3989453
X-APPLE-STRUCTURED-LOCATION;VALUE=URI;X-ADDRESS=Bayou City Event Center 9401 Knight Rd Houston TX 77045 United States;X-APPLE-RADIUS=500;X-TITLE=9401 Knight Rd:geo:-95.3989453,29.669194
END:VEVENT
BEGIN:VEVENT
DTSTART;TZID=America/Chicago:20250425T180000
DTEND;TZID=America/Chicago:20250425T203000
DTSTAMP:20260422T231130
CREATED:20250317T022921Z
LAST-MODIFIED:20250418T202720Z
UID:10000995-1745604000-1745613000@www.houstonags.org
SUMMARY:Thank you\, Chancellor Sharp!
DESCRIPTION:The Houston A&M Club\, in combination with the Houston-area Texas A&M System entities\, is proud to honor John Sharp\, Chancellor of the Texas A&M University System\, on Friday\, April 25 at the Omni Houston Hotel (Four Riverway\, Houston\, TX 77056). \nThis special engagement includes a Cocktail Reception (heavy hors d’oeuvres and a cash bar) followed by a Program with remarks from the Chancellor. \nTitle Sponsors: Rifle CRE & The Goodwin Group at Merrill Lynch \nCapacity is limited and early reservations are highly recommended. \nSee below for reservation details! \nCLICK HERE TO REGISTER \n 
URL:https://www.houstonags.org/event/thank-you-chancellor-sharp/
LOCATION:Omni Houston Hotel\, Four Riverway\, Houston\, TX\, 77056\, United States
ATTACH;FMTTYPE=image/png:https://www.houstonags.org/wp-content/uploads/2025/03/1500-x-500.png
ORGANIZER;CN="Luke Keller '77":MAILTO:luke_keller@hotmail.com
END:VEVENT
BEGIN:VEVENT
DTSTART;TZID=America/Chicago:20250501T113000
DTEND;TZID=America/Chicago:20250501T130000
DTSTAMP:20260422T231130
CREATED:20241216T043210Z
LAST-MODIFIED:20241216T043210Z
UID:10000916-1746099000-1746104400@www.houstonags.org
SUMMARY:The Woodlands Lunch
DESCRIPTION:When: First Thursday\nWhere: Churrasco’s – The Woodlands (21 Waterway Ave.\, The Woodlands\, TX 77380)\nTime: 11:30 Networking\, Lunch from Noon – 1:00 p.m.\nCost: $30 for a 3-Course Meal \nParking:  Available at the Waterway Ave. Parking Lot (18 Waterway Ave.) or at the 25 Waterway Garage (21 Waterway Ave.) \nJoin us at Churrasco’s – The Woodlands on the first Thursday of each month for great conversation and delicious food. We highly encourage pre-registration\, but walk-ins are always welcome. \nCLICK HERE TO REGISTER \nSponsored by: HR&P – Chris Fisher ‘98
URL:https://www.houstonags.org/event/the-woodlands-lunch-3/2025-05-01/
LOCATION:Churrascos – The Woodlands\, 21 Waterway Ave.\, The Woodlands\, TX\, 77380
CATEGORIES:Lunches,Recurring Events
ATTACH;FMTTYPE=image/jpeg:https://www.houstonags.org/wp-content/uploads/2024/01/The-Woodlands-Lunch-2.jpg
ORGANIZER;CN="Jose de Leon '06":MAILTO:jdeleon@venturieng.com
GEO:30.1602117;-95.4594875
X-APPLE-STRUCTURED-LOCATION;VALUE=URI;X-ADDRESS=Churrascos – The Woodlands 21 Waterway Ave. The Woodlands TX 77380;X-APPLE-RADIUS=500;X-TITLE=21 Waterway Ave.:geo:-95.4594875,30.1602117
END:VEVENT
BEGIN:VEVENT
DTSTART;TZID=America/Chicago:20250506T183000
DTEND;TZID=America/Chicago:20250506T213000
DTSTAMP:20260422T231130
CREATED:20250127T200440Z
LAST-MODIFIED:20250430T033731Z
UID:10000988-1746556200-1746567000@www.houstonags.org
SUMMARY:Aggie Baseball @ University of Houston
DESCRIPTION:Aggie Baseball is coming to Houston’s Schroeder Park! Texas A&M will face the University of Houston on Tuesday\, May 6 at 6:30 p.m. \nOur HAMC promo code for has reached capacity\, but you can still purchase tickets through the U of H Website HERE:  Texas A&M | Houston Cougars \nThe seats are in the GA Section\, so be sure to arrive early for a good spot! The Aggie dugout will be on the first base line. Gates open one hour before first pitch. \nCLICK HERE to reserve your tickets to cheer on the Aggies as we BTHO UH in our own backyard! \nUPDATE: The Houston A&M Club will be Feeding the Team after the game as they board the bus back to College Station. Aggies who attend the game are welcome to cheer the team as they board the bus after their win!
URL:https://www.houstonags.org/event/aggie-baseball-university-of-houston/
LOCATION:Schroeder Park\, University of Houston\, Houston\, TX
CATEGORIES:HAMCEvents,Special Events
ATTACH;FMTTYPE=image/png:https://www.houstonags.org/wp-content/uploads/2025/01/Baseball-@-UH-Feed-Team.png
ORGANIZER;CN="Melinda Bertrand '03":MAILTO:melinda@houstonags.com
END:VEVENT
BEGIN:VEVENT
DTSTART;TZID=America/Chicago:20250508T180000
DTEND;TZID=America/Chicago:20250508T210000
DTSTAMP:20260422T231130
CREATED:20250429T214346Z
LAST-MODIFIED:20250429T214550Z
UID:10001003-1746727200-1746738000@www.houstonags.org
SUMMARY:Cypress & Hockley Happy Hour
DESCRIPTION:Join fellow Aggies in the Northwest Houston area for a fun\, relaxed happy hour. No cost\, other than your own food & drink tab. It’s a great way to build relationships with local Aggies over cold drinks and dominoes. Bring a friend – everyone is welcome! \nWhen: Thursday\, May 8 \nWhere: World of Beer – Towne Lake (9945 Barker Cypress Rd.) \nTime: 6:00 – 9:00 p.m. \nNo RSVP required\, but encouraged to reserve the proper amount of space; email sterlingyourrealtor@gmail.com. \nClick here to follow the Cypress Aggies Facebook Page.
URL:https://www.houstonags.org/event/cypress-hockley-happy-hour-4/
LOCATION:World of Beer – Towne Lake\, 9945 Barker Cypress Rd\, Houston\, TX\, 77433\, United States
CATEGORIES:HAMCEvents,Happy Hours
ATTACH;FMTTYPE=image/png:https://www.houstonags.org/wp-content/uploads/2025/04/Cypress-Aggie-Happy-Hour-5.8.png
ORGANIZER;CN="Sterling Kellogg-Clarke '18":MAILTO:sterling.kelloggclarke@gmail.com
END:VEVENT
BEGIN:VEVENT
DTSTART;TZID=America/Chicago:20250509T073000
DTEND;TZID=America/Chicago:20250509T140000
DTSTAMP:20260422T231130
CREATED:20250226T232739Z
LAST-MODIFIED:20250227T213028Z
UID:10000991-1746775800-1746799200@www.houstonags.org
SUMMARY:Houston Aggie Clay Shoot 2025
DESCRIPTION:Join us for a day of Aggie Camaraderie and Sporting Clay Shooting! \nDate: Friday\, May 9\, 2025 \nLocation: American Shooting Center – Houston (16500 Westheimer Pkwy) \nEvent Schedule: \n7:30 a.m. – Check-in Opens \n9:00 a.m. – Shotgun Start \n12:30 p.m. – Lunch & Awards Reception \nThis 4-Person Team event is open to everyone!  \nSponsorship opportunities are available! Click the link for full details. \nRegistration Includes: Ten (10) Stations\, Range Fees\, 12 Gauge Shells\, Team Photograph\, and Lunch. \nNote that 12 Gauge Shells ARE Included with all Registrations. Shooters may bring their own if preferred. \nCarts are available for Rental directly from ASC at $105 for a four-seater cart. \nShooters can register as a 4-Person Team or Individually. \nCLICK HERE TO REGISTER! \nProceeds Benefit the Houston Chapters of:  \n \n 
URL:https://www.houstonags.org/event/houston-aggie-clay-shoot-2025/
LOCATION:American Shooting Centers\, Houston\, TX
CATEGORIES:Special Events
ATTACH;FMTTYPE=image/png:https://www.houstonags.org/wp-content/uploads/2025/02/2025-Clay-Shoot_1500-x-500.png
ORGANIZER;CN="Hector Cavazos":MAILTO:devlacav@aol.com
END:VEVENT
BEGIN:VEVENT
DTSTART;TZID=America/Chicago:20250512T113000
DTEND;TZID=America/Chicago:20250512T130000
DTSTAMP:20260422T231130
CREATED:20250415T214631Z
LAST-MODIFIED:20250415T215104Z
UID:10000944-1747049400-1747054800@www.houstonags.org
SUMMARY:Traditions Lunch
DESCRIPTION:May Featured Speaker: \nNate Y. Sharp\, Dean\, Mays Business School \nJoin us on the second Monday of each month at Grotto on Westheimer to hear from inspiring and experienced Aggie leaders such as coaches\, deans\, and local c-suite executives. Check back soon for this month’s featured speaker! \n  \nWhen: 2nd Monday \nTime: 11:30 Networking\, Lunch & Speaker from Noon to 1:00 p.m. \nWhere: Grotto (4715 Westheimer Rd.\, Houston\, TX 77027) \nCost: $30 for a 3-Course Meal \nParking: Valet or Complimentary Self-Parking \nCLICK HERE TO REGISTER \n** Pre-registration is required to secure your seat and provide an accurate headcount. \nSponsored by: HR&P – Chris Fisher ‘98
URL:https://www.houstonags.org/event/traditions-lunch-4-6/
LOCATION:Grotto Ristorante\, 4715 Westheimer Rd\, Houston\, TX\, 77027
CATEGORIES:Lunches,Recurring Events
ATTACH;FMTTYPE=image/png:https://www.houstonags.org/wp-content/uploads/2024/12/Traditions-Lunch-5.12.25.png
ORGANIZER;CN="Gabbi McDowell-Skelton '18":MAILTO:gabbimcdowell2018@gmail.com
GEO:29.74046;-95.4567314
X-APPLE-STRUCTURED-LOCATION;VALUE=URI;X-ADDRESS=Grotto Ristorante 4715 Westheimer Rd Houston TX 77027;X-APPLE-RADIUS=500;X-TITLE=4715 Westheimer Rd:geo:-95.4567314,29.74046
END:VEVENT
END:VCALENDAR