BEGIN:VCALENDAR
VERSION:2.0
PRODID:-//Houston A&amp;M Club - ECPv6.15.20//NONSGML v1.0//EN
CALSCALE:GREGORIAN
METHOD:PUBLISH
X-WR-CALNAME:Houston A&amp;M Club
X-ORIGINAL-URL:https://www.houstonags.org
X-WR-CALDESC:Events for Houston A&amp;M Club
REFRESH-INTERVAL;VALUE=DURATION:PT1H
X-Robots-Tag:noindex
X-PUBLISHED-TTL:PT1H
BEGIN:VTIMEZONE
TZID:America/Chicago
BEGIN:DAYLIGHT
TZOFFSETFROM:-0600
TZOFFSETTO:-0500
TZNAME:CDT
DTSTART:20240310T080000
END:DAYLIGHT
BEGIN:STANDARD
TZOFFSETFROM:-0500
TZOFFSETTO:-0600
TZNAME:CST
DTSTART:20241103T070000
END:STANDARD
BEGIN:DAYLIGHT
TZOFFSETFROM:-0600
TZOFFSETTO:-0500
TZNAME:CDT
DTSTART:20250309T080000
END:DAYLIGHT
BEGIN:STANDARD
TZOFFSETFROM:-0500
TZOFFSETTO:-0600
TZNAME:CST
DTSTART:20251102T070000
END:STANDARD
BEGIN:DAYLIGHT
TZOFFSETFROM:-0600
TZOFFSETTO:-0500
TZNAME:CDT
DTSTART:20260308T080000
END:DAYLIGHT
BEGIN:STANDARD
TZOFFSETFROM:-0500
TZOFFSETTO:-0600
TZNAME:CST
DTSTART:20261101T070000
END:STANDARD
END:VTIMEZONE
BEGIN:VEVENT
DTSTART;TZID=America/Chicago:20250320T113000
DTEND;TZID=America/Chicago:20250320T130000
DTSTAMP:20260422T055409
CREATED:20241216T050720Z
LAST-MODIFIED:20241216T050720Z
UID:10000928-1742470200-1742475600@www.houstonags.org
SUMMARY:Memorial Lunch
DESCRIPTION:When: 3rd Thursday \nTime: 11:30 Networking\, Lunch from Noon to 1:00 p.m. \nWhere: Churrascos – Memorial City (947 Gessner Rd. Suite B290\, Houston\, TX 77024) \nCost: $30 for a 3-Course Meal \nParking: $3 Valet or Complimentary Garage \n  \nJoin us at Churrasco’s – Memorial City on the third Thursday of each month for great conversation and delicious food. We highly encourage pre-registration\, but walk-ins are always welcome. \nCLICK HERE TO REGISTER \n  \nSponsored by: Mays Business School Center for Executive Development
URL:https://www.houstonags.org/event/memorial-lunch-3/2025-03-20/
LOCATION:Churrascos – Memorial City\, 947 Gessner Road\, Suite B-290\, Houston\, TX\, 77024
CATEGORIES:Lunches,Recurring Events
ATTACH;FMTTYPE=image/jpeg:https://www.houstonags.org/wp-content/uploads/2024/01/Memorial-Lunch-Mays.jpg
ORGANIZER;CN="Nick Terry '04":MAILTO:nick.terry@aggienetwork.com
GEO:29.783587;-95.544755
X-APPLE-STRUCTURED-LOCATION;VALUE=URI;X-ADDRESS=Churrascos – Memorial City 947 Gessner Road Suite B-290 Houston TX 77024;X-APPLE-RADIUS=500;X-TITLE=947 Gessner Road\, Suite B-290:geo:-95.544755,29.783587
END:VEVENT
BEGIN:VEVENT
DTSTART;TZID=America/Chicago:20250320T180000
DTEND;TZID=America/Chicago:20250320T210000
DTSTAMP:20260422T055409
CREATED:20250305T181229Z
LAST-MODIFIED:20250305T181229Z
UID:10000994-1742493600-1742504400@www.houstonags.org
SUMMARY:Cypress & Hockley Happy Hour
DESCRIPTION:Join fellow Aggies in the Northwest Houston area for a fun\, relaxed happy hour. No cost\, other than your own food & drink tab. It’s a great way to build relationships with local Aggies over cold drinks and DOMINOES. Bring a friend – everyone is welcome! \nWhen: Thursday\, March 20 \nWhere: World of Beer – Towne Lake (9945 Barker Cypress Rd.) \nTime: 6:00 – 9:00 p.m. \nNo RSVP required\, but encouraged to reserve the proper amount of space; email sterlingyourrealtor@gmail.com. \nClick here to follow the Cypress Aggies Facebook Page.
URL:https://www.houstonags.org/event/cypress-hockley-happy-hour-2/
LOCATION:World of Beer – Towne Lake\, 9945 Barker Cypress Rd\, Houston\, TX\, 77433\, United States
CATEGORIES:HAMCEvents,Happy Hours
ATTACH;FMTTYPE=image/png:https://www.houstonags.org/wp-content/uploads/2025/03/Cypress-Aggie-Happy-Hour-3.20.25.png
ORGANIZER;CN="Sterling Kellogg-Clarke '18":MAILTO:sterling.kelloggclarke@gmail.com
END:VEVENT
BEGIN:VEVENT
DTSTART;TZID=America/Chicago:20250326T180000
DTEND;TZID=America/Chicago:20250326T190000
DTSTAMP:20260422T055409
CREATED:20250320T030436Z
LAST-MODIFIED:20250320T131117Z
UID:10000997-1743012000-1743015600@www.houstonags.org
SUMMARY:Muster Volunteer Info Meeting
DESCRIPTION:We will have a brief meeting for Muster Volunteers on Wednesday\, March 26 from 6:00 – 7:00 p.m. @ Jax Grill (1613 Shepherd Drive\, just south of I-10).  A list of open roles for volunteers to choose from will be provided. \nEven if you have previously responded to our initial volunteer request via email\, please do your best to attend this short one-time meeting. Email hamcaggiemuster@gmail.com for additional info. \nIf you are looking to get involved with HAMC\, this is a great opportunity! \nAlso\, mark your calendar for Houston Aggie Muster on Monday\, April 21 at Bayou City Event Center! \n 
URL:https://www.houstonags.org/event/muster-volunteer-info-meeting/
LOCATION:Jax Grill\, 1613 Shepherd Drive\, Houston\, TX\, 77007
CATEGORIES:CAMP,HAMCEvents,Volunteer Opportunities
ATTACH;FMTTYPE=image/png:https://www.houstonags.org/wp-content/uploads/2025/03/Muster-Volunteer-Meeting-3.26.png
ORGANIZER;CN="Charles C McRae III %E2%80%9913":MAILTO:hamcaggiemuster@gmail.com
END:VEVENT
BEGIN:VEVENT
DTSTART;TZID=America/Chicago:20250327T180000
DTEND;TZID=America/Chicago:20250327T190000
DTSTAMP:20260422T055409
CREATED:20250320T025344Z
LAST-MODIFIED:20250320T131349Z
UID:10000996-1743098400-1743102000@www.houstonags.org
SUMMARY:Coach's Night Volunteer Meeting
DESCRIPTION:If you’ve ever wanted to get involved with Coach’s Night\, this is your chance! We still have leadership roles available\, and we’d love your help. \nJoin us for a Virtual Meeting on Thursday\, March 27 @ 6:00 p.m. to learn more about volunteer opportunities. Email Houstoncoachsnight@gmail.com for the link. Hope you can join us! \nBe sure to mark your calendar for Coach’s Night on Wednesday\, June 4 at Bayou City Event Center!
URL:https://www.houstonags.org/event/coachs-night-volunteer-meeting-8/
LOCATION:https://www.houstonags.org/event/coachs-night-volunteer-meeting-8/
ATTACH;FMTTYPE=image/png:https://www.houstonags.org/wp-content/uploads/2025/03/CN-Volunteer-Mtg-3.27-Calendar.png
ORGANIZER;CN="Dana Randolph '91":MAILTO:agladybug91@gmail.com
END:VEVENT
BEGIN:VEVENT
DTSTART;TZID=America/Chicago:20250403T113000
DTEND;TZID=America/Chicago:20250403T130000
DTSTAMP:20260422T055409
CREATED:20241216T043210Z
LAST-MODIFIED:20241216T043210Z
UID:10000915-1743679800-1743685200@www.houstonags.org
SUMMARY:The Woodlands Lunch
DESCRIPTION:When: First Thursday\nWhere: Churrasco’s – The Woodlands (21 Waterway Ave.\, The Woodlands\, TX 77380)\nTime: 11:30 Networking\, Lunch from Noon – 1:00 p.m.\nCost: $30 for a 3-Course Meal \nParking:  Available at the Waterway Ave. Parking Lot (18 Waterway Ave.) or at the 25 Waterway Garage (21 Waterway Ave.) \nJoin us at Churrasco’s – The Woodlands on the first Thursday of each month for great conversation and delicious food. We highly encourage pre-registration\, but walk-ins are always welcome. \nCLICK HERE TO REGISTER \nSponsored by: HR&P – Chris Fisher ‘98
URL:https://www.houstonags.org/event/the-woodlands-lunch-3/2025-04-03/
LOCATION:Churrascos – The Woodlands\, 21 Waterway Ave.\, The Woodlands\, TX\, 77380
CATEGORIES:Lunches,Recurring Events
ATTACH;FMTTYPE=image/jpeg:https://www.houstonags.org/wp-content/uploads/2024/01/The-Woodlands-Lunch-2.jpg
ORGANIZER;CN="Jose de Leon '06":MAILTO:jdeleon@venturieng.com
GEO:30.1602117;-95.4594875
X-APPLE-STRUCTURED-LOCATION;VALUE=URI;X-ADDRESS=Churrascos – The Woodlands 21 Waterway Ave. The Woodlands TX 77380;X-APPLE-RADIUS=500;X-TITLE=21 Waterway Ave.:geo:-95.4594875,30.1602117
END:VEVENT
END:VCALENDAR