BEGIN:VCALENDAR
VERSION:2.0
PRODID:-//Houston A&amp;M Club - ECPv6.15.20//NONSGML v1.0//EN
CALSCALE:GREGORIAN
METHOD:PUBLISH
X-WR-CALNAME:Houston A&amp;M Club
X-ORIGINAL-URL:https://www.houstonags.org
X-WR-CALDESC:Events for Houston A&amp;M Club
REFRESH-INTERVAL;VALUE=DURATION:PT1H
X-Robots-Tag:noindex
X-PUBLISHED-TTL:PT1H
BEGIN:VTIMEZONE
TZID:America/Chicago
BEGIN:DAYLIGHT
TZOFFSETFROM:-0600
TZOFFSETTO:-0500
TZNAME:CDT
DTSTART:20170312T080000
END:DAYLIGHT
BEGIN:STANDARD
TZOFFSETFROM:-0500
TZOFFSETTO:-0600
TZNAME:CST
DTSTART:20171105T070000
END:STANDARD
BEGIN:DAYLIGHT
TZOFFSETFROM:-0600
TZOFFSETTO:-0500
TZNAME:CDT
DTSTART:20180311T080000
END:DAYLIGHT
BEGIN:STANDARD
TZOFFSETFROM:-0500
TZOFFSETTO:-0600
TZNAME:CST
DTSTART:20181104T070000
END:STANDARD
BEGIN:DAYLIGHT
TZOFFSETFROM:-0600
TZOFFSETTO:-0500
TZNAME:CDT
DTSTART:20190310T080000
END:DAYLIGHT
BEGIN:STANDARD
TZOFFSETFROM:-0500
TZOFFSETTO:-0600
TZNAME:CST
DTSTART:20191103T070000
END:STANDARD
END:VTIMEZONE
BEGIN:VEVENT
DTSTART;TZID=America/Chicago:20180913T170000
DTEND;TZID=America/Chicago:20180913T190000
DTSTAMP:20260425T095930
CREATED:20180401T132230Z
LAST-MODIFIED:20181118T181659Z
UID:10000430-1536858000-1536865200@www.houstonags.org
SUMMARY:Woodlands Happy Hour
DESCRIPTION:Woodlands Happy Hour: \nWhen: 2nd Thursday \nTime: 5-7 p.m. (come & go) \nWhere: The Refuge\, 24 Waterway Avenue\, The Woodlands \nAggie-owned: Mark Zientek ’93 & Matt Kowalski ’92 \nCost: happy hour specials
URL:https://www.houstonags.org/event/woodlandshappyhour/2018-09-13/
LOCATION:The Refuge\, 24 Waterway Avenue\, The Woodlands\, TX\, 77380
CATEGORIES:Happy Hours,Recurring Events
ATTACH;FMTTYPE=image/png:https://www.houstonags.org/wp-content/uploads/2018/04/WoodlandsHappyHour-1500x500.png
ORGANIZER;CN="Reveille North Houston":MAILTO:phillip@seethebeacon.com
GEO:30.1608342;-95.4585322
X-APPLE-STRUCTURED-LOCATION;VALUE=URI;X-ADDRESS=The Refuge 24 Waterway Avenue The Woodlands TX 77380;X-APPLE-RADIUS=500;X-TITLE=24 Waterway Avenue:geo:-95.4585322,30.1608342
END:VEVENT
BEGIN:VEVENT
DTSTART;TZID=America/Chicago:20180919T113000
DTEND;TZID=America/Chicago:20180919T130000
DTSTAMP:20260425T095930
CREATED:20180401T132750Z
LAST-MODIFIED:20180701T194108Z
UID:10000436-1537356600-1537362000@www.houstonags.org
SUMMARY:Woodlands Lunch
DESCRIPTION:The Woodlands Lunch: \nWhen: 3rd Wednesday \nTime: 11:30 Networking\, Lunch from Noon to 1 p.m. \nWhere: Churrascos The Woodlands\, 21 Waterway Ave\, The Woodlands\, TX 77380 \nAggie-owned: Michael Cordua ’82 \nCost: $25 covers both lunch and dessert. \nParking: valet or garage
URL:https://www.houstonags.org/event/woodlandslunch/2018-09-19/
LOCATION:Churrascos – The Woodlands\, 21 Waterway Ave.\, The Woodlands\, TX\, 77380
CATEGORIES:Lunches,Recurring Events
ATTACH;FMTTYPE=image/png:https://www.houstonags.org/wp-content/uploads/2018/04/WoodlandsLunch2-1500x500.png
ORGANIZER;CN="Reveille North Houston":MAILTO:phillip@seethebeacon.com
GEO:30.1602117;-95.4594875
X-APPLE-STRUCTURED-LOCATION;VALUE=URI;X-ADDRESS=Churrascos – The Woodlands 21 Waterway Ave. The Woodlands TX 77380;X-APPLE-RADIUS=500;X-TITLE=21 Waterway Ave.:geo:-95.4594875,30.1602117
END:VEVENT
BEGIN:VEVENT
DTSTART;TZID=America/Chicago:20180919T180000
DTEND;TZID=America/Chicago:20180919T210000
DTSTAMP:20260425T095930
CREATED:20180911T155721Z
LAST-MODIFIED:20180911T155721Z
UID:10000463-1537380000-1537390800@www.houstonags.org
SUMMARY:Houston Aggie Women Wine Dinner
DESCRIPTION:Click Here for More Info
URL:https://www.houstonags.org/event/houston-aggie-women-wine-dinner/
LOCATION:Houston\, TX
ATTACH;FMTTYPE=image/png:https://www.houstonags.org/wp-content/uploads/2018/09/HAW-winedinner2018-1500x500.png
ORGANIZER;CN="Houston Aggie Women":MAILTO:jclark@melton-melton.com
END:VEVENT
END:VCALENDAR