BEGIN:VCALENDAR
VERSION:2.0
PRODID:-//Houston A&amp;M Club - ECPv6.15.20//NONSGML v1.0//EN
CALSCALE:GREGORIAN
METHOD:PUBLISH
X-WR-CALNAME:Houston A&amp;M Club
X-ORIGINAL-URL:https://www.houstonags.org
X-WR-CALDESC:Events for Houston A&amp;M Club
REFRESH-INTERVAL;VALUE=DURATION:PT1H
X-Robots-Tag:noindex
X-PUBLISHED-TTL:PT1H
BEGIN:VTIMEZONE
TZID:America/Chicago
BEGIN:DAYLIGHT
TZOFFSETFROM:-0600
TZOFFSETTO:-0500
TZNAME:CDT
DTSTART:20230312T080000
END:DAYLIGHT
BEGIN:STANDARD
TZOFFSETFROM:-0500
TZOFFSETTO:-0600
TZNAME:CST
DTSTART:20231105T070000
END:STANDARD
BEGIN:DAYLIGHT
TZOFFSETFROM:-0600
TZOFFSETTO:-0500
TZNAME:CDT
DTSTART:20240310T080000
END:DAYLIGHT
BEGIN:STANDARD
TZOFFSETFROM:-0500
TZOFFSETTO:-0600
TZNAME:CST
DTSTART:20241103T070000
END:STANDARD
BEGIN:DAYLIGHT
TZOFFSETFROM:-0600
TZOFFSETTO:-0500
TZNAME:CDT
DTSTART:20250309T080000
END:DAYLIGHT
BEGIN:STANDARD
TZOFFSETFROM:-0500
TZOFFSETTO:-0600
TZNAME:CST
DTSTART:20251102T070000
END:STANDARD
END:VTIMEZONE
BEGIN:VEVENT
DTSTART;TZID=America/Chicago:20241114T174500
DTEND;TZID=America/Chicago:20241114T200000
DTSTAMP:20260422T175928
CREATED:20241030T030157Z
LAST-MODIFIED:20241030T030157Z
UID:10000896-1731606300-1731614400@www.houstonags.org
SUMMARY:Cypress Aggie Army-Football
DESCRIPTION:Join fellow Aggies in the Northwest Houston area for an Army-Football game. Bring a friend – everyone is welcome for a fun\, relaxed evening! \nWhen: Thursday\, November 14 \nWhere: Towne Lake Baseball Field (Tuckerton @ Greenhouse) \nTime: 5:45 p.m. \n  \nNo RSVP required\, but encouraged for planning; email Sterling at sterlingyourrealtor@gmail.com \nClick here to follow the Cypress Aggie Facebook Page.
URL:https://www.houstonags.org/event/cypress-aggie-army-football/
LOCATION:Town Lake Baseball Field\, Cypress\, United States
CATEGORIES:HAMCEvents,Happy Hours
ATTACH;FMTTYPE=image/png:https://www.houstonags.org/wp-content/uploads/2024/10/Cypress-Aggie-Football-11.14.png
ORGANIZER;CN="Sterling Kellogg-Clarke '18":MAILTO:sterling.kelloggclarke@gmail.com
END:VEVENT
BEGIN:VEVENT
DTSTART;TZID=America/Chicago:20241116T080000
DTEND;TZID=America/Chicago:20241116T120000
DTSTAMP:20260422T175928
CREATED:20241024T012802Z
LAST-MODIFIED:20241024T012823Z
UID:10000889-1731744000-1731758400@www.houstonags.org
SUMMARY:Food Bank Saturday
DESCRIPTION:Come join us on Saturdays throughout the year at the Houston Food Bank\, where we will be working on various projects\, such as assembling community food boxes and back pack buddy bags. Anyone who wants to join us is welcome. Bring any Longhorns\, any other school’s alumni\, friends\, family or coworkers that are aimlessly wondering what to do on a Saturday. \nOn Saturday\, November 16\, we will have one Aggie Volunteer shift available: \nMorning Shift: 8:00 a.m. – Noon \nPlease wear Aggie gear so we can find you more easily! Upon arrival\, look for William Wade ’73\, one of our coordinators\, who will be decked out in Aggie gear\, including a 12th Man towel. All first-time volunteers receive one of our coveted and stylish Houston Aggie Volunteers t-shirts. \nDon’t forget that this can be used toward volunteering community service hours for those in high school\, college and other community organizations. Volunteer jobs vary in size and scope\, but the majority are done in air-conditioned areas and DO NOT involve substantial lifting. People with all levels of physical ability are welcome. \nFamilies (with anyone age 6 years or older) and friends are welcome. Age Requirements at the Warehouse are 6 years old chaperoned and 15 years old unchaperoned. \nNote: As this is a warehouse environment\, everyone must wear closed-toe shoes (no sling-backs)\, long shorts (to the knee) or pants\, and no low cut tops (OSHA regulations). If you would like to sign up or have questions\, please contact Jim Thorpe ’78.  Click here for more information on the Food Bank. \nDirections: Take I-10 east\, exit 774\, Gellhorn Dr (after McCarty St\, before 610 East Loop).  U-turn to feeder road heading west.  Turn right on Portwall St (green Houston Food Bank sign)\, turn right into parking lot in front of light green building (same area as HFB trucks and loading docks).  Park at the far end of the lot\, by the main entrance. \nRegister with the Houston Food Bank website for this shift by clicking here. (Be sure to save the information for future registration.) \nEvery Adult must register in the Food Bank system before volunteering. Please share this HFB Registration Link with adult volunteers to register with our Aggie group. \nIf you have trouble registering online\, or if the HFB website says that a shift is full\, please email William Wade ’73 and just show up anyway! HFB is always in need of volunteers\, and you can sign in upon arrival; no one is ever turned away! \nMinors (6 to 15 years old) will need a minor waiver form. These can be filled out at the front desk or contact Jim Thorpe ’78 to have one emailed to you.
URL:https://www.houstonags.org/event/food-bank-saturday-2-3/
LOCATION:Houston Food Bank\, 535 Portwall St\, Houston\, TX\, 77029\, United States
CATEGORIES:Food Bank,HAMCEvents,Volunteer Opportunities
ATTACH;FMTTYPE=image/jpeg:https://www.houstonags.org/wp-content/uploads/2024/01/Food-Bank-Sat-11.16.jpg
ORGANIZER;CN="Jim Thorpe '78":MAILTO:thorpejim@comcast.net
GEO:29.7811076;-95.2748108
X-APPLE-STRUCTURED-LOCATION;VALUE=URI;X-ADDRESS=Houston Food Bank 535 Portwall St Houston TX 77029 United States;X-APPLE-RADIUS=500;X-TITLE=535 Portwall St:geo:-95.2748108,29.7811076
END:VEVENT
BEGIN:VEVENT
DTSTART;TZID=America/Chicago:20241116T140000
DTEND;TZID=America/Chicago:20241116T163000
DTSTAMP:20260422T175928
CREATED:20241030T003234Z
LAST-MODIFIED:20241115T191944Z
UID:10000895-1731765600-1731774600@www.houstonags.org
SUMMARY:MSC Room Open House & Dedication
DESCRIPTION:The Houston A&M Club previously contributed to support the rebuild of the Memorial Student Center and a room was named for the us as part of this effort. To celebrate the donation\, including recently acquired artwork\, we are hosting an open house and dedication ceremony on Saturday\, November 16. \nThe room will be open from 2:00 – 4:30 pm. We will hold a brief ceremony with special guests at 3:00 pm. Afterwards\, you have plenty of time to attend your favorite tailgate or head straight to Kyle Field to watch the Aggies BTHO New Mexico State with kickoff at 6:45 pm. \nThe Houston A&M Club Room is #1401\, located on the first floor of the MSC\, immediately west of the cafeteria and next to the adjacent hallway which runs north south. If you need help finding the room\, please contact William Wade ’73 at wvwade@airmail.net or (832) 228-5430. \nWe are proud to enter our second century of service to Texas A&M\, its graduates\, its students\, and the greater Houston community. This invitation is open for all Aggies to join us on November 16 and share in our rich legacy.
URL:https://www.houstonags.org/event/msc-room-open-house-and-dedication/
LOCATION:Memorial Student Center\, 275 Joe Routt Blvd\, College Station\, TX\, 77843\, United States
ATTACH;FMTTYPE=image/png:https://www.houstonags.org/wp-content/uploads/2024/10/MSC-Room-Dedication-1500-x-500-px-2.png
ORGANIZER;CN="William Wade '73":MAILTO:wvwade@airmail.net
END:VEVENT
BEGIN:VEVENT
DTSTART;TZID=America/Chicago:20241120T170000
DTEND;TZID=America/Chicago:20241120T210000
DTSTAMP:20260422T175928
CREATED:20241024T010837Z
LAST-MODIFIED:20241024T010837Z
UID:10000894-1732122000-1732136400@www.houstonags.org
SUMMARY:Aggie Business\, Beer & Bones
DESCRIPTION:Join fellow Aggie professionals for a fun\, relaxed evening of camaraderie\, cold beers & cocktails\, dominoes\, and other bar games. No agenda. No presentations. No cost\, other than your own tab. It’s a great way to expand your network and build valuable relationships. \nCome celebrate the much-deserved success of Aggie football at our last Business\, Beer & Bones event of 2024\, just prior to Thanksgiving week and the highly anticipated game against t.u.! \nWhen: Wednesday\, November 20 \nWhere: Little Woodrow’s Katy (22225 Katy Fwy.) \nTime: 5:00 p.m. – 9:00 p.m. \nNo RSVP required\, but encouraged to reserve the proper amount of space; email jeffreina11@gmail.com. Click here to follow the Business\, Beer & Bones Facebook Page.
URL:https://www.houstonags.org/event/aggie-business-beer-bones-3/
LOCATION:Little Woodrow’s – Katy\, 22225 Katy Fwy\, Katy\, 77450\, United States
CATEGORIES:HAMCEvents,Happy Hours
ATTACH;FMTTYPE=image/png:https://www.houstonags.org/wp-content/uploads/2024/10/Business-Beer-Bones_Nov.png
ORGANIZER;CN="Jeff Reina '93":MAILTO:jeffreina11@gmail.com
END:VEVENT
BEGIN:VEVENT
DTSTART;TZID=America/Chicago:20241121T113000
DTEND;TZID=America/Chicago:20241121T130000
DTSTAMP:20260422T175928
CREATED:20240924T194355Z
LAST-MODIFIED:20240924T194355Z
UID:10000833-1732188600-1732194000@www.houstonags.org
SUMMARY:Memorial Lunch
DESCRIPTION:When: 3rd Thursday \nTime: 11:30 Networking\, Lunch from Noon to 1:00 p.m. \nWhere: Churrascos – Memorial City (947 Gessner Rd. Suite B290\, Houston\, TX 77024) \nCost: $30 for a 3-Course Meal \nParking: $3 Valet or Complimentary Garage \n  \nJoin us at Churrasco’s – Memorial City on the third Thursday of each month for great conversation and delicious food. We highly encourage pre-registration\, but walk-ins are always welcome. \nCLICK HERE TO REGISTER \n  \nSponsored by: Mays Business School Center for Executive Development
URL:https://www.houstonags.org/event/memorial-lunch-2-2/2024-11-21/
LOCATION:Churrascos – Memorial City\, 947 Gessner Road\, Suite B-290\, Houston\, TX\, 77024
CATEGORIES:Lunches,Recurring Events
ATTACH;FMTTYPE=image/jpeg:https://www.houstonags.org/wp-content/uploads/2024/01/Memorial-Lunch-Mays.jpg
ORGANIZER;CN="Nick Terry '04":MAILTO:nick.terry@aggienetwork.com
GEO:29.783587;-95.544755
X-APPLE-STRUCTURED-LOCATION;VALUE=URI;X-ADDRESS=Churrascos – Memorial City 947 Gessner Road Suite B-290 Houston TX 77024;X-APPLE-RADIUS=500;X-TITLE=947 Gessner Road\, Suite B-290:geo:-95.544755,29.783587
END:VEVENT
BEGIN:VEVENT
DTSTART;TZID=America/Chicago:20241121T180000
DTEND;TZID=America/Chicago:20241121T210000
DTSTAMP:20260422T175928
CREATED:20241115T020119Z
LAST-MODIFIED:20241115T020119Z
UID:10000897-1732212000-1732222800@www.houstonags.org
SUMMARY:November Aggie Happy Hour
DESCRIPTION:Get in the holiday spirit at our November Aggie Happy Hour! We are hosting with Houston Howdy Club at Kirby Icehouse – Upper Kirby (3333 Eastside St) on Thursday\, November 21 from 6 – 9 pm. \nCheers to drink specials and good times! We’ll see you there!
URL:https://www.houstonags.org/event/november-aggie-happy-hour/
LOCATION:Kirby Ice House\, 3333 Eastside St\, Houston\, TX\, 77098\, United States
CATEGORIES:Happy Hours,Recurring Events
ATTACH;FMTTYPE=image/png:https://www.houstonags.org/wp-content/uploads/2024/11/Howdy-Club_Nov.png
END:VEVENT
BEGIN:VEVENT
DTSTART;TZID=America/Chicago:20241201T090000
DTEND;TZID=America/Chicago:20241201T120000
DTSTAMP:20260422T175928
CREATED:20241118T033143Z
LAST-MODIFIED:20241118T033143Z
UID:10000898-1733043600-1733054400@www.houstonags.org
SUMMARY:Food Bank Sunday after t.u.
DESCRIPTION:Come join us on at the Houston Food Bank where we will be working on various projects\, such as assembling community food boxes and back pack buddy bags. \nAnyone who wants to join is welcome. Bring any Longhorns\, any other school’s alumni\, friends\, family or coworkers that are aimlessly wondering what to do on the Sunday after Thanksgiving. The Houston t-sips will be there\, and that means the Houston Aggie Volunteers will as well – win or lose. \nOn Sunday\, December 1\, we will have one shift available: \nMorning Shift: 9:00 a.m. – Noon \nPlease wear Aggie gear so we can find you more easily! Upon arrival\, look for William Wade ’73\, one of our coordinators\, who will be decked out in Aggie gear\, including a 12th Man towel. All first-time volunteers receive one of our coveted and stylish Houston Aggie Volunteers t-shirts. \nDon’t forget that this can be used toward volunteering community service hours for those in high school\, college and other community organizations. Volunteer jobs vary in size and scope\, but the majority are done in air-conditioned areas and DO NOT involve substantial lifting. People with all levels of physical ability are welcome. \nFamilies (with anyone age 6 years or older) and friends are welcome. Age Requirements at the Warehouse are 6 years old chaperoned and 15 years old unchaperoned. \nNote: As this is a warehouse environment\, everyone must wear closed-toe shoes (no sling-backs)\, long shorts (to the knee) or pants\, and no low cut tops (OSHA regulations). If you would like to sign up or have questions\, please contact Jim Thorpe ’78.  Click here for more information on the Food Bank. \nDirections: Take I-10 east\, exit 774\, Gellhorn Dr (after McCarty St\, before 610 East Loop).  U-turn to feeder road heading west.  Turn right on Portwall St (green Houston Food Bank sign)\, turn right into parking lot in front of light green building (same area as HFB trucks and loading docks).  Park at the far end of the lot\, by the main entrance. \nRegister with the Houston Food Bank website for this shift by clicking here. (Be sure to save the information for future registration.) \nEvery Adult must register in the Food Bank system before volunteering. Please share this HFB Registration Link with adult volunteers to register with our Aggie group. \nIf you have trouble registering online\, or if the HFB website says that a shift is full\, please email William Wade ’73 and just show up anyway! HFB is always in need of volunteers\, and you can sign in upon arrival; no one is ever turned away! \nMinors (6 to 15 years old) will need a minor waiver form. These can be filled out at the front desk or contact Jim Thorpe ’78 to have one emailed to you.
URL:https://www.houstonags.org/event/food-bank-sunday-after-t-u/
LOCATION:Houston Food Bank\, 535 Portwall St\, Houston\, TX\, 77029\, United States
CATEGORIES:Food Bank,HAMCEvents,Volunteer Opportunities
ATTACH;FMTTYPE=image/jpeg:https://www.houstonags.org/wp-content/uploads/2024/11/Food-Bank-Sun-12.1.jpg
ORGANIZER;CN="Jim Thorpe '78":MAILTO:thorpejim@comcast.net
GEO:29.7811076;-95.2748108
X-APPLE-STRUCTURED-LOCATION;VALUE=URI;X-ADDRESS=Houston Food Bank 535 Portwall St Houston TX 77029 United States;X-APPLE-RADIUS=500;X-TITLE=535 Portwall St:geo:-95.2748108,29.7811076
END:VEVENT
BEGIN:VEVENT
DTSTART;TZID=America/Chicago:20241205T113000
DTEND;TZID=America/Chicago:20241205T130000
DTSTAMP:20260422T175928
CREATED:20240127T221146Z
LAST-MODIFIED:20241001T193549Z
UID:10000824-1733398200-1733403600@www.houstonags.org
SUMMARY:The Woodlands Lunch
DESCRIPTION:When: First Thursday\nWhere: Churrasco’s – The Woodlands (21 Waterway Ave.\, The Woodlands\, TX 77380)\nTime: 11:30 Networking\, Lunch from Noon – 1:00 p.m.\nCost: $30 for a 3-Course Meal \nParking:  Available at the Waterway Ave. Parking Lot (18 Waterway Ave.) or at the 25 Waterway Garage (21 Waterway Ave.) \nJoin us at Churrasco’s – The Woodlands on the first Thursday of each month for great conversation and delicious food. We highly encourage pre-registration\, but walk-ins are always welcome. \nCLICK HERE TO REGISTER \nSponsored by: HR&P – Chris Fisher ‘98
URL:https://www.houstonags.org/event/the-woodlands-lunch-2/2024-12-05/
LOCATION:Churrascos – The Woodlands\, 21 Waterway Ave.\, The Woodlands\, TX\, 77380
CATEGORIES:Lunches,Recurring Events
ATTACH;FMTTYPE=image/jpeg:https://www.houstonags.org/wp-content/uploads/2024/01/The-Woodlands-Lunch-2.jpg
ORGANIZER;CN="Jose de Leon '06":MAILTO:jdeleon@venturieng.com
GEO:30.1602117;-95.4594875
X-APPLE-STRUCTURED-LOCATION;VALUE=URI;X-ADDRESS=Churrascos – The Woodlands 21 Waterway Ave. The Woodlands TX 77380;X-APPLE-RADIUS=500;X-TITLE=21 Waterway Ave.:geo:-95.4594875,30.1602117
END:VEVENT
BEGIN:VEVENT
DTSTART;TZID=America/Chicago:20241205T180000
DTEND;TZID=America/Chicago:20241205T200000
DTSTAMP:20260422T175928
CREATED:20241126T031536Z
LAST-MODIFIED:20241126T031803Z
UID:10000902-1733421600-1733428800@www.houstonags.org
SUMMARY:Cypress Aggie BYOB Pickleball
DESCRIPTION:Join fellow Aggies in the Cypress and Hockley area for a BYOB Pickleball outing. Bring a friend – everyone is welcome for a fun\, relaxed evening! \nWhen: Thursday\, December 5 \nWhere: Coles Crossing Pickleball/Tennis Courts (13810 Greenwood Manor Drive\, Cypress\, TX 77429) \nTime: 6:00 p.m. \n  \nNo RSVP required\, but encouraged for planning; email Sterling at sterlingyourrealtor@gmail.com \nClick here to follow the Cypress Aggie Facebook Page.
URL:https://www.houstonags.org/event/cypress-aggie-byob-pickleball/
LOCATION:TX
CATEGORIES:HAMCEvents,Happy Hours
ATTACH;FMTTYPE=image/png:https://www.houstonags.org/wp-content/uploads/2024/11/Cypress-Aggie-Pickleball-12.5.png
ORGANIZER;CN="Sterling Kellogg-Clarke '18":MAILTO:sterling.kelloggclarke@gmail.com
END:VEVENT
END:VCALENDAR