BEGIN:VCALENDAR
VERSION:2.0
PRODID:-//Houston A&amp;M Club - ECPv6.15.20//NONSGML v1.0//EN
CALSCALE:GREGORIAN
METHOD:PUBLISH
X-WR-CALNAME:Houston A&amp;M Club
X-ORIGINAL-URL:https://www.houstonags.org
X-WR-CALDESC:Events for Houston A&amp;M Club
REFRESH-INTERVAL;VALUE=DURATION:PT1H
X-Robots-Tag:noindex
X-PUBLISHED-TTL:PT1H
BEGIN:VTIMEZONE
TZID:America/Chicago
BEGIN:DAYLIGHT
TZOFFSETFROM:-0600
TZOFFSETTO:-0500
TZNAME:CDT
DTSTART:20230312T080000
END:DAYLIGHT
BEGIN:STANDARD
TZOFFSETFROM:-0500
TZOFFSETTO:-0600
TZNAME:CST
DTSTART:20231105T070000
END:STANDARD
BEGIN:DAYLIGHT
TZOFFSETFROM:-0600
TZOFFSETTO:-0500
TZNAME:CDT
DTSTART:20240310T080000
END:DAYLIGHT
BEGIN:STANDARD
TZOFFSETFROM:-0500
TZOFFSETTO:-0600
TZNAME:CST
DTSTART:20241103T070000
END:STANDARD
BEGIN:DAYLIGHT
TZOFFSETFROM:-0600
TZOFFSETTO:-0500
TZNAME:CDT
DTSTART:20250309T080000
END:DAYLIGHT
BEGIN:STANDARD
TZOFFSETFROM:-0500
TZOFFSETTO:-0600
TZNAME:CST
DTSTART:20251102T070000
END:STANDARD
END:VTIMEZONE
BEGIN:VEVENT
DTSTART;TZID=America/Chicago:20240817T080000
DTEND;TZID=America/Chicago:20240817T170000
DTSTAMP:20260422T202518
CREATED:20240128T071128Z
LAST-MODIFIED:20240723T174509Z
UID:10000886-1723881600-1723914000@www.houstonags.org
SUMMARY:Food Bank Saturday
DESCRIPTION:Come join us on Saturdays throughout the year at the Houston Food Bank\, where we will be working on various projects\, such as assembling community food boxes and back pack buddy bags. Anyone who wants to join us is welcome. Bring any Longhorns\, any other school’s alumni\, friends\, family or coworkers that are aimlessly wondering what to do on a Saturday. \nWe have two Aggie Volunteer shifts available: \nMorning Shift: 8:00 a.m. – Noon \nAfternoon Shift: 1:00 p.m. – 4:00 p.m. \nPlease wear Aggie gear so we can find you more easily! Upon arrival\, look for William Wade ’73\, one of our coordinators\, who will be decked out in Aggie gear\, including a 12th Man towel. All first-time volunteers receive one of our coveted and stylish Houston Aggie Volunteers t-shirts. \nDon’t forget that this can be used toward volunteering community service hours for those in high school\, college and other community organizations. Volunteer jobs vary in size and scope\, but the majority are done in air-conditioned areas and DO NOT involve substantial lifting. People with all levels of physical ability are welcome. \nFamilies (with anyone age 6 years or older) and friends are welcome. Age Requirements at the Warehouse are 6 years old chaperoned and 15 years old unchaperoned. \nNote: As this is a warehouse environment\, everyone must wear closed-toe shoes (no sling-backs)\, long shorts (to the knee) or pants\, and no low cut tops (OSHA regulations). If you would like to sign up or have questions\, please contact Jim Thorpe ’78.  Click here for more information on the Food Bank. \nDirections: Take I-10 east\, exit 774\, Gellhorn Dr (after McCarty St\, before 610 East Loop).  U-turn to feeder road heading west.  Turn right on Portwall St (green Houston Food Bank sign)\, turn right into parking lot in front of light green building (same area as HFB trucks and loading docks).  Park at the far end of the lot\, by the main entrance. \nRegister with the Houston Food Bank website for this shift by clicking here. (Be sure to save the information for future registration.) \nEvery Adult must register in the Food Bank system before volunteering. Please share this HFB Registration Link with adult volunteers to register with our Aggie group. \nIf you have trouble registering online\, or if the HFB website says that a shift is full\, please email William Wade ’73 and just show up anyway! HFB is always in need of volunteers\, and you can sign in upon arrival; no one is ever turned away! \nMinors (6 to 15 years old) will need a minor waiver form. These can be filled out at the front desk or contact Jim Thorpe ’78 to have one emailed to you.
URL:https://www.houstonags.org/event/food-bank-saturday-2/2024-08-17/
LOCATION:Houston Food Bank\, 535 Portwall St\, Houston\, TX\, 77029\, United States
CATEGORIES:Food Bank,HAMCEvents,Volunteer Opportunities
ATTACH;FMTTYPE=image/jpeg:https://www.houstonags.org/wp-content/uploads/2024/01/Food-Bank-Saturday.jpg
ORGANIZER;CN="Jim Thorpe '78":MAILTO:thorpejim@comcast.net
GEO:29.7811076;-95.2748108
X-APPLE-STRUCTURED-LOCATION;VALUE=URI;X-ADDRESS=Houston Food Bank 535 Portwall St Houston TX 77029 United States;X-APPLE-RADIUS=500;X-TITLE=535 Portwall St:geo:-95.2748108,29.7811076
END:VEVENT
BEGIN:VEVENT
DTSTART;TZID=America/Chicago:20240821T160000
DTEND;TZID=America/Chicago:20240821T183000
DTSTAMP:20260422T202518
CREATED:20240626T220155Z
LAST-MODIFIED:20240722T184528Z
UID:10000876-1724256000-1724265000@www.houstonags.org
SUMMARY:Chancellor's Century Council Reception
DESCRIPTION:The Houston A&M Club is invited to an exclusive reception at EnMed\, Texas A&M University\, School of Engineering Medicine. \nChancellor Sharp will share an A&M System update\, and special guest Dr. Roderic Pettigrew\, Vice Chancellor for Health and Strategic Initiatives\, will tell us about the work being done at EnMed. \n  \nWhen: Wednesday\, August 21 \nWhere: Texas A&M College of Engineering Medicine\, 17th Floor (1020 Holcombe Blvd\, Houston\, TX 77030) \nTime: 4:00 p.m. – 6:30 p.m. \n  \nParking is available in the Horizon Garage. \nHors d’oeuvres and drinks will be served. \nRSVP to CCC@tamus.edu or 979-458-6020.
URL:https://www.houstonags.org/event/chancellors-century-council-reception/
LOCATION:Texas A&M School of Engineering Medicine\, 1020 Holcombe Blvd\, Houston\, TX\, 77030\, United States
CATEGORIES:HAMCEvents,Happy Hours
ATTACH;FMTTYPE=image/jpeg:https://www.houstonags.org/wp-content/uploads/2024/06/EnMed-CCC-Invite-Calendar-2.jpg
ORGANIZER;CN="Chancellor's Century Council":MAILTO:CCC@tamus.edu
END:VEVENT
BEGIN:VEVENT
DTSTART;TZID=America/Chicago:20240828T170000
DTEND;TZID=America/Chicago:20240828T210000
DTSTAMP:20260422T202518
CREATED:20240819T210933Z
LAST-MODIFIED:20240819T210933Z
UID:10000892-1724864400-1724878800@www.houstonags.org
SUMMARY:Aggie Business\, Beer & Bones
DESCRIPTION:Join fellow Aggie professionals for a fun\, relaxed evening of camaraderie\, cold beers & cocktails\, dominoes\, and other bar games. No agenda. No presentations.  No cost\, other than your own tab. It’s a great way to expand your network and build valuable relationships\, as well as prepare to BTHO Notre Dame! \nWhen: Wednesday\, August 28 \nWhere: Little Woodrow’s Katy (22225 Katy Fwy.) \nTime: 5:00 p.m. – 9:00 p.m. \nNo RSVP required\, but encouraged to reserve the proper amount of space; email jeffreina11@gmail.com. Click here to follow the Business\, Beer & Bones Facebook Page.
URL:https://www.houstonags.org/event/aggie-business-beer-bones-2/
LOCATION:Little Woodrow’s – Katy\, 22225 Katy Fwy\, Katy\, 77450\, United States
CATEGORIES:HAMCEvents,Happy Hours
ATTACH;FMTTYPE=image/jpeg:https://www.houstonags.org/wp-content/uploads/2024/02/Business-Beer-Bones_August.jpg
ORGANIZER;CN="Jeff Reina '93":MAILTO:jeffreina11@gmail.com
END:VEVENT
BEGIN:VEVENT
DTSTART;TZID=America/Chicago:20240828T180000
DTEND;TZID=America/Chicago:20240828T220000
DTSTAMP:20260422T202518
CREATED:20240708T135037Z
LAST-MODIFIED:20240708T195636Z
UID:10000878-1724868000-1724882400@www.houstonags.org
SUMMARY:All SEC Happy Hour
DESCRIPTION:Calling all HOUSTON-AREA SEC ALUMNI \nJoin us for a Happy Hour benefiting Kids’ Meals \nFree Admission — Simply participate in our Juice Box Challenge by bringing a package or two of 100% Juice Juice Boxes for the worthy cause. Bragging rights and prizes for the university that donates the most! \nCome together\, celebrate memories and place a friendly wager on the frog races at Houston’s SEC alumni gathering! \n  \nDate: Wednesday\, August 28\, 2024 \nLocation: Austin’s Backyard in the Heights (221 W 20th\, Houston 77008) \nTime: Come & Go starting at 6pm\, Frog Races at 8pm \nCost: Bring 100% Juice Juice Boxes for free admission \n 
URL:https://www.houstonags.org/event/all-sec-happy-hour/
LOCATION:Austin’s Backyard\, 1221 W. 20th Street\, Houston\, TX\, 77008
CATEGORIES:HAMCEvents,Happy Hours,Special Events
ATTACH;FMTTYPE=image/jpeg:https://www.houstonags.org/wp-content/uploads/2024/07/SEC-Happy-Hour-1.jpg
ORGANIZER;CN="David Quackenbush '84":MAILTO:president@houstonags.com
END:VEVENT
END:VCALENDAR