BEGIN:VCALENDAR
VERSION:2.0
PRODID:-//Houston A&amp;M Club - ECPv6.15.20//NONSGML v1.0//EN
CALSCALE:GREGORIAN
METHOD:PUBLISH
X-WR-CALNAME:Houston A&amp;M Club
X-ORIGINAL-URL:https://www.houstonags.org
X-WR-CALDESC:Events for Houston A&amp;M Club
REFRESH-INTERVAL;VALUE=DURATION:PT1H
X-Robots-Tag:noindex
X-PUBLISHED-TTL:PT1H
BEGIN:VTIMEZONE
TZID:America/Chicago
BEGIN:DAYLIGHT
TZOFFSETFROM:-0600
TZOFFSETTO:-0500
TZNAME:CDT
DTSTART:20200308T080000
END:DAYLIGHT
BEGIN:STANDARD
TZOFFSETFROM:-0500
TZOFFSETTO:-0600
TZNAME:CST
DTSTART:20201101T070000
END:STANDARD
BEGIN:DAYLIGHT
TZOFFSETFROM:-0600
TZOFFSETTO:-0500
TZNAME:CDT
DTSTART:20210314T080000
END:DAYLIGHT
BEGIN:STANDARD
TZOFFSETFROM:-0500
TZOFFSETTO:-0600
TZNAME:CST
DTSTART:20211107T070000
END:STANDARD
BEGIN:DAYLIGHT
TZOFFSETFROM:-0600
TZOFFSETTO:-0500
TZNAME:CDT
DTSTART:20220313T080000
END:DAYLIGHT
BEGIN:STANDARD
TZOFFSETFROM:-0500
TZOFFSETTO:-0600
TZNAME:CST
DTSTART:20221106T070000
END:STANDARD
BEGIN:DAYLIGHT
TZOFFSETFROM:-0600
TZOFFSETTO:-0500
TZNAME:CDT
DTSTART:20230312T080000
END:DAYLIGHT
BEGIN:STANDARD
TZOFFSETFROM:-0500
TZOFFSETTO:-0600
TZNAME:CST
DTSTART:20231105T070000
END:STANDARD
END:VTIMEZONE
BEGIN:VEVENT
DTSTART;TZID=America/Chicago:20211027T180000
DTEND;TZID=America/Chicago:20211027T220000
DTSTAMP:20260422T173137
CREATED:20210927T171320Z
LAST-MODIFIED:20211005T182534Z
UID:10000679-1635357600-1635372000@www.houstonags.org
SUMMARY:100th Anniversary of Texas A&M's 12th Man
DESCRIPTION:The Houston A&M Club is partnering with the Houston Touchdown Club for this special evening honoring “Touchdowner of the Year\,” legendary coach Jackie Sherrill\, and celebrating the 100 years of Aggie Football since the storied game where E. King Gill came out of the crowd to stand on the sidelines beginning the Texas A&M’s 12th Man tradition. \n  \nDate: Wednesday\, October 27 \nDoors Open: 6:00 P.M. \nDinner and Program: 7:00 P.M. \nLocation: Bayou City Event Center \n  \nThe evening will include dinner\, a silent auction featuring Aggie sports memorabilia and a special program that includes former Gov. Rick Perry ’72\, former Miami Dolphin All-Pro and Texas A&M All-American Richmond Webb ’93\, and former All-Southwest Conference line backer Reggie Brown ’99. \n  \nTable Sponsorships (seats 10) and Individual Tickets are Available for Purchase: \nPlatinum – $2\,500 (Also Includes 10 Tickets to VIP Reception and Commemorative Football) \nGold – $1\,500 \nSilver – $1\,000 \nBronze – $750 \nIndividual Tickets – $50 \n  \nCLICK HERE to Visit the Ticketing Site (site hosted by the Touchdown Club) \n  \nIf you would like more information on sponsorship opportunities or would like to volunteer at the event\, please contact Erin Bain ’04 at erin.phillips.bain@aggienetwork.com.
URL:https://www.houstonags.org/event/100th-anniversary-of-texas-ams-12th-man/
LOCATION:Bayou City Event Center\, 9401 Knight Rd\, Houston\, TX\, 77045\, United States
CATEGORIES:HAMCEvents,Special Events
ATTACH;FMTTYPE=image/png:https://www.houstonags.org/wp-content/uploads/2021/09/100th-Anniversary-12th-Man-1.png
ORGANIZER;CN="Erin Bain '04":MAILTO:erin.phillips.bain@aggienetwork.com
GEO:29.669194;-95.3989453
X-APPLE-STRUCTURED-LOCATION;VALUE=URI;X-ADDRESS=Bayou City Event Center 9401 Knight Rd Houston TX 77045 United States;X-APPLE-RADIUS=500;X-TITLE=9401 Knight Rd:geo:-95.3989453,29.669194
END:VEVENT
BEGIN:VEVENT
DTSTART;TZID=America/Chicago:20211102T080000
DTEND;TZID=America/Chicago:20211102T210000
DTSTAMP:20260422T173137
CREATED:20191028T195150Z
LAST-MODIFIED:20220103T173145Z
UID:10000576-1635840000-1635886800@www.houstonags.org
SUMMARY:Food Bank 2021
DESCRIPTION:AGE REQUIREMENTS at the Warehouse\, 6 years old chaperoned\, 15 years old unchaperoned. \nCome join us the First Tuesday of each month at the Houston Food Bank\, where we will be working on various projects\, such as assembling community food boxes and back pack buddy bags. Anyone that wants to join us is welcome. Wear your Aggie gear and please grab any Longhorns and any other school’s alumni\, friends\, family or coworkers that are aimlessly wondering what to do on a Tuesday. \nWhen you arrive look for William Wade ’73 who will be fully decked out in Aggie gear including a 12th Man towel. \nStarting on Tuesday\, March 2\, 2021\, we will be welcoming Aggies ALL DAY on first Tuesdays with the following shifts: \nMorning Shift: 8:00 a.m. – Noon \nAfternoon Shift: 1:00-4:30 p.m. (Currently Not Available) \nEvening Shift: 6-9:00 p.m. \nDon’t forget that this can be used toward volunteering community service hours for those in high school\, college and other community organizations. By registering in the Food Bank’s system\, the hours can be tracked throughout the year and downloaded at any time or pickup the certificate at the end of each shift before you leave. \nFamilies (with anyone age 6 years or older) and friends are welcome. Since it is a warehouse environment\, everyone must wear closed-toe shoes (no sling-backs)\, long shorts (to the knee) or pants\, and no low cut tops (OSHA regulations). If you would like to sign up or have questions\, please contact Jim Thorpe ’78.  Click here for more information on the Food Bank. \nDirections to location: Take I-10 east\, exit 774\, Gellhorn Dr (after McCarty St\, before 610 East Loop).  U-turn to feeder road heading west.  Turn right on Portwall St (green Houston Food Bank sign)\, turn right into parking lot in front of light green building (same area as HFB trucks and loading docks).  Park at the far end of the lot\, by the main entrance. \nRegister with the Houston Food Bank website for this shift by clicking here.  (Be sure to save the information for future registration). \nEvery Adult must register in their system before volunteering.  Please share this link with adult volunteers in order to register with our group. \nMinors (6 to 15 years old) will need a minor waiver form. These can be filled out at the front desk or contact Jim Thorpe to have one emailed to you.
URL:https://www.houstonags.org/event/food-bank-2020-11/2021-11-02/
LOCATION:HOUSTON FOOD BANK 535 Portwall St Houston\, TX 77029 United States\, 535 Portwall St\, Houston\, TX\, 77029\, United States
CATEGORIES:Food Bank,HAMCEvents,Recurring Events,Volunteer Opportunities
ATTACH;FMTTYPE=image/png:https://www.houstonags.org/wp-content/uploads/2019/10/FoodBank1500x500.png
ORGANIZER;CN="Jim Thorpe '78":MAILTO:thorpejim@comcast.net
END:VEVENT
BEGIN:VEVENT
DTSTART;TZID=America/Chicago:20211108T180000
DTEND;TZID=America/Chicago:20211108T210000
DTSTAMP:20260422T173137
CREATED:20210927T163102Z
LAST-MODIFIED:20220404T184054Z
UID:10000678-1636394400-1636405200@www.houstonags.org
SUMMARY:An Evening with President Katherine Banks
DESCRIPTION:The date for the 2022 Evening with the President has not been set. Watch for more details in our Club updates. \n  \nThe Houston A&M Club is proud to host Texas A&M University’s 26th President\, Dr. Katherine Banks\, on Monday\, November 8 at the Post Oak Grille. This special engagement includes a 4-course meal and remarks will be made by Dr. Banks. Seating is limited and early reservations are highly recommended. \nTickets are available for purchase below. \nThank you to our sponsors: Brent Vannoy ’88\, Partner\, Hughes Watters Askanase and Barney Gershen ’69\, Gershen Consulting\, President & Owner \n\n      \n        \n      \n    \n 
URL:https://www.houstonags.org/event/an-evening-with-president-katherine-banks/
LOCATION:Post Oak Grill\, 1415 S. Post Oak Lane\, Houston\, TX\, 77056
ATTACH;FMTTYPE=image/png:https://www.houstonags.org/wp-content/uploads/2021/09/1500-x-500-HAMC-NIGHT-WITH-THE-PRESIDENT-2021.png
ORGANIZER;CN="Nellie Smith '94":MAILTO:nelliesmith94@aggienetwork.com
GEO:29.7537197;-95.4624452
X-APPLE-STRUCTURED-LOCATION;VALUE=URI;X-ADDRESS=Post Oak Grill 1415 S. Post Oak Lane Houston TX 77056;X-APPLE-RADIUS=500;X-TITLE=1415 S. Post Oak Lane:geo:-95.4624452,29.7537197
END:VEVENT
BEGIN:VEVENT
DTSTART;TZID=America/Chicago:20211118T113000
DTEND;TZID=America/Chicago:20211118T130000
DTSTAMP:20260422T173137
CREATED:20201022T181115Z
LAST-MODIFIED:20210706T165320Z
UID:10000641-1637235000-1637240400@www.houstonags.org
SUMMARY:Memorial Lunch
DESCRIPTION:Memorial Meet & Greet Lunch:   \nWhen: 3RD THURSDAY \nTime: 11:30 Networking\, Lunch from Noon to 1 p.m. \nWhere:  Churrascos Memorial City\, 947 Gessner Rd B290\, Houston\, TX 77024 \nCost: $25 covers both lunch and dessert. \nParking: $3 valet or complimentary garage \nSPONSORED BY: K3 Renovations and Simply Organized \n     \nChurrascos is following all health and safety guidelines set by the state and the health department to ensure your safety. \nWe ask that all our guests: \n\nTake your temperature and if 99.5 degrees and above\, please stay home\nIf you or any member of your household shows signs of illness of any kind\, please choose to stay home
URL:https://www.houstonags.org/event/memorial-lunch/2021-11-18/
LOCATION:Churrascos – Memorial City\, 947 Gessner Road\, Suite B-290\, Houston\, TX\, 77024
CATEGORIES:HAMCEvents,Lunches,Recurring Events
ATTACH;FMTTYPE=image/png:https://www.houstonags.org/wp-content/uploads/2020/10/Copy-of-Memorial-Lunch-3-1.png
ORGANIZER;CN="Nick Terry '04":MAILTO:nick.terry@aggienetwork.com
GEO:29.783587;-95.544755
X-APPLE-STRUCTURED-LOCATION;VALUE=URI;X-ADDRESS=Churrascos – Memorial City 947 Gessner Road Suite B-290 Houston TX 77024;X-APPLE-RADIUS=500;X-TITLE=947 Gessner Road\, Suite B-290:geo:-95.544755,29.783587
END:VEVENT
BEGIN:VEVENT
DTSTART;TZID=America/Chicago:20211207T080000
DTEND;TZID=America/Chicago:20211207T210000
DTSTAMP:20260422T173137
CREATED:20191028T195150Z
LAST-MODIFIED:20220103T173145Z
UID:10000577-1638864000-1638910800@www.houstonags.org
SUMMARY:Food Bank 2021
DESCRIPTION:AGE REQUIREMENTS at the Warehouse\, 6 years old chaperoned\, 15 years old unchaperoned. \nCome join us the First Tuesday of each month at the Houston Food Bank\, where we will be working on various projects\, such as assembling community food boxes and back pack buddy bags. Anyone that wants to join us is welcome. Wear your Aggie gear and please grab any Longhorns and any other school’s alumni\, friends\, family or coworkers that are aimlessly wondering what to do on a Tuesday. \nWhen you arrive look for William Wade ’73 who will be fully decked out in Aggie gear including a 12th Man towel. \nStarting on Tuesday\, March 2\, 2021\, we will be welcoming Aggies ALL DAY on first Tuesdays with the following shifts: \nMorning Shift: 8:00 a.m. – Noon \nAfternoon Shift: 1:00-4:30 p.m. (Currently Not Available) \nEvening Shift: 6-9:00 p.m. \nDon’t forget that this can be used toward volunteering community service hours for those in high school\, college and other community organizations. By registering in the Food Bank’s system\, the hours can be tracked throughout the year and downloaded at any time or pickup the certificate at the end of each shift before you leave. \nFamilies (with anyone age 6 years or older) and friends are welcome. Since it is a warehouse environment\, everyone must wear closed-toe shoes (no sling-backs)\, long shorts (to the knee) or pants\, and no low cut tops (OSHA regulations). If you would like to sign up or have questions\, please contact Jim Thorpe ’78.  Click here for more information on the Food Bank. \nDirections to location: Take I-10 east\, exit 774\, Gellhorn Dr (after McCarty St\, before 610 East Loop).  U-turn to feeder road heading west.  Turn right on Portwall St (green Houston Food Bank sign)\, turn right into parking lot in front of light green building (same area as HFB trucks and loading docks).  Park at the far end of the lot\, by the main entrance. \nRegister with the Houston Food Bank website for this shift by clicking here.  (Be sure to save the information for future registration). \nEvery Adult must register in their system before volunteering.  Please share this link with adult volunteers in order to register with our group. \nMinors (6 to 15 years old) will need a minor waiver form. These can be filled out at the front desk or contact Jim Thorpe to have one emailed to you.
URL:https://www.houstonags.org/event/food-bank-2020-11/2021-12-07/
LOCATION:HOUSTON FOOD BANK 535 Portwall St Houston\, TX 77029 United States\, 535 Portwall St\, Houston\, TX\, 77029\, United States
CATEGORIES:Food Bank,HAMCEvents,Recurring Events,Volunteer Opportunities
ATTACH;FMTTYPE=image/png:https://www.houstonags.org/wp-content/uploads/2019/10/FoodBank1500x500.png
ORGANIZER;CN="Jim Thorpe '78":MAILTO:thorpejim@comcast.net
END:VEVENT
BEGIN:VEVENT
DTSTART;TZID=America/Chicago:20211216T113000
DTEND;TZID=America/Chicago:20211216T130000
DTSTAMP:20260422T173137
CREATED:20201022T181115Z
LAST-MODIFIED:20210706T165320Z
UID:10000642-1639654200-1639659600@www.houstonags.org
SUMMARY:Memorial Lunch
DESCRIPTION:Memorial Meet & Greet Lunch:   \nWhen: 3RD THURSDAY \nTime: 11:30 Networking\, Lunch from Noon to 1 p.m. \nWhere:  Churrascos Memorial City\, 947 Gessner Rd B290\, Houston\, TX 77024 \nCost: $25 covers both lunch and dessert. \nParking: $3 valet or complimentary garage \nSPONSORED BY: K3 Renovations and Simply Organized \n     \nChurrascos is following all health and safety guidelines set by the state and the health department to ensure your safety. \nWe ask that all our guests: \n\nTake your temperature and if 99.5 degrees and above\, please stay home\nIf you or any member of your household shows signs of illness of any kind\, please choose to stay home
URL:https://www.houstonags.org/event/memorial-lunch/2021-12-16/
LOCATION:Churrascos – Memorial City\, 947 Gessner Road\, Suite B-290\, Houston\, TX\, 77024
CATEGORIES:HAMCEvents,Lunches,Recurring Events
ATTACH;FMTTYPE=image/png:https://www.houstonags.org/wp-content/uploads/2020/10/Copy-of-Memorial-Lunch-3-1.png
ORGANIZER;CN="Nick Terry '04":MAILTO:nick.terry@aggienetwork.com
GEO:29.783587;-95.544755
X-APPLE-STRUCTURED-LOCATION;VALUE=URI;X-ADDRESS=Churrascos – Memorial City 947 Gessner Road Suite B-290 Houston TX 77024;X-APPLE-RADIUS=500;X-TITLE=947 Gessner Road\, Suite B-290:geo:-95.544755,29.783587
END:VEVENT
BEGIN:VEVENT
DTSTART;TZID=America/Chicago:20220104T080000
DTEND;TZID=America/Chicago:20220104T210000
DTSTAMP:20260422T173137
CREATED:20220103T173647Z
LAST-MODIFIED:20220429T142000Z
UID:10000691-1641283200-1641330000@www.houstonags.org
SUMMARY:Food Bank Volunteer Days 2022
DESCRIPTION:AGE REQUIREMENTS at the Warehouse\, 6 years old chaperoned\, 15 years old unchaperoned. \nCome join us the Second Tuesday of each month at the Houston Food Bank\, where we will be working on various projects\, such as assembling community food boxes and back pack buddy bags. Anyone that wants to join us is welcome. Wear your Aggie gear and please grab any Longhorns and any other school’s alumni\, friends\, family or coworkers that are aimlessly wondering what to do on a Tuesday. \nWhen you arrive look for William Wade ’73 who will be fully decked out in Aggie gear including a 12th Man towel. \nWe currently have two shifts available on first Tuesdays: \nMorning Shift: 8:00 a.m. – Noon \nAfternoon Shift: 1:00 p.m.-4:30 p.m. \nEvening Shift: 6-9:00 p.m. \nDon’t forget that this can be used toward volunteering community service hours for those in high school\, college and other community organizations. By registering in the Food Bank’s system\, the hours can be tracked throughout the year and downloaded at any time or pickup the certificate at the end of each shift before you leave. \nFamilies (with anyone age 6 years or older) and friends are welcome. Since it is a warehouse environment\, everyone must wear closed-toe shoes (no sling-backs)\, long shorts (to the knee) or pants\, and no low cut tops (OSHA regulations). If you would like to sign up or have questions\, please contact Jim Thorpe ’78.  Click here for more information on the Food Bank. \nDirections to location: Take I-10 east\, exit 774\, Gellhorn Dr (after McCarty St\, before 610 East Loop).  U-turn to feeder road heading west.  Turn right on Portwall St (green Houston Food Bank sign)\, turn right into parking lot in front of light green building (same area as HFB trucks and loading docks).  Park at the far end of the lot\, by the main entrance. \nRegister with the Houston Food Bank website for this shift by clicking here.  (Be sure to save the information for future registration). \nEvery Adult must register in their system before volunteering.  Please share this link with adult volunteers in order to register with our group. \nMinors (6 to 15 years old) will need a minor waiver form. These can be filled out at the front desk or contact Jim Thorpe to have one emailed to you.
URL:https://www.houstonags.org/event/food-bank-volunteer-days-2022/2022-01-04/
LOCATION:Houston Food Bank\, 535 Portwall St\, Houston\, TX\, 77029\, United States
CATEGORIES:Food Bank,HAMCEvents,Recurring Events,Volunteer Opportunities
ATTACH;FMTTYPE=image/png:https://www.houstonags.org/wp-content/uploads/2021/06/1.png
ORGANIZER;CN="Jim Thorpe '78":MAILTO:thorpejim@comcast.net
GEO:29.7811076;-95.2748108
X-APPLE-STRUCTURED-LOCATION;VALUE=URI;X-ADDRESS=Houston Food Bank 535 Portwall St Houston TX 77029 United States;X-APPLE-RADIUS=500;X-TITLE=535 Portwall St:geo:-95.2748108,29.7811076
END:VEVENT
BEGIN:VEVENT
DTSTART;TZID=America/Chicago:20220110T113000
DTEND;TZID=America/Chicago:20220110T130000
DTSTAMP:20260422T173137
CREATED:20220103T170951Z
LAST-MODIFIED:20220224T165352Z
UID:10000681-1641814200-1641819600@www.houstonags.org
SUMMARY:Traditions Lunch 2022
DESCRIPTION:Sponsored by Brent Vannoy ’88\, Partner\, Hughes Watters Askanase \nDate: 2nd Monday of the Month \nTime: 11:30 Networking\, Lunch from Noon to 1 p.m. \nWhere: Grotto\, 4715 Westheimer Rd\, Houston\, TX 77027 \nCost: $25 covers both lunch and dessert \nParking: Valet or complimentary self-parking available \nGrotto is following all health and safety guidelines set by the state and the health department to ensure your safety. \nWe ask that our guests: \n\nTake your temperature and if 99.5 degrees and above\, please stay home\nIf you or any member of your household shows signs of illness of any kind\, please choose to stay home\nTo meet restaurant capacity requirements\, online RESERVATIONS are recommended by Friday\, January 7 at noon.\n\nThis is an in-person activity. Every attendee must evaluate their unique circumstances and make an informed decision before attending in-person activities. The Houston A&M Club recommends that no one in the higher-risk category take part in-person. Anyone who feels sick must Stay Home. If you become sick or develop symptoms\, isolate yourself then go home and seek care. The Houston A&M Club cannot make any guarantees of safety and you are attending at your own risk.
URL:https://www.houstonags.org/event/traditions-lunch-2022/2022-01-10/
LOCATION:Grotto Ristorante\, 4715 Westheimer Rd\, Houston\, TX\, 77027
CATEGORIES:HAMCEvents,Lunches,Recurring Events
ATTACH;FMTTYPE=image/png:https://www.houstonags.org/wp-content/uploads/2022/01/Traditions-Lunch-Marketing-2021-22.png
ORGANIZER;CN="Gabbi McDowell-Skelton '18":MAILTO:gabbimcdowell2018@gmail.com
GEO:29.74046;-95.4567314
X-APPLE-STRUCTURED-LOCATION;VALUE=URI;X-ADDRESS=Grotto Ristorante 4715 Westheimer Rd Houston TX 77027;X-APPLE-RADIUS=500;X-TITLE=4715 Westheimer Rd:geo:-95.4567314,29.74046
END:VEVENT
BEGIN:VEVENT
DTSTART;TZID=America/Chicago:20220111T080000
DTEND;TZID=America/Chicago:20220111T210000
DTSTAMP:20260422T173137
CREATED:20221118T171558Z
LAST-MODIFIED:20221118T171558Z
UID:10000695-1641888000-1641934800@www.houstonags.org
SUMMARY:Food Bank Volunteer Days 2022
DESCRIPTION:AGE REQUIREMENTS at the Warehouse\, 6 years old chaperoned\, 15 years old unchaperoned. \nCome join us the Second Tuesday of each month at the Houston Food Bank\, where we will be working on various projects\, such as assembling community food boxes and back pack buddy bags. Anyone that wants to join us is welcome. Wear your Aggie gear and please grab any Longhorns and any other school’s alumni\, friends\, family or coworkers that are aimlessly wondering what to do on a Tuesday. \nWhen you arrive look for William Wade ’73 who will be fully decked out in Aggie gear including a 12th Man towel. \nWe currently have two shifts available on first Tuesdays: \nMorning Shift: 8:00 a.m. – Noon \nAfternoon Shift: 1:00 p.m.-4:30 p.m. \nEvening Shift: 6-9:00 p.m. \nDon’t forget that this can be used toward volunteering community service hours for those in high school\, college and other community organizations. By registering in the Food Bank’s system\, the hours can be tracked throughout the year and downloaded at any time or pickup the certificate at the end of each shift before you leave. \nFamilies (with anyone age 6 years or older) and friends are welcome. Since it is a warehouse environment\, everyone must wear closed-toe shoes (no sling-backs)\, long shorts (to the knee) or pants\, and no low cut tops (OSHA regulations). If you would like to sign up or have questions\, please contact Jim Thorpe ’78.  Click here for more information on the Food Bank. \nDirections to location: Take I-10 east\, exit 774\, Gellhorn Dr (after McCarty St\, before 610 East Loop).  U-turn to feeder road heading west.  Turn right on Portwall St (green Houston Food Bank sign)\, turn right into parking lot in front of light green building (same area as HFB trucks and loading docks).  Park at the far end of the lot\, by the main entrance. \nRegister with the Houston Food Bank website for this shift by clicking here.  (Be sure to save the information for future registration). \nEvery Adult must register in their system before volunteering.  Please share this link with adult volunteers in order to register with our group. \nMinors (6 to 15 years old) will need a minor waiver form. These can be filled out at the front desk or contact Jim Thorpe to have one emailed to you.
URL:https://www.houstonags.org/event/food-bank-volunteer-days-2022/2022-01-11/
LOCATION:Houston Food Bank\, 535 Portwall St\, Houston\, TX\, 77029\, United States
CATEGORIES:Food Bank,HAMCEvents,Recurring Events,Volunteer Opportunities
ATTACH;FMTTYPE=image/png:https://www.houstonags.org/wp-content/uploads/2021/06/1.png
ORGANIZER;CN="Jim Thorpe '78":MAILTO:thorpejim@comcast.net
GEO:29.7811076;-95.2748108
X-APPLE-STRUCTURED-LOCATION;VALUE=URI;X-ADDRESS=Houston Food Bank 535 Portwall St Houston TX 77029 United States;X-APPLE-RADIUS=500;X-TITLE=535 Portwall St:geo:-95.2748108,29.7811076
END:VEVENT
BEGIN:VEVENT
DTSTART;TZID=America/Chicago:20220120T113000
DTEND;TZID=America/Chicago:20220120T130000
DTSTAMP:20260422T173137
CREATED:20220107T172948Z
LAST-MODIFIED:20231004T190600Z
UID:10000707-1642678200-1642683600@www.houstonags.org
SUMMARY:Memorial Lunch Meet & Greet
DESCRIPTION:When: 3RD THURSDAY OF THE MONTH Time: 11:30 Networking\, Lunch from Noon to 1 p.m. Where:  Churrascos Memorial City\, 947 Gessner Rd B290\, Houston\, TX 77024 Cost: $30 for this 3-Course Meal Parking: $3 valet or complimentary garage SPONSORED BY: K3 Renovations  CLICK HERE TO REGISTER
URL:https://www.houstonags.org/event/memorial-lunch-meet-greet/2022-01-20/
LOCATION:Churrascos – Memorial City\, 947 Gessner Road\, Suite B-290\, Houston\, TX\, 77024
CATEGORIES:HAMCEvents,Lunches,Recurring Events
ATTACH;FMTTYPE=image/png:https://www.houstonags.org/wp-content/uploads/2022/01/Copy-of-Memorial-Lunch-2-3.png
ORGANIZER;CN="Nick Terry '04":MAILTO:nick.terry@aggienetwork.com
GEO:29.783587;-95.544755
X-APPLE-STRUCTURED-LOCATION;VALUE=URI;X-ADDRESS=Churrascos – Memorial City 947 Gessner Road Suite B-290 Houston TX 77024;X-APPLE-RADIUS=500;X-TITLE=947 Gessner Road\, Suite B-290:geo:-95.544755,29.783587
END:VEVENT
END:VCALENDAR