BEGIN:VCALENDAR
VERSION:2.0
PRODID:-//Houston A&amp;M Club - ECPv6.15.20//NONSGML v1.0//EN
CALSCALE:GREGORIAN
METHOD:PUBLISH
X-WR-CALNAME:Houston A&amp;M Club
X-ORIGINAL-URL:https://www.houstonags.org
X-WR-CALDESC:Events for Houston A&amp;M Club
REFRESH-INTERVAL;VALUE=DURATION:PT1H
X-Robots-Tag:noindex
X-PUBLISHED-TTL:PT1H
BEGIN:VTIMEZONE
TZID:America/Chicago
BEGIN:DAYLIGHT
TZOFFSETFROM:-0600
TZOFFSETTO:-0500
TZNAME:CDT
DTSTART:20180311T080000
END:DAYLIGHT
BEGIN:STANDARD
TZOFFSETFROM:-0500
TZOFFSETTO:-0600
TZNAME:CST
DTSTART:20181104T070000
END:STANDARD
BEGIN:DAYLIGHT
TZOFFSETFROM:-0600
TZOFFSETTO:-0500
TZNAME:CDT
DTSTART:20190310T080000
END:DAYLIGHT
BEGIN:STANDARD
TZOFFSETFROM:-0500
TZOFFSETTO:-0600
TZNAME:CST
DTSTART:20191103T070000
END:STANDARD
BEGIN:DAYLIGHT
TZOFFSETFROM:-0600
TZOFFSETTO:-0500
TZNAME:CDT
DTSTART:20200308T080000
END:DAYLIGHT
BEGIN:STANDARD
TZOFFSETFROM:-0500
TZOFFSETTO:-0600
TZNAME:CST
DTSTART:20201101T070000
END:STANDARD
END:VTIMEZONE
BEGIN:VEVENT
DTSTART;TZID=America/Chicago:20190227T113000
DTEND;TZID=America/Chicago:20190227T130000
DTSTAMP:20260425T163846
CREATED:20181222T144318Z
LAST-MODIFIED:20191205T181616Z
UID:10000469-1551267000-1551272400@www.houstonags.org
SUMMARY:Memorial Lunch 2019
DESCRIPTION:Memorial Meet & Greet Lunch:   \nWhen: 4th Wednesday \nTime: 11:30 Networking\, Lunch from Noon to 1 p.m. \nWhere:  Churrascos Memorial City\, 947 Gessner Rd B290\, Houston\, TX 77024 \nAggie-owned: Michael Cordua ’82 \nCost: $25 covers both lunch and dessert. \nParking: $3 valet or complimentary garage \n\n\n\n\n\n\n\n\n\n\n\n \n\n\nClick here to buy ticketsSell tickets online with Ticket Tailor
URL:https://www.houstonags.org/event/memorial2019/2019-02-27/
LOCATION:Churrascos – Memorial City\, 947 Gessner Road\, Suite B-290\, Houston\, TX\, 77024
CATEGORIES:HAMCEvents,Lunches,Recurring Events
ATTACH;FMTTYPE=image/png:https://www.houstonags.org/wp-content/uploads/2018/04/Memorial-Lunch.png
ORGANIZER;CN="Nick Terry '04":MAILTO:nick.terry@aggienetwork.com
GEO:29.783587;-95.544755
X-APPLE-STRUCTURED-LOCATION;VALUE=URI;X-ADDRESS=Churrascos – Memorial City 947 Gessner Road Suite B-290 Houston TX 77024;X-APPLE-RADIUS=500;X-TITLE=947 Gessner Road\, Suite B-290:geo:-95.544755,29.783587
END:VEVENT
BEGIN:VEVENT
DTSTART;TZID=America/Chicago:20190304T180000
DTEND;TZID=America/Chicago:20190304T200000
DTSTAMP:20260425T163846
CREATED:20181222T150048Z
LAST-MODIFIED:20191125T173508Z
UID:10000510-1551722400-1551729600@www.houstonags.org
SUMMARY:Leadership Brainstorming 2019
DESCRIPTION:Leadership Brainstorming Meeting: \nWhen: 1st Monday of every month \nTime: 6 p.m. to 8 p.m. \nWhere: Pizzatola’s Bar-B-Cue\,1703 Shepherd Dr\, Houston\, TX 77007 \nAggie-owned: Jerry Pizzitola ’64 \nCost: Free for Chairs and Event Volunteers (you can volunteer during dinner) \nParking: complimentary
URL:https://www.houstonags.org/event/leadership-brainstorming-2019/2019-03-04/
LOCATION:Pizzitola’s Bar-B-Cue\, 1703 Shepherd Dr\, Houston\, TX\, 77007
CATEGORIES:Board Meetings,HAMCEvents,Leadership,Volunteer Opportunities
ATTACH;FMTTYPE=image/png:https://www.houstonags.org/wp-content/uploads/2018/03/Leadership-Meeting1500x500.png
GEO:29.7758221;-95.4098474
X-APPLE-STRUCTURED-LOCATION;VALUE=URI;X-ADDRESS=Pizzitola’s Bar-B-Cue 1703 Shepherd Dr Houston TX 77007;X-APPLE-RADIUS=500;X-TITLE=1703 Shepherd Dr:geo:-95.4098474,29.7758221
END:VEVENT
END:VCALENDAR