BEGIN:VCALENDAR
VERSION:2.0
PRODID:-//Houston A&amp;M Club - ECPv6.15.20//NONSGML v1.0//EN
CALSCALE:GREGORIAN
METHOD:PUBLISH
X-WR-CALNAME:Houston A&amp;M Club
X-ORIGINAL-URL:https://www.houstonags.org
X-WR-CALDESC:Events for Houston A&amp;M Club
REFRESH-INTERVAL;VALUE=DURATION:PT1H
X-Robots-Tag:noindex
X-PUBLISHED-TTL:PT1H
BEGIN:VTIMEZONE
TZID:America/Chicago
BEGIN:DAYLIGHT
TZOFFSETFROM:-0600
TZOFFSETTO:-0500
TZNAME:CDT
DTSTART:20220313T080000
END:DAYLIGHT
BEGIN:STANDARD
TZOFFSETFROM:-0500
TZOFFSETTO:-0600
TZNAME:CST
DTSTART:20221106T070000
END:STANDARD
BEGIN:DAYLIGHT
TZOFFSETFROM:-0600
TZOFFSETTO:-0500
TZNAME:CDT
DTSTART:20230312T080000
END:DAYLIGHT
BEGIN:STANDARD
TZOFFSETFROM:-0500
TZOFFSETTO:-0600
TZNAME:CST
DTSTART:20231105T070000
END:STANDARD
BEGIN:DAYLIGHT
TZOFFSETFROM:-0600
TZOFFSETTO:-0500
TZNAME:CDT
DTSTART:20240310T080000
END:DAYLIGHT
BEGIN:STANDARD
TZOFFSETFROM:-0500
TZOFFSETTO:-0600
TZNAME:CST
DTSTART:20241103T070000
END:STANDARD
END:VTIMEZONE
BEGIN:VEVENT
DTSTART;TZID=America/Chicago:20230508T170000
DTEND;TZID=America/Chicago:20230508T220000
DTSTAMP:20260424T101245
CREATED:20230421T160542Z
LAST-MODIFIED:20230504T153906Z
UID:10000787-1683565200-1683583200@www.houstonags.org
SUMMARY:Coach's Night 2023
DESCRIPTION:2023 Houston A&M Club Coach’s Night Presented by Frost Bank\n\nFeaturing Jimbo Fisher\nMonday\, May 8\, 2023\nBayou City Event Center\nJoin us for an evening of Aggie camaraderie and football chatter.\nRegistration is now open!\nCLICK HERE to visit our Registration Site!
URL:https://www.houstonags.org/event/coachs-night-2023/
LOCATION:Bayou City Event Center\, 9401 Knight Rd\, Houston\, TX\, 77045\, United States
CATEGORIES:Coach's Night,HAMCEvents,Special Events
ATTACH;FMTTYPE=image/png:https://www.houstonags.org/wp-content/uploads/2023/04/1258x502.png
ORGANIZER;CN="Dana Randolph '91":MAILTO:agladybug91@gmail.com
GEO:29.669194;-95.3989453
X-APPLE-STRUCTURED-LOCATION;VALUE=URI;X-ADDRESS=Bayou City Event Center 9401 Knight Rd Houston TX 77045 United States;X-APPLE-RADIUS=500;X-TITLE=9401 Knight Rd:geo:-95.3989453,29.669194
END:VEVENT
END:VCALENDAR