BEGIN:VCALENDAR
VERSION:2.0
PRODID:-//Houston A&amp;M Club - ECPv6.15.20//NONSGML v1.0//EN
CALSCALE:GREGORIAN
METHOD:PUBLISH
X-ORIGINAL-URL:https://www.houstonags.org
X-WR-CALDESC:Events for Houston A&amp;M Club
REFRESH-INTERVAL;VALUE=DURATION:PT1H
X-Robots-Tag:noindex
X-PUBLISHED-TTL:PT1H
BEGIN:VTIMEZONE
TZID:America/Chicago
BEGIN:DAYLIGHT
TZOFFSETFROM:-0600
TZOFFSETTO:-0500
TZNAME:CDT
DTSTART:20240310T080000
END:DAYLIGHT
BEGIN:STANDARD
TZOFFSETFROM:-0500
TZOFFSETTO:-0600
TZNAME:CST
DTSTART:20241103T070000
END:STANDARD
BEGIN:DAYLIGHT
TZOFFSETFROM:-0600
TZOFFSETTO:-0500
TZNAME:CDT
DTSTART:20250309T080000
END:DAYLIGHT
BEGIN:STANDARD
TZOFFSETFROM:-0500
TZOFFSETTO:-0600
TZNAME:CST
DTSTART:20251102T070000
END:STANDARD
BEGIN:DAYLIGHT
TZOFFSETFROM:-0600
TZOFFSETTO:-0500
TZNAME:CDT
DTSTART:20260308T080000
END:DAYLIGHT
BEGIN:STANDARD
TZOFFSETFROM:-0500
TZOFFSETTO:-0600
TZNAME:CST
DTSTART:20261101T070000
END:STANDARD
BEGIN:DAYLIGHT
TZOFFSETFROM:-0600
TZOFFSETTO:-0500
TZNAME:CDT
DTSTART:20270314T080000
END:DAYLIGHT
BEGIN:STANDARD
TZOFFSETFROM:-0500
TZOFFSETTO:-0600
TZNAME:CST
DTSTART:20271107T070000
END:STANDARD
END:VTIMEZONE
BEGIN:VEVENT
DTSTART;TZID=America/Chicago:20250814T180000
DTEND;TZID=America/Chicago:20250814T210000
DTSTAMP:20260421T213327
CREATED:20250728T214935Z
LAST-MODIFIED:20250806T050137Z
UID:10001020-1755194400-1755205200@www.houstonags.org
SUMMARY:Cypress & Hockley Happy Hour
DESCRIPTION:Join fellow Aggies in the Northwest Houston area for a fun\, relaxed happy hour. No cost\, other than your own food & drink tab. It’s a great way to build relationships with local Aggies over cold drinks and dominoes. Bring a friend – everyone is welcome! \nWhen: Thursday\, August 14 \nWhere: World of Beer – Towne Lake (9945 Barker Cypress Rd.) \nTime: 6:00 – 9:00 p.m. \nNo RSVP required\, but encouraged to reserve the proper amount of space; email sterlingyourrealtor@gmail.com. \nClick here to follow the Cypress Aggies Facebook Page.
URL:https://www.houstonags.org/event/cypress-hockley-happy-hour-6/
LOCATION:World of Beer – Towne Lake\, 9945 Barker Cypress Rd\, Houston\, TX\, 77433\, United States
CATEGORIES:HAMCEvents,Happy Hours
ATTACH;FMTTYPE=image/png:https://www.houstonags.org/wp-content/uploads/2025/07/Cypress-Aggie-Happy-Hour-8.14-1.png
ORGANIZER;CN="Sterling Kellogg-Clarke '18":MAILTO:sterling.kelloggclarke@gmail.com
END:VEVENT
BEGIN:VEVENT
DTSTART;TZID=America/Chicago:20250827T180000
DTEND;TZID=America/Chicago:20250827T200000
DTSTAMP:20260421T213327
CREATED:20250611T125014Z
LAST-MODIFIED:20250723T185628Z
UID:10001008-1756317600-1756324800@www.houstonags.org
SUMMARY:Breaking Tradition Screening @ Star Cinema Grill
DESCRIPTION:Join the Houston A&M Club and TexAgs for a screening of “Breaking Tradition: The Hugh McElroy Story” on Wednesday\, August 27 at Star Cinema Grill CityCenter. \nThe film is a documentary by TexAgs and Texas FilmWorks about Hugh McElroy ’71\, a Texas A&M student-athlete in the 1960s who chose to break from his family’s military legacy during a time of social change. \nSeating is limited for this exclusive engagement featuring remarks by Hugh following the screening. \nRegister Here: https://texags.com/s/68176/houston-am-club-partners-with-texags-for-breaking-tradition-screening. \nNote: If you do not have a TexAgs account\, please create a free account to register for tickets. \nSponsored by: Nick Terry ’04\, Rifle CRE & J. Michael Goodwin ’03\, The Goodwin Group at Merrill Lynch
URL:https://www.houstonags.org/event/breaking-tradition-screening-star-cinema-grill/
LOCATION:Star Cinema Grill CityCenter\, 822 Town and Country Blvd\, Houston\, TX\, 77024\, United States
CATEGORIES:Football Watch Party,HAMCEvents,Happy Hours,Special Events
ATTACH;FMTTYPE=image/jpeg:https://www.houstonags.org/wp-content/uploads/2025/06/houston_club-sponsor.jpg
ORGANIZER;CN="Melinda Bertrand '03":MAILTO:melinda@houstonags.com
END:VEVENT
BEGIN:VEVENT
DTSTART;TZID=America/Chicago:20250828T180000
DTEND;TZID=America/Chicago:20250828T200000
DTSTAMP:20260421T213327
CREATED:20250820T003829Z
LAST-MODIFIED:20250820T122303Z
UID:10001026-1756404000-1756411200@www.houstonags.org
SUMMARY:Cypress Aggie Pickleball Social
DESCRIPTION:Join fellow Aggies in the Cypress and Hockley area for a Pickleball social. Buy any alcoholic drink and open play is free! \nWhen: Thursday\, August 28 \nWhere: Pickleball Social – Cypress (15819 Tuckerton Road\, Houston\, TX 77095) \nTime: 6:00 p.m. \n  \nNo RSVP required\, but encouraged for planning; email Sterling at sterling.kelloggclarke@gmail.com  \nClick here to follow the Cypress Aggie Facebook Page.
URL:https://www.houstonags.org/event/cypress-aggie-pickleball-social/
LOCATION:Pickleball Social Cypress\, 15819 Tuckerton Rd.\, Houston\, Texas\, 77095
CATEGORIES:HAMCEvents,Happy Hours
ATTACH;FMTTYPE=image/png:https://www.houstonags.org/wp-content/uploads/2025/08/Cypress-Aggie-Pickleball-8.28.png
ORGANIZER;CN="Sterling Kellogg-Clarke '18":MAILTO:sterling.kelloggclarke@gmail.com
END:VEVENT
BEGIN:VEVENT
DTSTART;TZID=America/Chicago:20250925T180000
DTEND;TZID=America/Chicago:20250925T200000
DTSTAMP:20260421T213327
CREATED:20250902T211503Z
LAST-MODIFIED:20250902T211503Z
UID:10001027-1758823200-1758830400@www.houstonags.org
SUMMARY:Cypress Aggie Happy Hour & Pickleball
DESCRIPTION:Join fellow Aggies in the Cypress and Hockley area for a Pickleball social. Buy any alcoholic drink and open play is free! \nWhen: Thursday\, September 25 \nWhere: Pickleball Social – Cypress (15819 Tuckerton Road\, Houston\, TX 77095) \nTime: 6:00 p.m. \n  \nNo RSVP required\, but encouraged for planning; email Sterling at sterling.kelloggclarke@gmail.com  \nClick here to follow the Cypress Aggie Facebook Page.
URL:https://www.houstonags.org/event/cypress-aggie-happy-hour-pickleball/
LOCATION:Pickleball Social Cypress\, 15819 Tuckerton Rd.\, Houston\, Texas\, 77095
CATEGORIES:HAMCEvents,Happy Hours
ATTACH;FMTTYPE=image/png:https://www.houstonags.org/wp-content/uploads/2025/09/Cypress-Aggie-Pickleball-9.25.png
ORGANIZER;CN="Sterling Kellogg-Clarke '18":MAILTO:sterling.kelloggclarke@gmail.com
END:VEVENT
BEGIN:VEVENT
DTSTART;TZID=America/Chicago:20251009T170000
DTEND;TZID=America/Chicago:20251009T210000
DTSTAMP:20260421T213327
CREATED:20251001T010002Z
LAST-MODIFIED:20251001T010002Z
UID:10001028-1760029200-1760043600@www.houstonags.org
SUMMARY:Aggie Business\, Beer & Bones
DESCRIPTION:Join fellow Aggie professionals for a fun\, relaxed evening of camaraderie\, cold beers & cocktails\, dominoes\, and other bar games. No agenda. No presentations. No cost\, other than your own tab. It’s a great way to expand your network and build valuable relationships. \nWhen: Thursday\, October 9 \nWhere: Brass Tap Katy (7109 Katy Gaston Road\, Richmond. Near the Westpark Tollway & Grand Parkway) \nTime: 5:00 p.m. – 9:00 p.m. \n** We are pleased to support a local Aggie-owned business! \nNo RSVP required\, but encouraged to reserve the proper amount of space; email jeffreina11@gmail.com. Click here to follow the Business\, Beer & Bones Facebook Page.
URL:https://www.houstonags.org/event/aggie-business-beer-bones-6/
LOCATION:Brass Tap Katy\, 7109 Katy Gaston Road\, Richmond\, TX\, 77406
CATEGORIES:HAMCEvents,Happy Hours
ATTACH;FMTTYPE=image/png:https://www.houstonags.org/wp-content/uploads/2025/09/Business-Beer-Bones_Oct-25.png
ORGANIZER;CN="Jeff Reina '93":MAILTO:jeffreina11@gmail.com
END:VEVENT
BEGIN:VEVENT
DTSTART;TZID=America/Chicago:20251023T180000
DTEND;TZID=America/Chicago:20251023T200000
DTSTAMP:20260421T213327
CREATED:20251001T032730Z
LAST-MODIFIED:20251001T032730Z
UID:10001030-1761242400-1761249600@www.houstonags.org
SUMMARY:Cypress Aggie Happy Hour & Pickleball
DESCRIPTION:Join fellow Aggies in the Cypress and Hockley area for a Pickleball social. Buy any alcoholic drink and open play is free! \nWhen: Thursday\, October 23 \nWhere: Pickleball Social – Cypress (15819 Tuckerton Road\, Houston\, TX 77095) \nTime: 6:00 p.m. \n  \nNo RSVP required\, but encouraged for planning; email Sterling at sterling.kelloggclarke@gmail.com  \nClick here to follow the Cypress Aggie Facebook Page.
URL:https://www.houstonags.org/event/cypress-aggie-happy-hour-pickleball-2/
LOCATION:Pickleball Social Cypress\, 15819 Tuckerton Rd.\, Houston\, Texas\, 77095
CATEGORIES:HAMCEvents,Happy Hours
ATTACH;FMTTYPE=image/png:https://www.houstonags.org/wp-content/uploads/2025/09/Cypress-Aggie-Pickleball-10.23-1.png
ORGANIZER;CN="Sterling Kellogg-Clarke '18":MAILTO:sterling.kelloggclarke@gmail.com
END:VEVENT
BEGIN:VEVENT
DTSTART;TZID=America/Chicago:20251120T180000
DTEND;TZID=America/Chicago:20251120T200000
DTSTAMP:20260421T213327
CREATED:20251106T200551Z
LAST-MODIFIED:20251106T200551Z
UID:10001033-1763661600-1763668800@www.houstonags.org
SUMMARY:Cypress Aggie Happy Hour & Pickleball
DESCRIPTION:Join fellow Aggies in the Cypress and Hockley area for Happy Hour\, Pickleball\, and 42 Dominoes. Buy any alcoholic drink and open play is free! \nWhen: Thursday\, November 20 \nWhere: Pickleball Social – Cypress (15819 Tuckerton Road\, Houston\, TX 77095) \nTime: 6:00 p.m. \n  \nNo RSVP required\, but encouraged for planning; email Sterling at sterling.kelloggclarke@gmail.com  \nClick here to follow the Cypress Aggie Facebook Page.
URL:https://www.houstonags.org/event/cypress-aggie-happy-hour-pickleball-3/
LOCATION:Pickleball Social Cypress\, 15819 Tuckerton Rd.\, Houston\, Texas\, 77095
CATEGORIES:HAMCEvents,Happy Hours
ATTACH;FMTTYPE=image/png:https://www.houstonags.org/wp-content/uploads/2025/11/Cypress-Aggie-Pickleball-11.20.png
ORGANIZER;CN="Sterling Kellogg-Clarke '18":MAILTO:sterling.kelloggclarke@gmail.com
END:VEVENT
BEGIN:VEVENT
DTSTART;TZID=America/Chicago:20251218T180000
DTEND;TZID=America/Chicago:20251218T200000
DTSTAMP:20260421T213327
CREATED:20251125T045019Z
LAST-MODIFIED:20251125T045019Z
UID:10001037-1766080800-1766088000@www.houstonags.org
SUMMARY:Cypress Aggie Happy Hour & Pickleball
DESCRIPTION:Join fellow Aggies in the Cypress and Hockley area for Happy Hour\, Pickleball\, and 42 Dominoes. Buy any alcoholic drink and open play is free! \nWhen: Thursday\, December 18 \nWhere: Pickleball Social – Cypress (15819 Tuckerton Road\, Houston\, TX 77095) \nTime: 6:00 p.m. \n  \nNo RSVP required\, but encouraged for planning; email Sterling at sterling.kelloggclarke@gmail.com  \nClick here to follow the Cypress Aggie Facebook Page.
URL:https://www.houstonags.org/event/cypress-aggie-happy-hour-pickleball-4/
LOCATION:Pickleball Social Cypress\, 15819 Tuckerton Rd.\, Houston\, Texas\, 77095
CATEGORIES:HAMCEvents,Happy Hours
ATTACH;FMTTYPE=image/png:https://www.houstonags.org/wp-content/uploads/2025/11/Cypress-Aggie-Pickleball-12.18.png
ORGANIZER;CN="Sterling Kellogg-Clarke '18":MAILTO:sterling.kelloggclarke@gmail.com
END:VEVENT
BEGIN:VEVENT
DTSTART;TZID=America/Chicago:20260122T180000
DTEND;TZID=America/Chicago:20260122T200000
DTSTAMP:20260421T213327
CREATED:20251229T181346Z
LAST-MODIFIED:20251229T181346Z
UID:10001039-1769104800-1769112000@www.houstonags.org
SUMMARY:Cypress Aggie Happy Hour & Pickleball
DESCRIPTION:Join fellow Aggies in the Cypress and Hockley area for Happy Hour\, Pickleball\, and 42 Dominoes. Buy any alcoholic drink and open play is free! \nWhen: Thursday\, January 22 \nWhere: Pickleball Social – Cypress (15819 Tuckerton Road\, Houston\, TX 77095) \nTime: 6:00 p.m. \n  \nNo RSVP required\, but encouraged for planning; email Sterling at sterling.kelloggclarke@gmail.com  \nClick here to follow the Cypress Aggie Facebook Page.
URL:https://www.houstonags.org/event/cypress-aggie-happy-hour-pickleball-5/
LOCATION:Pickleball Social Cypress\, 15819 Tuckerton Rd.\, Houston\, Texas\, 77095
CATEGORIES:HAMCEvents,Happy Hours
ATTACH;FMTTYPE=image/png:https://www.houstonags.org/wp-content/uploads/2025/12/Cypress-Aggie-Pickleball-1.22.png
ORGANIZER;CN="Sterling Kellogg-Clarke '18":MAILTO:sterling.kelloggclarke@gmail.com
END:VEVENT
BEGIN:VEVENT
DTSTART;TZID=America/Chicago:20260219T180000
DTEND;TZID=America/Chicago:20260219T200000
DTSTAMP:20260421T213327
CREATED:20260217T035733Z
LAST-MODIFIED:20260217T035733Z
UID:10001160-1771524000-1771531200@www.houstonags.org
SUMMARY:Cypress Aggie Happy Hour & Pickleball
DESCRIPTION:Join fellow Aggies in the Cypress and Hockley area for Happy Hour\, Pickleball\, and 42 Dominoes. Buy any alcoholic drink and open play is free! \nWhen: Thursday\, February 19 \nWhere: Pickleball Social – Cypress (15819 Tuckerton Road\, Houston\, TX 77095) \nTime: 6:00 p.m. \n  \nNo RSVP required\, but encouraged for planning; email Sterling at sterling.kelloggclarke@gmail.com  \nClick here to follow the Cypress Aggie Facebook Page.
URL:https://www.houstonags.org/event/cypress-aggie-happy-hour-pickleball-6/
LOCATION:Pickleball Social Cypress\, 15819 Tuckerton Rd.\, Houston\, Texas\, 77095
CATEGORIES:HAMCEvents,Happy Hours
ATTACH;FMTTYPE=image/png:https://www.houstonags.org/wp-content/uploads/2026/02/Cypress-Aggie-Pickleball-2.19.png
ORGANIZER;CN="Sterling Kellogg-Clarke '18":MAILTO:sterling.kelloggclarke@gmail.com
END:VEVENT
BEGIN:VEVENT
DTSTART;TZID=America/Chicago:20260326T180000
DTEND;TZID=America/Chicago:20260326T200000
DTSTAMP:20260421T213327
CREATED:20260318T024427Z
LAST-MODIFIED:20260318T024427Z
UID:10001170-1774548000-1774555200@www.houstonags.org
SUMMARY:Cypress Aggie Happy Hour & Pickleball
DESCRIPTION:Join fellow Aggies in the Cypress and Hockley area for Happy Hour\, Pickleball\, and 42 Dominoes. Buy any alcoholic drink and open play is free! \nWhen: Thursday\, March 26 \nWhere: Pickleball Social – Cypress (15819 Tuckerton Road\, Houston\, TX 77095) \nTime: 6:00 p.m. \n  \nNo RSVP required\, but encouraged for planning; email Sterling at sterling.kelloggclarke@gmail.com  \nClick here to follow the Cypress Aggie Facebook Page.
URL:https://www.houstonags.org/event/cypress-aggie-happy-hour-pickleball-7/
LOCATION:Pickleball Social Cypress\, 15819 Tuckerton Rd.\, Houston\, Texas\, 77095
CATEGORIES:HAMCEvents,Happy Hours
ATTACH;FMTTYPE=image/png:https://www.houstonags.org/wp-content/uploads/2026/03/Cypress-Aggie-Pickleball-3.19.png
ORGANIZER;CN="Sterling Kellogg-Clarke '18":MAILTO:sterling.kelloggclarke@gmail.com
END:VEVENT
BEGIN:VEVENT
DTSTART;TZID=America/Chicago:20260423T190000
DTEND;TZID=America/Chicago:20260423T210000
DTSTAMP:20260421T213327
CREATED:20260415T021421Z
LAST-MODIFIED:20260415T021435Z
UID:10001175-1776970800-1776978000@www.houstonags.org
SUMMARY:Cypress Aggie BYOB Pickleball
DESCRIPTION:Join fellow Aggies in the Cypress and Hockley area for Happy Hour\, Pickleball\, and 42 Dominoes. The venue does not serve alcohol\, but they allow for BYOB! \nWhen: Thursday\, April 23 \nWhere: Pickle Point Cypress (15623 Mueschke Road\, Houston\, TX 77433) \nTime: 7:00 p.m. \n  \nNo RSVP required\, but encouraged for planning; email Sterling at sterling.kelloggclarke@gmail.com 
URL:https://www.houstonags.org/event/cypress-aggie-happy-hour-pickleball-8/
LOCATION:Pickel Point Cypress\, 15623 Mueschke Rd\, Cypress\, TX\, 77433
CATEGORIES:HAMCEvents,Happy Hours
ATTACH;FMTTYPE=image/png:https://www.houstonags.org/wp-content/uploads/2026/04/Happy-Hours-old-1.png
ORGANIZER;CN="Sterling Kellogg-Clarke '18":MAILTO:sterling.kelloggclarke@gmail.com
END:VEVENT
END:VCALENDAR