BEGIN:VCALENDAR
VERSION:2.0
PRODID:-//Houston A&amp;M Club - ECPv6.15.20//NONSGML v1.0//EN
CALSCALE:GREGORIAN
METHOD:PUBLISH
X-WR-CALNAME:Houston A&amp;M Club
X-ORIGINAL-URL:https://www.houstonags.org
X-WR-CALDESC:Events for Houston A&amp;M Club
REFRESH-INTERVAL;VALUE=DURATION:PT1H
X-Robots-Tag:noindex
X-PUBLISHED-TTL:PT1H
BEGIN:VTIMEZONE
TZID:America/Chicago
BEGIN:DAYLIGHT
TZOFFSETFROM:-0600
TZOFFSETTO:-0500
TZNAME:CDT
DTSTART:20240310T080000
END:DAYLIGHT
BEGIN:STANDARD
TZOFFSETFROM:-0500
TZOFFSETTO:-0600
TZNAME:CST
DTSTART:20241103T070000
END:STANDARD
BEGIN:DAYLIGHT
TZOFFSETFROM:-0600
TZOFFSETTO:-0500
TZNAME:CDT
DTSTART:20250309T080000
END:DAYLIGHT
BEGIN:STANDARD
TZOFFSETFROM:-0500
TZOFFSETTO:-0600
TZNAME:CST
DTSTART:20251102T070000
END:STANDARD
BEGIN:DAYLIGHT
TZOFFSETFROM:-0600
TZOFFSETTO:-0500
TZNAME:CDT
DTSTART:20260308T080000
END:DAYLIGHT
BEGIN:STANDARD
TZOFFSETFROM:-0500
TZOFFSETTO:-0600
TZNAME:CST
DTSTART:20261101T070000
END:STANDARD
END:VTIMEZONE
BEGIN:VEVENT
DTSTART;TZID=America/Chicago:20250618T170000
DTEND;TZID=America/Chicago:20250618T210000
DTSTAMP:20260422T014229
CREATED:20250527T214606Z
LAST-MODIFIED:20250527T214606Z
UID:10001004-1750266000-1750280400@www.houstonags.org
SUMMARY:Aggie Business\, Beer & Bones
DESCRIPTION:Join fellow Aggie professionals for a fun\, relaxed evening of camaraderie\, cold beers & cocktails\, dominoes\, and other bar games. No agenda. No presentations. No cost\, other than your own tab. It’s a great way to expand your network and build valuable relationships. \nNEW LOCATION! We are pleased to announce this new partnership supporting a local Aggie-owned business! \nWhen: Wednesday\, June 18 \nWhere: Brass Tap Katy (7109 Katy Gaston Road\, Richmond. Near the Westpark Tollway & Grand Parkway) \nTime: 5:00 p.m. – 9:00 p.m. \nNo RSVP required\, but encouraged to reserve the proper amount of space; email jeffreina11@gmail.com. Click here to follow the Business\, Beer & Bones Facebook Page.
URL:https://www.houstonags.org/event/aggie-business-beer-bones-5/
LOCATION:Brass Tap Katy\, 7109 Katy Gaston Road\, Richmond\, TX\, 77406
CATEGORIES:HAMCEvents,Happy Hours
ATTACH;FMTTYPE=image/png:https://www.houstonags.org/wp-content/uploads/2025/05/Business-Beer-Bones_June-25.png
ORGANIZER;CN="Jeff Reina '93":MAILTO:jeffreina11@gmail.com
END:VEVENT
BEGIN:VEVENT
DTSTART;TZID=America/Chicago:20250619T180000
DTEND;TZID=America/Chicago:20250619T210000
DTSTAMP:20260422T014229
CREATED:20250611T034706Z
LAST-MODIFIED:20250611T034706Z
UID:10001006-1750356000-1750366800@www.houstonags.org
SUMMARY:June Aggie Happy Hour
DESCRIPTION:Kick off summer at our June Aggie Happy Hour! We are hosting with Houston Howdy Club at Moonshine Deck – Heights (1239 W. 19th St) on Thursday\, June 19 from 6 – 9 pm. \nCheers to drink specials and good times! We’ll see you there!
URL:https://www.houstonags.org/event/june-aggie-happy-hour/
LOCATION:Moonshine Deck\, 1239 W. 19th St\, Houston\, TX\, 77008\, United States
CATEGORIES:Happy Hours,Recurring Events
ATTACH;FMTTYPE=image/png:https://www.houstonags.org/wp-content/uploads/2025/06/Howdy-Club-June-HH-1500-x-500.jpg.png
END:VEVENT
BEGIN:VEVENT
DTSTART;VALUE=DATE:20250628
DTEND;VALUE=DATE:20250629
DTSTAMP:20260422T014229
CREATED:20250611T033435Z
LAST-MODIFIED:20250626T003811Z
UID:10001005-1751068800-1751155199@www.houstonags.org
SUMMARY:CANCELLED: Cypress & Hockley Pool Kickback
DESCRIPTION:CANCELLED! \nCheck back for next month’s Cypress Aggie event. \nClick here to follow the Cypress Aggies Facebook Page.
URL:https://www.houstonags.org/event/cypress-hockley-byob-pool-kickback/
LOCATION:TX
CATEGORIES:HAMCEvents,Happy Hours
ATTACH;FMTTYPE=image/png:https://www.houstonags.org/wp-content/uploads/2025/06/Cypress-Aggie-Pool-Kickback-6.28-Cancelled.png
ORGANIZER;CN="Sterling Kellogg-Clarke '18":MAILTO:sterling.kelloggclarke@gmail.com
END:VEVENT
END:VCALENDAR