BEGIN:VCALENDAR
VERSION:2.0
PRODID:-//Houston A&amp;M Club - ECPv6.15.20//NONSGML v1.0//EN
CALSCALE:GREGORIAN
METHOD:PUBLISH
X-ORIGINAL-URL:https://www.houstonags.org
X-WR-CALDESC:Events for Houston A&amp;M Club
REFRESH-INTERVAL;VALUE=DURATION:PT1H
X-Robots-Tag:noindex
X-PUBLISHED-TTL:PT1H
BEGIN:VTIMEZONE
TZID:America/Chicago
BEGIN:DAYLIGHT
TZOFFSETFROM:-0600
TZOFFSETTO:-0500
TZNAME:CDT
DTSTART:20170312T080000
END:DAYLIGHT
BEGIN:STANDARD
TZOFFSETFROM:-0500
TZOFFSETTO:-0600
TZNAME:CST
DTSTART:20171105T070000
END:STANDARD
BEGIN:DAYLIGHT
TZOFFSETFROM:-0600
TZOFFSETTO:-0500
TZNAME:CDT
DTSTART:20180311T080000
END:DAYLIGHT
BEGIN:STANDARD
TZOFFSETFROM:-0500
TZOFFSETTO:-0600
TZNAME:CST
DTSTART:20181104T070000
END:STANDARD
BEGIN:DAYLIGHT
TZOFFSETFROM:-0600
TZOFFSETTO:-0500
TZNAME:CDT
DTSTART:20190310T080000
END:DAYLIGHT
BEGIN:STANDARD
TZOFFSETFROM:-0500
TZOFFSETTO:-0600
TZNAME:CST
DTSTART:20191103T070000
END:STANDARD
END:VTIMEZONE
BEGIN:VEVENT
DTSTART;TZID=America/Chicago:20180802T063000
DTEND;TZID=America/Chicago:20180802T080000
DTSTAMP:20260424T111220
CREATED:20180329T190120Z
LAST-MODIFIED:20180701T193915Z
UID:10000391-1533191400-1533196800@www.houstonags.org
SUMMARY:Reveille Breakfast
DESCRIPTION:The Reveille Club of Houston meets every Thursday morning for breakfast and networking at 6:30AM at the Cafe Express in Uptown Park. \nNo reservations required. Only $15 for breakfast or $5 if just coffee and networking. \nGreat speakers every week! \nVisit Reveille.org for more information.
URL:https://www.houstonags.org/event/reveillebreakfast/2018-08-02/
LOCATION:The Reveille Club of Houston\, 4141 Southwest Freeway\, Suite 250\, Houston\, TX\, 77027
CATEGORIES:Breakfasts,Recurring Events
ATTACH;FMTTYPE=image/png:https://www.houstonags.org/wp-content/uploads/2018/04/Reveille-Breakfast-1500x500.png
ORGANIZER;CN="Reveille Club of Houston":MAILTO:HoustonReveilleClub@gmail.com
GEO:29.7283687;-95.4435877
X-APPLE-STRUCTURED-LOCATION;VALUE=URI;X-ADDRESS=The Reveille Club of Houston 4141 Southwest Freeway Suite 250 Houston TX 77027;X-APPLE-RADIUS=500;X-TITLE=4141 Southwest Freeway\, Suite 250:geo:-95.4435877,29.7283687
END:VEVENT
END:VCALENDAR