BEGIN:VCALENDAR
VERSION:2.0
PRODID:-//Houston A&amp;M Club - ECPv6.15.20//NONSGML v1.0//EN
CALSCALE:GREGORIAN
METHOD:PUBLISH
X-ORIGINAL-URL:https://www.houstonags.org
X-WR-CALDESC:Events for Houston A&amp;M Club
REFRESH-INTERVAL;VALUE=DURATION:PT1H
X-Robots-Tag:noindex
X-PUBLISHED-TTL:PT1H
BEGIN:VTIMEZONE
TZID:America/Chicago
BEGIN:DAYLIGHT
TZOFFSETFROM:-0600
TZOFFSETTO:-0500
TZNAME:CDT
DTSTART:20190310T080000
END:DAYLIGHT
BEGIN:STANDARD
TZOFFSETFROM:-0500
TZOFFSETTO:-0600
TZNAME:CST
DTSTART:20191103T070000
END:STANDARD
BEGIN:DAYLIGHT
TZOFFSETFROM:-0600
TZOFFSETTO:-0500
TZNAME:CDT
DTSTART:20200308T080000
END:DAYLIGHT
BEGIN:STANDARD
TZOFFSETFROM:-0500
TZOFFSETTO:-0600
TZNAME:CST
DTSTART:20201101T070000
END:STANDARD
BEGIN:DAYLIGHT
TZOFFSETFROM:-0600
TZOFFSETTO:-0500
TZNAME:CDT
DTSTART:20210314T080000
END:DAYLIGHT
BEGIN:STANDARD
TZOFFSETFROM:-0500
TZOFFSETTO:-0600
TZNAME:CST
DTSTART:20211107T070000
END:STANDARD
END:VTIMEZONE
BEGIN:VEVENT
DTSTART;TZID=America/Chicago:20201219T063000
DTEND;TZID=America/Chicago:20201219T153000
DTSTAMP:20260421T141029
CREATED:20201208T223721Z
LAST-MODIFIED:20201218T231516Z
UID:10000652-1608359400-1608391800@www.houstonags.org
SUMMARY:Special Food and Toy Distribution with the Food Bank & Houston Fire Dept.
DESCRIPTION:UPDATE: There are two volunteer shifts\, volunteers can choose to attend one or both. See times below. Also\, there is 100% chance of rain forecasted\, please dress accordingly\, volunteers will be working outside. Parking will now be in the PURPLE lot (across McNee from the Yellow lot) – follow the Volunteer Parking signs\, then look for the A&M tents after you park. \n1st Shift: 6:30-11:00 a.m.\n2nd Shift: 10:45 a.m.-3:15 p.m. \nThe Houston Food Bank and the Houston Fire Department are partnering together on Saturday\, December 19 for a special holiday distribution of food and toys and they need the Houston Aggie Volunteers to help out! \nVolunteers are needed from  6:30 a.m.-3:15 p.m. and will receive an orientation. \nVolunteer details: Volunteers must be 15 years or older and most volunteers will be expected to lift 25-30 pounds repetitively. If you are unable to load the food items\, there are many other volunteer roles as well\, so don’t hesitate to come out. Volunteers should wear (weather appropriate) A&M gear and bring a mask\, work gloves\, a hat\, sunscreen\, and small cutting knife. A snack and lunch are provided. Volunteers will receive a free HAMC volunteer t-shirt. \nAll CDC protocols will be followed\, including taking of temperatures.  \nParking Information: Traffic is expected to be very heavy. Avoid the big intersection at South Main and Loop 610S. Volunteer parking in the Yellow Lot is off of McNee Street\, there are signs indicating volunteer parking\, then walk to the small group of tents on the right. It is highly recommended that you approach the NRG complex from the North. \nIf you are interested in volunteering or have any questions\, please contact William Wade ’73 wvwade@airmail.net\n(832) 228-5430 or Jim Thorpe ’78 thorpejim@comcast.net (713) 249-4678 by 9:00 pm Friday\, December 18. \nWatch for additional information about volunteer opportunities at the primary warehouse of the Houston Food Bank for the balance of December.
URL:https://www.houstonags.org/event/food-bank-super-saturday/
LOCATION:NRG\, Houston\, TX
ATTACH;FMTTYPE=image/png:https://www.houstonags.org/wp-content/uploads/2020/12/2.png
ORGANIZER;CN="William Wade":MAILTO:wvwade@airmail.net
GEO:29.7604267;-95.3698028
END:VEVENT
END:VCALENDAR