BEGIN:VCALENDAR
VERSION:2.0
PRODID:-//Houston A&amp;M Club - ECPv6.15.20//NONSGML v1.0//EN
CALSCALE:GREGORIAN
METHOD:PUBLISH
X-ORIGINAL-URL:https://www.houstonags.org
X-WR-CALDESC:Events for Houston A&amp;M Club
REFRESH-INTERVAL;VALUE=DURATION:PT1H
X-Robots-Tag:noindex
X-PUBLISHED-TTL:PT1H
BEGIN:VTIMEZONE
TZID:America/Chicago
BEGIN:DAYLIGHT
TZOFFSETFROM:-0600
TZOFFSETTO:-0500
TZNAME:CDT
DTSTART:20190310T080000
END:DAYLIGHT
BEGIN:STANDARD
TZOFFSETFROM:-0500
TZOFFSETTO:-0600
TZNAME:CST
DTSTART:20191103T070000
END:STANDARD
BEGIN:DAYLIGHT
TZOFFSETFROM:-0600
TZOFFSETTO:-0500
TZNAME:CDT
DTSTART:20200308T080000
END:DAYLIGHT
BEGIN:STANDARD
TZOFFSETFROM:-0500
TZOFFSETTO:-0600
TZNAME:CST
DTSTART:20201101T070000
END:STANDARD
BEGIN:DAYLIGHT
TZOFFSETFROM:-0600
TZOFFSETTO:-0500
TZNAME:CDT
DTSTART:20210314T080000
END:DAYLIGHT
BEGIN:STANDARD
TZOFFSETFROM:-0500
TZOFFSETTO:-0600
TZNAME:CST
DTSTART:20211107T070000
END:STANDARD
END:VTIMEZONE
BEGIN:VEVENT
DTSTART;TZID=America/Chicago:20201214T113000
DTEND;TZID=America/Chicago:20201214T130000
DTSTAMP:20260421T141023
CREATED:20200325T205114Z
LAST-MODIFIED:20201208T195902Z
UID:10000627-1607945400-1607950800@www.houstonags.org
SUMMARY:Traditions Lunch – HAMC Annual Meeting
DESCRIPTION:Traditions Lunch – HAMC Annual Meeting & Outstanding Houston Aggie 2020 \nSponsored by Brent Vannoy ’88\, Partner\, Hughes Watters Askanase \n \nDate: 2nd Monday\, December 14th\, 2020 \nTime: 11:30 Networking\, Lunch from Noon to 1 p.m. \nWhere: Grotto\, 4715 Westheimer Rd\, Houston\, TX 77027 \nCost: $25 covers both lunch and dessert \nParking: valet or complimentary \n  \nTraditions Lunch – HAMC Annual Meeting & Outstanding Houston Aggie 2020 \nJoin us for a special Traditions Lunch honoring our 2020 Outstanding Houston Aggie. We also will celebrate our Volunteers of the Year and host our HAMC annual meeting. \nGrotto is following all health and safety guidelines set by the state and the health department to ensure your safety. \nWe ask that all our guests: \nTake your temperature and if 99.5 degrees and above\, please stay home\nIf you or any member of your household shows signs of illness of any kind\, please choose to stay home\nWear a mask when not seated and maintain a safe social distance from other guests at the event\nNEW POLICY: To ensure your safety and meet restaurant capacity requirements\, online RESERVATIONS are REQUIRED by Friday\, December 11 at noon. \nThis is an in-person activity. Every attendee must evaluate their unique circumstances and make an informed decision before attending in-person activities. The Houston A&M Club recommends that no one in the higher-risk category take part in-person. Anyone who feels sick must Stay Home. If you become sick or develop symptoms\, isolate yourself then go home and seek care. The Houston A&M Club cannot make any guarantees of safety and you are attending at your own risk.
URL:https://www.houstonags.org/event/traditions-lunch-2020-12-14/
LOCATION:Grotto Ristorante\, 4715 Westheimer Rd\, Houston\, TX\, 77027
CATEGORIES:HAMCEvents,Lunches
ATTACH;FMTTYPE=image/png:https://www.houstonags.org/wp-content/uploads/2019/11/Traditions-Lunch-2020-7.png
ORGANIZER;CN="Nick Baker '14":MAILTO:nicholas.baker@imgfinancialgroup.com
GEO:29.74046;-95.4567314
X-APPLE-STRUCTURED-LOCATION;VALUE=URI;X-ADDRESS=Grotto Ristorante 4715 Westheimer Rd Houston TX 77027;X-APPLE-RADIUS=500;X-TITLE=4715 Westheimer Rd:geo:-95.4567314,29.74046
END:VEVENT
END:VCALENDAR