BEGIN:VCALENDAR
VERSION:2.0
PRODID:-//Houston A&amp;M Club - ECPv6.15.20//NONSGML v1.0//EN
CALSCALE:GREGORIAN
METHOD:PUBLISH
X-ORIGINAL-URL:https://www.houstonags.org
X-WR-CALDESC:Events for Houston A&amp;M Club
REFRESH-INTERVAL;VALUE=DURATION:PT1H
X-Robots-Tag:noindex
X-PUBLISHED-TTL:PT1H
BEGIN:VTIMEZONE
TZID:America/Chicago
BEGIN:DAYLIGHT
TZOFFSETFROM:-0600
TZOFFSETTO:-0500
TZNAME:CDT
DTSTART:20180311T080000
END:DAYLIGHT
BEGIN:STANDARD
TZOFFSETFROM:-0500
TZOFFSETTO:-0600
TZNAME:CST
DTSTART:20181104T070000
END:STANDARD
BEGIN:DAYLIGHT
TZOFFSETFROM:-0600
TZOFFSETTO:-0500
TZNAME:CDT
DTSTART:20190310T080000
END:DAYLIGHT
BEGIN:STANDARD
TZOFFSETFROM:-0500
TZOFFSETTO:-0600
TZNAME:CST
DTSTART:20191103T070000
END:STANDARD
BEGIN:DAYLIGHT
TZOFFSETFROM:-0600
TZOFFSETTO:-0500
TZNAME:CDT
DTSTART:20200308T080000
END:DAYLIGHT
BEGIN:STANDARD
TZOFFSETFROM:-0500
TZOFFSETTO:-0600
TZNAME:CST
DTSTART:20201101T070000
END:STANDARD
END:VTIMEZONE
BEGIN:VEVENT
DTSTART;TZID=America/Chicago:20190110T170000
DTEND;TZID=America/Chicago:20190110T190000
DTSTAMP:20260423T191206
CREATED:20181222T144824Z
LAST-MODIFIED:20181222T144824Z
UID:10000481-1547139600-1547146800@www.houstonags.org
SUMMARY:Woodlands Happy Hour 2019
DESCRIPTION:Woodlands Happy Hour: \nWhen: 2nd Thursday \nTime: 5-7 p.m. (come & go) \nWhere: The Refuge\, 24 Waterway Avenue\, The Woodlands \nAggie-owned: Mark Zientek ’93 & Matt Kowalski ’92 \nCost: happy hour specials
URL:https://www.houstonags.org/event/woodlands-happy-hour-2019/
LOCATION:The Refuge\, 24 Waterway Avenue\, The Woodlands\, TX\, 77380
CATEGORIES:Happy Hours,Recurring Events
ATTACH;FMTTYPE=image/png:https://www.houstonags.org/wp-content/uploads/2018/04/WoodlandsHappyHour-1500x500.png
ORGANIZER;CN="Reveille North Houston":MAILTO:phillip@seethebeacon.com
GEO:30.1608342;-95.4585322
X-APPLE-STRUCTURED-LOCATION;VALUE=URI;X-ADDRESS=The Refuge 24 Waterway Avenue The Woodlands TX 77380;X-APPLE-RADIUS=500;X-TITLE=24 Waterway Avenue:geo:-95.4585322,30.1608342
END:VEVENT
END:VCALENDAR