BEGIN:VCALENDAR
VERSION:2.0
PRODID:-//Houston A&amp;M Club - ECPv6.15.20//NONSGML v1.0//EN
CALSCALE:GREGORIAN
METHOD:PUBLISH
X-ORIGINAL-URL:https://www.houstonags.org
X-WR-CALDESC:Events for Houston A&amp;M Club
REFRESH-INTERVAL;VALUE=DURATION:PT1H
X-Robots-Tag:noindex
X-PUBLISHED-TTL:PT1H
BEGIN:VTIMEZONE
TZID:America/Chicago
BEGIN:DAYLIGHT
TZOFFSETFROM:-0600
TZOFFSETTO:-0500
TZNAME:CDT
DTSTART:20170312T080000
END:DAYLIGHT
BEGIN:STANDARD
TZOFFSETFROM:-0500
TZOFFSETTO:-0600
TZNAME:CST
DTSTART:20171105T070000
END:STANDARD
BEGIN:DAYLIGHT
TZOFFSETFROM:-0600
TZOFFSETTO:-0500
TZNAME:CDT
DTSTART:20180311T080000
END:DAYLIGHT
BEGIN:STANDARD
TZOFFSETFROM:-0500
TZOFFSETTO:-0600
TZNAME:CST
DTSTART:20181104T070000
END:STANDARD
BEGIN:DAYLIGHT
TZOFFSETFROM:-0600
TZOFFSETTO:-0500
TZNAME:CDT
DTSTART:20190310T080000
END:DAYLIGHT
BEGIN:STANDARD
TZOFFSETFROM:-0500
TZOFFSETTO:-0600
TZNAME:CST
DTSTART:20191103T070000
END:STANDARD
END:VTIMEZONE
BEGIN:VEVENT
DTSTART;TZID=America/Chicago:20181208T080000
DTEND;TZID=America/Chicago:20181208T120000
DTSTAMP:20260424T114754
CREATED:20180830T143519Z
LAST-MODIFIED:20180830T143519Z
UID:10000462-1544256000-1544270400@www.houstonags.org
SUMMARY:"Reindeer Convention" at the Food Bank
DESCRIPTION:NEW AGE REQUIREMENTS at the Warehouse\, 6 years old chaperoned\, 15 years old unchaperoned. \nRemember this is the perfect time for those family outings and our Ags that can not make it on weeknights. And this works towards those community service hours needed for high school and college transcripts. \nThis is open to all Aggie families (with children over 6 years old) and individuals (with friends\, family\, coworkers and that lonely teasip you know). \nSince it is a warehouse environment\, everyone must wear closed-toe shoes (no sling-backs)\, long shorts (to the knee) or pants\, and no low cut tops (OSHA regulations). If you would like to sign up or have questions\, please contact Jim Thorpe ’78 at thorpejim@comcast.net. For more information on the organization\, please visit www.houstonfoodbank.org. \nDirections to new location: Take I-10 east\, (beware of the morning rising sun) exit 774\, Gellhorn Dr (after McCarty St\, before 610 East Loop). U-turn to feeder road heading west. First right on Portwall St (green Houston Food Bank sign). \nEvery adult in the group must register in their system before volunteering. Please email Jim Thorpe for registration link. \nMinors (6 to 15 years old) will need a minor waiver form. These can be filled out at the front desk or contact Jim Thorpe to have one emailed to you
URL:https://www.houstonags.org/event/reindeerconvention2018/
LOCATION:Houston Food Bank\, 535 Portwall St\, Houston\, TX\, 77029\, United States
ATTACH;FMTTYPE=image/png:https://www.houstonags.org/wp-content/uploads/2018/03/Food-Bank-Reindeer-Convention1500x500.png
ORGANIZER;CN="Jim Thorpe '78":MAILTO:thorpejim@comcast.net
GEO:29.7811076;-95.2748108
X-APPLE-STRUCTURED-LOCATION;VALUE=URI;X-ADDRESS=Houston Food Bank 535 Portwall St Houston TX 77029 United States;X-APPLE-RADIUS=500;X-TITLE=535 Portwall St:geo:-95.2748108,29.7811076
END:VEVENT
BEGIN:VEVENT
DTSTART;TZID=America/Chicago:20181208T090000
DTEND;TZID=America/Chicago:20181208T110000
DTSTAMP:20260424T114754
CREATED:20181204T051401Z
LAST-MODIFIED:20181205T030310Z
UID:10000464-1544259600-1544266800@www.houstonags.org
SUMMARY:Breakfast with Santa
DESCRIPTION:  \nEvent is free. Breakfast available to order. \nBring your own camera for a photo with Santa.
URL:https://www.houstonags.org/event/breakfast-with-santa/
LOCATION:Backyard Grill\, 9453 Jones Rd\, Houston\, TX\, 77065\, United States
ATTACH;FMTTYPE=image/png:https://www.houstonags.org/wp-content/uploads/2018/12/Breakfast-with-Santa-2018.png
GEO:29.9092631;-95.5859492
X-APPLE-STRUCTURED-LOCATION;VALUE=URI;X-ADDRESS=Backyard Grill 9453 Jones Rd Houston TX 77065 United States;X-APPLE-RADIUS=500;X-TITLE=9453 Jones Rd:geo:-95.5859492,29.9092631
END:VEVENT
END:VCALENDAR